Calendar-Saka v1.39 Perl 5 v5.18.2 i686-linux

Status
Pass
From
Nigel Horne
Dist
Calendar-Saka v1.39
Platform
Perl 5 v5.18.2 i686-linux
Date
2019-05-09 15:06:38
ID
0b97089a-726c-11e9-bf31-80c71e9d5857
This distribution has been tested as part of the CPAN Testers
project, supporting the Perl programming language.  See
http://wiki.cpantesters.org/ for more information or email
questions to cpan-testers-discuss@perl.org


--
Dear Mohammad S Anwar,

This is a computer-generated report for Calendar-Saka-1.39
on perl 5.18.2, created by CPAN-Reporter-1.2018.

Thank you for uploading your work to CPAN.  Congratulations!
All tests were successful.

Sections of this report:

    * Tester comments
    * Program output
    * Prerequisites
    * Environment and other context

------------------------------
TESTER COMMENTS
------------------------------

Additional comments from tester:

this report is from an automated smoke testing program
and was not reviewed by a human for accuracy

------------------------------
PROGRAM OUTPUT
------------------------------

Output from '/usr/bin/make test':

PERL_DL_NONLAZY=1 "/home/njh/perl5/perlbrew/perls/perl-5.18.2/bin/perl" "-MExtUtils::Command::MM" "-MTest::Harness" "-e" "undef *Test::Harness::Switches; test_harness(0, 'blib/lib', 'blib/arch')" t/*.t
# Testing Calendar::Saka 1.39, Perl 5.018002, /home/njh/perl5/perlbrew/perls/perl-5.18.2/bin/perl
t/00-load.t ........ ok
t/manifest.t ....... ok
t/calendar-saka.t .. ok
t/meta-json.t ...... skipped: Test::CPAN::Meta::JSON required for testing MYMETA.json
t/meta-yml.t ....... ok
t/pod.t ............ ok
All tests successful.
Files=6, Tests=13,  1 wallclock secs ( 0.02 usr  0.02 sys +  1.38 cusr  0.16 csys =  1.58 CPU)
Result: PASS

------------------------------
PREREQUISITES
------------------------------

Prerequisite modules loaded:

requires:

    Module                     Need     Have    
    -------------------------- -------- --------
    Calendar::Plugin::Renderer 0.15     0.15    
    Date::Saka::Simple         0.22     0.22    
    Moo                        2.000000 2.003004
    namespace::autoclean       0.28     0.28    
    perl                       5.006    5.018002

build_requires:

    Module                     Need     Have    
    -------------------------- -------- --------
    File::Temp                 0        0.2309  
    Test::More                 0        1.302164
    XML::SemanticDiff          0        1.0007  

configure_requires:

    Module                     Need     Have    
    -------------------------- -------- --------
    ExtUtils::MakeMaker        0        7.36    


------------------------------
ENVIRONMENT AND OTHER CONTEXT
------------------------------

Environment variables:

    AUTOMATED_TESTING = 1
    HARNESS_OPTIONS = j2
    LANG = en_US.UTF-8
    PATH = /home/njh/perl5/perlbrew/bin:/home/njh/perl5/perlbrew/perls/perl-5.18.2/bin:/home/njh/src/njh/smoker/bin:/usr/bin:/bin
    PERL5LIB = /home/njh/.cpan/build/Date-Saka-Simple-0.22-1/blib/arch:/home/njh/.cpan/build/Date-Saka-Simple-0.22-1/blib/lib:/home/njh/.cpan/build/Date-Utils-0.25-1/blib/arch:/home/njh/.cpan/build/Date-Utils-0.25-1/blib/lib:/home/njh/.cpan/build/Date-Exception-0.07-1/blib/arch:/home/njh/.cpan/build/Date-Exception-0.07-1/blib/lib:/home/njh/.cpan/build/Throwable-0.200013-1/blib/arch:/home/njh/.cpan/build/Throwable-0.200013-1/blib/lib:/home/njh/.cpan/build/Calendar-Plugin-Renderer-0.15-3/blib/arch:/home/njh/.cpan/build/Calendar-Plugin-Renderer-0.15-3/blib/lib:/home/njh/.cpan/build/XML-SemanticDiff-1.0007-3/blib/arch:/home/njh/.cpan/build/XML-SemanticDiff-1.0007-3/blib/lib:/home/njh/.cpan/build/Term-ANSIColor-Markup-0.06-3/blib/arch:/home/njh/.cpan/build/Term-ANSIColor-Markup-0.06-3/blib/lib:/home/njh/.cpan/build/Class-Accessor-Lvalue-0.11-3/blib/arch:/home/njh/.cpan/build/Class-Accessor-Lvalue-0.11-3/blib/lib:/home/njh/.cpan/build/Want-0.29-3/blib/arch:/home/njh/.cpan/build/Want-0.29-3/blib/lib
    PERL5OPT = 
    PERL5_CPANPLUS_IS_RUNNING = 25638
    PERL5_CPAN_IS_RUNNING = 25638
    PERLBREW_HOME = /home/njh/.perlbrew
    PERLBREW_MANPATH = /home/njh/perl5/perlbrew/perls/perl-5.18.2/man
    PERLBREW_PATH = /home/njh/perl5/perlbrew/bin:/home/njh/perl5/perlbrew/perls/perl-5.18.2/bin
    PERLBREW_PERL = perl-5.18.2
    PERLBREW_ROOT = /home/njh/perl5/perlbrew
    PERLBREW_SHELLRC_VERSION = 0.84
    PERLBREW_VERSION = 0.84
    PERL_USE_UNSAFE_INC = 1
    SHELL = /bin/sh
    TEMP = /tmp/user/1000
    TMPDIR = /tmp/user/1000/testwrapper.25625

Perl special variables (and OS-specific diagnostics, for MSWin32):

    $^X = /home/njh/perl5/perlbrew/perls/perl-5.18.2/bin/perl
    $UID/$EUID = 1000 / 1000
    $GID = 1000 4 24 25 29 30 44 46 108 1000
    $EGID = 1000 4 24 25 29 30 44 46 108 1000

Perl module toolchain versions installed:

    Module              Have    
    ------------------- --------
    CPAN                2.26    
    CPAN::Meta          2.150010
    Cwd                 3.75    
    ExtUtils::CBuilder  0.280231
    ExtUtils::Command   7.36    
    ExtUtils::Install   2.06    
    ExtUtils::MakeMaker 7.36    
    ExtUtils::Manifest  1.70    
    ExtUtils::ParseXS   3.18    
    File::Spec          3.75    
    JSON                2.97001 
    JSON::PP            2.97001 
    Module::Build       0.4229  
    Module::Signature   n/a     
    Parse::CPAN::Meta   2.150010
    Test::Harness       3.42    
    Test::More          1.302164
    YAML                1.28    
    YAML::Syck          1.31    
    version             0.9902  


--

Summary of my perl5 (revision 5 version 18 subversion 2) configuration:
   
  Platform:
    osname=linux, osvers=4.3.0-1-686-pae, archname=i686-linux
    uname='linux zack 4.3.0-1-686-pae #1 smp debian 4.3.5-1 (2016-02-06) i686 gnulinux '
    config_args='-de -Dprefix=/home/njh/perl5/perlbrew/perls/perl-5.18.2 -Aeval:scriptdir=/home/njh/perl5/perlbrew/perls/perl-5.18.2/bin'
    hint=recommended, useposix=true, d_sigaction=define
    useithreads=undef, usemultiplicity=undef
    useperlio=define, d_sfio=undef, uselargefiles=define, usesocks=undef
    use64bitint=undef, use64bitall=undef, uselongdouble=undef
    usemymalloc=n, bincompat5005=undef
  Compiler:
    cc='cc', ccflags ='-fno-strict-aliasing -pipe -fstack-protector -I/usr/local/include -D_LARGEFILE_SOURCE -D_FILE_OFFSET_BITS=64',
    optimize='-O2',
    cppflags='-fno-strict-aliasing -pipe -fstack-protector -I/usr/local/include'
    ccversion='', gccversion='7.2.0', gccosandvers=''
    intsize=4, longsize=4, ptrsize=4, doublesize=8, byteorder=1234
    d_longlong=define, longlongsize=8, d_longdbl=define, longdblsize=12
    ivtype='long', ivsize=4, nvtype='double', nvsize=8, Off_t='off_t', lseeksize=8
    alignbytes=4, prototype=define
  Linker and Libraries:
    ld='cc', ldflags =' -fstack-protector -L/usr/local/lib'
    libpth=/usr/local/lib /lib/i386-linux-gnu /lib/../lib /usr/lib/i386-linux-gnu /usr/lib/../lib /lib /usr/lib /lib64 /usr/lib64
    libs=-lnsl -lgdbm -ldb -ldl -lm -lcrypt -lutil -lc -lgdbm_compat
    perllibs=-lnsl -ldl -lm -lcrypt -lutil -lc
    libc=libc-2.26.so, so=so, useshrplib=false, libperl=libperl.a
    gnulibc_version='2.26'
  Dynamic Linking:
    dlsrc=dl_dlopen.xs, dlext=so, d_dlsymun=undef, ccdlflags='-Wl,-E'
    cccdlflags='-fPIC', lddlflags='-shared -O2 -L/usr/local/lib -fstack-protector'


Characteristics of this binary (from libperl): 
  Compile-time options: HAS_TIMES PERLIO_LAYERS PERL_DONT_CREATE_GVSV
                        PERL_HASH_FUNC_ONE_AT_A_TIME_HARD PERL_MALLOC_WRAP
                        PERL_PRESERVE_IVUV PERL_SAWAMPERSAND USE_LARGE_FILES
                        USE_LOCALE USE_LOCALE_COLLATE USE_LOCALE_CTYPE
                        USE_LOCALE_NUMERIC USE_PERLIO USE_PERL_ATOF
  Locally applied patches:
	Devel::PatchPerl 1.38
  Built under linux
  Compiled at Jan 26 2018 00:33:20
  %ENV:
    PERL5LIB="/home/njh/.cpan/build/Date-Saka-Simple-0.22-1/blib/arch:/home/njh/.cpan/build/Date-Saka-Simple-0.22-1/blib/lib:/home/njh/.cpan/build/Date-Utils-0.25-1/blib/arch:/home/njh/.cpan/build/Date-Utils-0.25-1/blib/lib:/home/njh/.cpan/build/Date-Exception-0.07-1/blib/arch:/home/njh/.cpan/build/Date-Exception-0.07-1/blib/lib:/home/njh/.cpan/build/Throwable-0.200013-1/blib/arch:/home/njh/.cpan/build/Throwable-0.200013-1/blib/lib:/home/njh/.cpan/build/Calendar-Plugin-Renderer-0.15-3/blib/arch:/home/njh/.cpan/build/Calendar-Plugin-Renderer-0.15-3/blib/lib:/home/njh/.cpan/build/XML-SemanticDiff-1.0007-3/blib/arch:/home/njh/.cpan/build/XML-SemanticDiff-1.0007-3/blib/lib:/home/njh/.cpan/build/Term-ANSIColor-Markup-0.06-3/blib/arch:/home/njh/.cpan/build/Term-ANSIColor-Markup-0.06-3/blib/lib:/home/njh/.cpan/build/Class-Accessor-Lvalue-0.11-3/blib/arch:/home/njh/.cpan/build/Class-Accessor-Lvalue-0.11-3/blib/lib:/home/njh/.cpan/build/Want-0.29-3/blib/arch:/home/njh/.cpan/build/Want-0.29-3/blib/lib"
    PERL5OPT=""
    PERL5_CPANPLUS_IS_RUNNING="25638"
    PERL5_CPAN_IS_RUNNING="25638"
    PERLBREW_HOME="/home/njh/.perlbrew"
    PERLBREW_MANPATH="/home/njh/perl5/perlbrew/perls/perl-5.18.2/man"
    PERLBREW_PATH="/home/njh/perl5/perlbrew/bin:/home/njh/perl5/perlbrew/perls/perl-5.18.2/bin"
    PERLBREW_PERL="perl-5.18.2"
    PERLBREW_ROOT="/home/njh/perl5/perlbrew"
    PERLBREW_SHELLRC_VERSION="0.84"
    PERLBREW_VERSION="0.84"
    PERL_USE_UNSAFE_INC="1"
  @INC:
    /home/njh/.cpan/build/Date-Saka-Simple-0.22-1/blib/arch
    /home/njh/.cpan/build/Date-Saka-Simple-0.22-1/blib/lib
    /home/njh/.cpan/build/Date-Utils-0.25-1/blib/arch
    /home/njh/.cpan/build/Date-Utils-0.25-1/blib/lib
    /home/njh/.cpan/build/Date-Exception-0.07-1/blib/arch
    /home/njh/.cpan/build/Date-Exception-0.07-1/blib/lib
    /home/njh/.cpan/build/Throwable-0.200013-1/blib/arch
    /home/njh/.cpan/build/Throwable-0.200013-1/blib/lib
    /home/njh/.cpan/build/Calendar-Plugin-Renderer-0.15-3/blib/arch
    /home/njh/.cpan/build/Calendar-Plugin-Renderer-0.15-3/blib/lib
    /home/njh/.cpan/build/XML-SemanticDiff-1.0007-3/blib/arch
    /home/njh/.cpan/build/XML-SemanticDiff-1.0007-3/blib/lib
    /home/njh/.cpan/build/Term-ANSIColor-Markup-0.06-3/blib/arch
    /home/njh/.cpan/build/Term-ANSIColor-Markup-0.06-3/blib/lib
    /home/njh/.cpan/build/Class-Accessor-Lvalue-0.11-3/blib/arch
    /home/njh/.cpan/build/Class-Accessor-Lvalue-0.11-3/blib/lib
    /home/njh/.cpan/build/Want-0.29-3/blib/arch
    /home/njh/.cpan/build/Want-0.29-3/blib/lib
    /home/njh/perl5/perlbrew/perls/perl-5.18.2/lib/site_perl/5.18.2/i686-linux
    /home/njh/perl5/perlbrew/perls/perl-5.18.2/lib/site_perl/5.18.2
    /home/njh/perl5/perlbrew/perls/perl-5.18.2/lib/5.18.2/i686-linux
    /home/njh/perl5/perlbrew/perls/perl-5.18.2/lib/5.18.2
    .