Map-Tube-KualaLumpur v0.06 Perl 5 v5.12.3 x86_64-linux

Status
Pass
From
Slaven Rezić
Dist
Map-Tube-KualaLumpur v0.06
Platform
Perl 5 v5.12.3 x86_64-linux
Date
2024-10-01 07:01:55
ID
0b36e838-7fc3-11ef-983f-38406e8775ea
This distribution has been tested as part of the CPAN Testers
project, supporting the Perl programming language.  See
http://wiki.cpantesters.org/ for more information or email
questions to cpan-testers-discuss@perl.org


--
Dear Michal Josef Spacek,

This is a computer-generated report for Map-Tube-KualaLumpur-0.06
on perl 5.12.3, created by CPAN-Reporter-1.2019.

Thank you for uploading your work to CPAN.  Congratulations!
All tests were successful.

Sections of this report:

    * Tester comments
    * Program output
    * Prerequisites
    * Environment and other context

------------------------------
TESTER COMMENTS
------------------------------

Additional comments from tester:

none provided

------------------------------
PROGRAM OUTPUT
------------------------------

Output from '/usr/bin/make test':

PERL_DL_NONLAZY=1 "/opt/perl-5.12.3/bin/perl" "-MExtUtils::Command::MM" "-MTest::Harness" "-e" "undef *Test::Harness::Switches; test_harness(0, 'inc', 'blib/lib', 'blib/arch')" t/Map-Tube-KualaLumpur/*.t
t/Map-Tube-KualaLumpur/01-use.t ................. ok
t/Map-Tube-KualaLumpur/02-version.t ............. ok
t/Map-Tube-KualaLumpur/03-map.t ................. ok
t/Map-Tube-KualaLumpur/04-get_node_by_id.t ...... ok
t/Map-Tube-KualaLumpur/05-get_node_by_name.t .... ok
t/Map-Tube-KualaLumpur/06-get_shortest_route.t .. ok
t/Map-Tube-KualaLumpur/07-name.t ................ ok
t/Map-Tube-KualaLumpur/08-xml.t ................. ok
All tests successful.
Files=8, Tests=25,  3 wallclock secs ( 0.02 usr  0.01 sys +  1.44 cusr  0.35 csys =  1.82 CPU)
Result: PASS

------------------------------
PREREQUISITES
------------------------------

Prerequisite modules loaded:

requires:

    Module              Need Have    
    ------------------- ---- --------
    File::Share         0    0.27    
    Map::Tube           3.62 3.77    
    Moo                 0    2.005005
    namespace::clean    0    0.27    

build_requires:

    Module              Need Have    
    ------------------- ---- --------
    English             0    1.04    
    ExtUtils::MakeMaker 6.36 7.70    
    Test::Map::Tube     0.35 3.77    
    Test::More          0    1.302203
    Test::NoWarnings    0    1.06    

configure_requires:

    Module              Need Have    
    ------------------- ---- --------
    ExtUtils::MakeMaker 6.36 7.70    


------------------------------
ENVIRONMENT AND OTHER CONTEXT
------------------------------

Environment variables:

    LANG = en_US.UTF-8
    PATH = /usr/local/bin:/usr/bin:/bin:/usr/local/sbin:/usr/sbin:/sbin:/home/cpansand/bin/linux-gnu:/home/cpansand/bin/sh:/home/cpansand/bin:/usr/games:/home/cpansand/devel:/home/eserte/src/srezic-misc/scripts
    PERL5LIB = /home/cpansand/.cpan/build/2024100106/Map-Tube-3.77-17/blib/arch:/home/cpansand/.cpan/build/2024100106/Map-Tube-3.77-17/blib/lib:/home/cpansand/.cpan/build/2024100106/Map-Tube-Plugin-Formatter-0.17-5/blib/arch:/home/cpansand/.cpan/build/2024100106/Map-Tube-Plugin-Formatter-0.17-5/blib/lib:/home/cpansand/.cpan/build/2024100106/XML-Twig-3.52-5/blib/arch:/home/cpansand/.cpan/build/2024100106/XML-Twig-3.52-5/blib/lib
    PERL5OPT = 
    PERL5_CPANPLUS_IS_RUNNING = 2034435
    PERL5_CPAN_IS_RUNNING = 2034435
    PERL5_CPAN_IS_RUNNING_IN_RECURSION = 2034371,2034435
    PERLDOC = -MPod::Perldoc::ToTextOverstrike
    PERL_BATCH = yes
    PERL_CANARY_STABILITY_NOPROMPT = 1
    PERL_CPAN_REPORTER_CONFIG = /var/tmp/cpansmoker-1023/2024100106/cpanreporter_001_config.ini
    PERL_EXTUTILS_AUTOINSTALL = --defaultdeps
    PERL_USE_UNSAFE_INC = 1
    SHELL = /usr/bin/zsh
    TERM = screen
    TMPDIR = /var/tmp/cpansmoker-1023/2024100106

Perl special variables (and OS-specific diagnostics, for MSWin32):

    $^X = /opt/perl-5.12.3/bin/perl
    $UID/$EUID = 1023 / 1023
    $GID = 1023 1023
    $EGID = 1023 1023

Perl module toolchain versions installed:

    Module              Have    
    ------------------- --------
    CPAN                2.37    
    CPAN::Meta          2.150010
    Cwd                 3.75    
    ExtUtils::CBuilder  0.280236
    ExtUtils::Command   7.70    
    ExtUtils::Install   2.06    
    ExtUtils::MakeMaker 7.70    
    ExtUtils::Manifest  1.70    
    ExtUtils::ParseXS   3.51    
    File::Spec          3.75    
    JSON                4.10    
    JSON::PP            4.16    
    Module::Build       0.4234  
    Module::Signature   n/a     
    Parse::CPAN::Meta   2.150010
    Test2               1.302203
    Test::Harness       3.48    
    Test::More          1.302203
    YAML                1.31    
    YAML::Syck          1.34    
    version             0.9932  


--

Summary of my perl5 (revision 5 version 12 subversion 3) configuration:
   
  Platform:
    osname=linux, osvers=5.14.0-427.24.1.el9_4.x86_64, archname=x86_64-linux
    uname='linux rockylinux9-2gb-ash-1-cloud3.cloud 5.14.0-427.24.1.el9_4.x86_64 #1 smp preempt_dynamic mon jul 8 17:47:19 utc 2024 x86_64 x86_64 x86_64 gnulinux '
    config_args='-ds -e -Dprefix=/opt/perl-5.12.3 -Uinstallusrbinperl -Dcf_email=srezic@cpan.org'
    hint=recommended, useposix=true, d_sigaction=define
    useithreads=undef, usemultiplicity=undef
    useperlio=define, d_sfio=undef, uselargefiles=define, usesocks=undef
    use64bitint=define, use64bitall=define, uselongdouble=undef
    usemymalloc=n, bincompat5005=undef
  Compiler:
    cc='cc', ccflags ='-fwrapv -fno-strict-aliasing -pipe -fstack-protector -I/usr/local/include -D_LARGEFILE_SOURCE -D_FILE_OFFSET_BITS=64',
    optimize='-O2',
    cppflags='-fwrapv -fno-strict-aliasing -pipe -fstack-protector -I/usr/local/include'
    ccversion='', gccversion='11.4.1 20231218 (Red Hat 11.4.1-3)', gccosandvers=''
    intsize=4, longsize=8, ptrsize=8, doublesize=8, byteorder=12345678
    d_longlong=define, longlongsize=8, d_longdbl=define, longdblsize=16
    ivtype='long', ivsize=8, nvtype='double', nvsize=8, Off_t='off_t', lseeksize=8
    alignbytes=8, prototype=define
  Linker and Libraries:
    ld='cc', ldflags =' -fstack-protector -L/usr/local/lib'
    libpth=/usr/local/lib /lib/../lib64 /usr/lib/../lib64 /lib /usr/lib /lib64 /usr/lib64 /usr/local/lib64
    libs=-ldb -ldl -lm -lcrypt -lutil -lc
    perllibs=-ldl -lm -lcrypt -lutil -lc
    libc=/lib/../lib64/libc.so.6, so=so, useshrplib=false, libperl=libperl.a
    gnulibc_version='2.34'
  Dynamic Linking:
    dlsrc=dl_dlopen.xs, dlext=so, d_dlsymun=undef, ccdlflags='-Wl,-E'
    cccdlflags='-fPIC', lddlflags='-shared -O2 -L/usr/local/lib -fstack-protector'


Characteristics of this binary (from libperl): 
  Compile-time options: PERL_DONT_CREATE_GVSV PERL_MALLOC_WRAP USE_64_BIT_ALL
                        USE_64_BIT_INT USE_LARGE_FILES USE_PERLIO
                        USE_PERL_ATOF
  Locally applied patches:
	Devel::PatchPerl 2.08
  Built under linux
  Compiled at Jul 14 2024 07:50:46
  %ENV:
    PERL5LIB="/home/cpansand/.cpan/build/2024100106/Map-Tube-3.77-17/blib/arch:/home/cpansand/.cpan/build/2024100106/Map-Tube-3.77-17/blib/lib:/home/cpansand/.cpan/build/2024100106/Map-Tube-Plugin-Formatter-0.17-5/blib/arch:/home/cpansand/.cpan/build/2024100106/Map-Tube-Plugin-Formatter-0.17-5/blib/lib:/home/cpansand/.cpan/build/2024100106/XML-Twig-3.52-5/blib/arch:/home/cpansand/.cpan/build/2024100106/XML-Twig-3.52-5/blib/lib"
    PERL5OPT=""
    PERL5_CPANPLUS_IS_RUNNING="2034435"
    PERL5_CPAN_IS_RUNNING="2034435"
    PERL5_CPAN_IS_RUNNING_IN_RECURSION="2034371,2034435"
    PERLDOC="-MPod::Perldoc::ToTextOverstrike"
    PERL_BATCH="yes"
    PERL_CANARY_STABILITY_NOPROMPT="1"
    PERL_CPAN_REPORTER_CONFIG="/var/tmp/cpansmoker-1023/2024100106/cpanreporter_001_config.ini"
    PERL_EXTUTILS_AUTOINSTALL="--defaultdeps"
    PERL_USE_UNSAFE_INC="1"
  @INC:
    /home/cpansand/.cpan/build/2024100106/Map-Tube-3.77-17/blib/arch
    /home/cpansand/.cpan/build/2024100106/Map-Tube-3.77-17/blib/lib
    /home/cpansand/.cpan/build/2024100106/Map-Tube-Plugin-Formatter-0.17-5/blib/arch
    /home/cpansand/.cpan/build/2024100106/Map-Tube-Plugin-Formatter-0.17-5/blib/lib
    /home/cpansand/.cpan/build/2024100106/XML-Twig-3.52-5/blib/arch
    /home/cpansand/.cpan/build/2024100106/XML-Twig-3.52-5/blib/lib
    /opt/perl-5.12.3/lib/site_perl/5.12.3/x86_64-linux
    /opt/perl-5.12.3/lib/site_perl/5.12.3
    /opt/perl-5.12.3/lib/5.12.3/x86_64-linux
    /opt/perl-5.12.3/lib/5.12.3
    .