Form-Tiny v2.26 Perl 5 v5.10.1 amd64-freebsd

Status
Pass
From
Slaven Rezić
Dist
Form-Tiny v2.26
Platform
Perl 5 v5.10.1 amd64-freebsd
Date
2025-02-01 21:39:40
ID
0aab7356-e0e5-11ef-bcda-931c6e8775ea
This distribution has been tested as part of the CPAN Testers
project, supporting the Perl programming language.  See
http://wiki.cpantesters.org/ for more information or email
questions to cpan-testers-discuss@perl.org


--
Dear Bartosz Jarzyna,

This is a computer-generated report for Form-Tiny-2.26
on perl 5.10.1, created by CPAN-Reporter-1.2019.

Thank you for uploading your work to CPAN.  Congratulations!
All tests were successful.

Sections of this report:

    * Tester comments
    * Program output
    * Prerequisites
    * Environment and other context

------------------------------
TESTER COMMENTS
------------------------------

Additional comments from tester:

none provided

------------------------------
PROGRAM OUTPUT
------------------------------

Output from '/usr/bin/make test':

PERL_DL_NONLAZY=1 "/usr/perl5.10.1/bin/perl" "-MExtUtils::Command::MM" "-MTest::Harness" "-e" "undef *Test::Harness::Switches; test_harness(0, 'blib/lib', 'blib/arch')" t/*.t t/500-subforms/*.t t/800-inheritance/*.t t/900-plugins/*.t t/990-examples/*.t t/999-bugfixes/*.t
t/010-no-arguments.t ........................ ok
t/011-no-moo.t .............................. ok
t/012-names.t ............................... ok
t/013-meta.t ................................ ok
t/014-cloning.t ............................. ok
t/020-inline.t .............................. ok
t/030-errors.t .............................. ok
t/031-adding-errors.t ....................... ok
t/032-errors-hash.t ......................... ok
t/040-format.t .............................. ok
t/050-required.t ............................ ok
t/060-strictness.t .......................... ok
t/070-filtering.t ........................... ok
t/071-field-filtering.t ..................... ok
t/080-adjustments.t ......................... ok
t/090-cleaning.t ............................ ok
t/100-subroutines.t ......................... ok
t/110-tiny-types.t .......................... ok
t/120-tiny-types-coerce.t ................... ok
t/130-arrays.t .............................. ok
t/140-arrays-required.t ..................... ok
t/150-nested-hash.t ......................... ok
t/160-nested-form.t ......................... ok
t/170-nested-mixed.t ........................ ok
t/180-triple-nest.t ......................... ok
t/190-hooks.t ............................... ok
t/200-data.t ................................ ok
t/210-helpers.t ............................. ok
t/220-default.t ............................. ok
t/221-default-flat.t ........................ ok
t/230-nesting-escape.t ...................... ok
t/240-context.t ............................. ok
t/250-messages.t ............................ ok
t/251-form-messages.t ....................... ok
t/260-additional-validators.t ............... ok
t/270-consistent-api.t ...................... ok
t/280-blueprint.t ........................... ok
t/281-dynamic-blueprint.t ................... ok
t/290-custom-field-defs.t ................... ok
t/300-value.t ............................... ok
t/500-subforms/01-default.t ................. ok
t/500-subforms/02-message.t ................. ok
t/500-subforms/03-array-of-subforms.t ....... ok
t/800-inheritance/010-simple.t .............. ok
t/800-inheritance/020-plugins.t ............. ok
t/900-plugins/010-subroutine.t .............. ok
t/900-plugins/020-role.t .................... ok
t/900-plugins/030-metarole.t ................ ok
t/990-examples/010-inline-form.t ............ ok
t/990-examples/020-metaobject.t ............. ok
t/990-examples/030-regular-form.t ........... ok
t/999-bugfixes/001-3-plugins-array.t ........ ok
t/999-bugfixes/002-8-empty-form.t ........... ok
t/999-bugfixes/003-14-nested-form-errors.t .. ok
t/author-01-object-pad.t .................... skipped: these tests are for testing by the author
t/author-02-bless.t ......................... skipped: these tests are for testing by the author
t/author-03-autoclean.t ..................... skipped: these tests are for testing by the author
t/author-pod-syntax.t ....................... skipped: these tests are for testing by the author
All tests successful.
Files=58, Tests=559,  9 wallclock secs ( 0.23 usr  0.07 sys +  7.72 cusr  0.63 csys =  8.66 CPU)
Result: PASS

------------------------------
PREREQUISITES
------------------------------

Prerequisite modules loaded:

requires:

    Module              Need     Have    
    ------------------- -------- --------
    Import::Into        0        1.002005
    Moo                 2.000000 2.005005
    perl                5.010    5.010001
    Sub::Util           0        1.66    
    Type::Tiny          1.004000 2.006000

build_requires:

    Module              Need     Have    
    ------------------- -------- --------
    ExtUtils::MakeMaker 0        7.70    
    Test::Exception     0        0.43    

configure_requires:

    Module              Need     Have    
    ------------------- -------- --------
    ExtUtils::MakeMaker 0        7.70    


------------------------------
ENVIRONMENT AND OTHER CONTEXT
------------------------------

Environment variables:

    LC_ALL = de_DE.ISO8859-1
    PATH = /usr/local/bin:/usr/bin:/bin:/usr/local/sbin:/usr/sbin:/sbin:/home/cpansand/bin/freebsd9.3:/home/cpansand/bin/sh:/home/cpansand/bin:/usr/games:/home/cpansand/devel:/usr/home/eserte/src/srezic-misc/scripts
    PERL5LIB = 
    PERL5OPT = 
    PERL5_CPANPLUS_IS_RUNNING = 33681
    PERL5_CPAN_IS_RUNNING = 33681
    PERL5_CPAN_IS_RUNNING_IN_RECURSION = 31917,33681
    PERLDOC = -MPod::Perldoc::ToTextOverstrike
    PERL_BATCH = yes
    PERL_CANARY_STABILITY_NOPROMPT = 1
    PERL_CPAN_REPORTER_CONFIG = /var/tmp/cpansmoker-1023/2025020122/cpanreporter_000_config.ini
    PERL_EXTUTILS_AUTOINSTALL = --defaultdeps
    PERL_USE_UNSAFE_INC = 1
    SHELL = /usr/local/bin/zsh
    TERM = screen
    TMPDIR = /var/tmp/cpansmoker-1023/2025020122

Perl special variables (and OS-specific diagnostics, for MSWin32):

    $^X = /usr/perl5.10.1/bin/perl
    $UID/$EUID = 1023 / 1023
    $GID = 1023 1023
    $EGID = 1023 1023

Perl module toolchain versions installed:

    Module              Have    
    ------------------- --------
    CPAN                2.36    
    CPAN::Meta          2.150010
    Cwd                 3.75    
    ExtUtils::CBuilder  0.280236
    ExtUtils::Command   7.70    
    ExtUtils::Install   2.22    
    ExtUtils::MakeMaker 7.70    
    ExtUtils::Manifest  1.75    
    ExtUtils::ParseXS   3.51    
    File::Spec          3.75    
    JSON                4.10    
    JSON::PP            4.16    
    Module::Build       0.4234  
    Module::Signature   0.89    
    Parse::CPAN::Meta   2.150010
    Test2               1.302209
    Test::Harness       3.50    
    Test::More          1.302209
    YAML                1.30    
    YAML::Syck          1.34    
    version             0.9932  


--

Summary of my perl5 (revision 5 version 10 subversion 1) configuration:
   
  Platform:
    osname=freebsd, osvers=9.2-release-p4, archname=amd64-freebsd
    uname='freebsd cvrsnica-freebsd-92 9.2-release-p4 freebsd 9.2-release-p4 #0: tue apr 8 18:08:22 utc 2014 root@amd64-builder.daemonology.net:usrobjusrsrcsysgeneric amd64 '
    config_args='-ds -e -Dprefix=/usr/perl5.10.1'
    hint=recommended, useposix=true, d_sigaction=define
    useithreads=undef, usemultiplicity=undef
    useperlio=define, d_sfio=undef, uselargefiles=define, usesocks=undef
    use64bitint=define, use64bitall=define, uselongdouble=undef
    usemymalloc=n, bincompat5005=undef
  Compiler:
    cc='cc', ccflags ='-DHAS_FPSETMASK -DHAS_FLOATINGPOINT_H -fno-strict-aliasing -pipe -fstack-protector -I/usr/local/include',
    optimize='-O',
    cppflags='-DHAS_FPSETMASK -DHAS_FLOATINGPOINT_H -fno-strict-aliasing -pipe -fstack-protector -I/usr/local/include'
    ccversion='', gccversion='4.2.1 20070831 patched [FreeBSD]', gccosandvers=''
    intsize=4, longsize=8, ptrsize=8, doublesize=8, byteorder=12345678
    d_longlong=define, longlongsize=8, d_longdbl=define, longdblsize=16
    ivtype='long', ivsize=8, nvtype='double', nvsize=8, Off_t='off_t', lseeksize=8
    alignbytes=8, prototype=define
  Linker and Libraries:
    ld='cc', ldflags ='-Wl,-E  -fstack-protector -L/usr/local/lib'
    libpth=/usr/lib /usr/local/lib
    libs=-lgdbm -lm -lcrypt -lutil -lc
    perllibs=-lm -lcrypt -lutil -lc
    libc=, so=so, useshrplib=false, libperl=libperl.a
    gnulibc_version=''
  Dynamic Linking:
    dlsrc=dl_dlopen.xs, dlext=so, d_dlsymun=undef, ccdlflags=' '
    cccdlflags='-DPIC -fPIC', lddlflags='-shared  -L/usr/local/lib -fstack-protector'


Characteristics of this binary (from libperl): 
  Compile-time options: PERL_DONT_CREATE_GVSV PERL_MALLOC_WRAP USE_64_BIT_ALL
                        USE_64_BIT_INT USE_LARGE_FILES USE_PERLIO
  Built under freebsd
  Compiled at May 15 2014 23:30:26
  %ENV:
    PERL5LIB=""
    PERL5OPT=""
    PERL5_CPANPLUS_IS_RUNNING="33681"
    PERL5_CPAN_IS_RUNNING="33681"
    PERL5_CPAN_IS_RUNNING_IN_RECURSION="31917,33681"
    PERLDOC="-MPod::Perldoc::ToTextOverstrike"
    PERL_BATCH="yes"
    PERL_CANARY_STABILITY_NOPROMPT="1"
    PERL_CPAN_REPORTER_CONFIG="/var/tmp/cpansmoker-1023/2025020122/cpanreporter_000_config.ini"
    PERL_EXTUTILS_AUTOINSTALL="--defaultdeps"
    PERL_USE_UNSAFE_INC="1"
  @INC:
    /usr/perl5.10.1/lib/5.10.1/amd64-freebsd
    /usr/perl5.10.1/lib/5.10.1
    /usr/perl5.10.1/lib/site_perl/5.10.1/amd64-freebsd
    /usr/perl5.10.1/lib/site_perl/5.10.1
    .