DBIx-Custom v0.41 Perl 5 v5.26.1 i86pc-solaris
- Status
- Pass
- From
- Nigel Horne
- Dist
-
DBIx-Custom v0.41
- Platform
- Perl 5 v5.26.1 i86pc-solaris
- Date
- 2018-02-10 03:46:56
- ID
- 0a4d119e-0e15-11e8-af2b-acaf1d79aee4
This distribution has been tested as part of the CPAN Testers
project, supporting the Perl programming language. See
http://wiki.cpantesters.org/ for more information or email
questions to cpan-testers-discuss@perl.org
--
Dear Yuki Kimoto,
This is a computer-generated report for DBIx-Custom-0.41
on perl 5.26.1, created by CPAN-Reporter-1.2018.
Thank you for uploading your work to CPAN. Congratulations!
All tests were successful.
Sections of this report:
* Tester comments
* Program output
* Prerequisites
* Environment and other context
------------------------------
TESTER COMMENTS
------------------------------
Additional comments from tester:
this report is from an automated smoke testing program
and was not reviewed by a human for accuracy
------------------------------
PROGRAM OUTPUT
------------------------------
Output from '/usr/bin/gmake test':
PERL_DL_NONLAZY=1 "/export/home/njh/perl5/perlbrew/perls/perl-5.26.1/bin/perl" "-MExtUtils::Command::MM" "-MTest::Harness" "-e" "undef *Test::Harness::Switches; test_harness(0, 'blib/lib', 'blib/arch')" t/*.t t/next/*.t
t/access.t ....................... skipped: Microsoft access(ODBC, *.mdb) private test
t/access2007-accdb.t ............. skipped: Microsoft access(ODBC, *.accdb(2007)) private test
t/access2010-accdb.t ............. skipped: Microsoft access(ODBC, *.accdb(2010)) private test
t/common-mysql-fullqualified.t ... skipped: mysql private test
t/common-mysql.t ................. skipped: mysql private test
t/common-postgresql.t ............ skipped: postgresql private test
t/common-oracle.t ................ skipped: oracle private test
t/common-sqlserver.t ............. skipped: sqlserver private test
t/common.t ....................... skipped: common.t is always skipped
DBI::db=HASH(0x899b328)->disconnect invalidates 1 active statement handle (either destroy statement handles or call finish on them before disconnecting) at /export/home/njh/.cpan/build/DBIx-Connector-0.56-0/blib/lib/DBIx/Connector.pm line 141.
t/common-sqlite-quote.t .......... ok
DBI::db=HASH(0x8998030)->disconnect invalidates 1 active statement handle (either destroy statement handles or call finish on them before disconnecting) at /export/home/njh/.cpan/build/DBIx-Connector-0.56-0/blib/lib/DBIx/Connector.pm line 141.
t/mysql-async.t .................. skipped: mysql private test
t/common-sqlite-fullqualified.t .. ok
t/common-sqlite.t ................ ok
t/mysql.t ........................ skipped: mysql private test
t/sqlite-quote.t ................. ok
t/mysql2.t ....................... skipped: mysql private test
t/sqlite.t ....................... ok
All tests successful.
Files=17, Tests=1296, 14 wallclock secs ( 1.31 usr 0.31 sys + 25.69 cusr 4.14 csys = 31.45 CPU)
Result: PASS
------------------------------
PREREQUISITES
------------------------------
Prerequisite modules loaded:
requires:
Module Need Have
------------------- ----- --------
DBD::SQLite 1.25 1.54
DBI 1.605 1.640
DBIx::Connector 0.56 0.56
Object::Simple 3.1 3.19
Test::More 0 1.302122
build_requires:
Module Need Have
------------------- ----- --------
ExtUtils::MakeMaker 0 7.30
configure_requires:
Module Need Have
------------------- ----- --------
ExtUtils::MakeMaker 0 7.30
------------------------------
ENVIRONMENT AND OTHER CONTEXT
------------------------------
Environment variables:
AUTOMATED_TESTING = 1
HARNESS_OPTIONS = j4
PATH = /export/home/njh/perl5/perlbrew/bin:/export/home/njh/perl5/perlbrew/perls/perl-5.26.1/bin:src/njh/smoker/bin:/usr/bin
PERL5LIB = /export/home/njh/.cpan/build/Object-Simple-3.19-0/blib/arch:/export/home/njh/.cpan/build/Object-Simple-3.19-0/blib/lib:/export/home/njh/.cpan/build/DBIx-Connector-0.56-0/blib/arch:/export/home/njh/.cpan/build/DBIx-Connector-0.56-0/blib/lib
PERL5OPT =
PERL5_CPANPLUS_IS_RUNNING = 1663
PERL5_CPAN_IS_RUNNING = 1663
PERLBREW_HOME = /export/home/njh/.perlbrew
PERLBREW_MANPATH = /export/home/njh/perl5/perlbrew/perls/perl-5.26.1/man
PERLBREW_PATH = /export/home/njh/perl5/perlbrew/bin:/export/home/njh/perl5/perlbrew/perls/perl-5.26.1/bin
PERLBREW_PERL = perl-5.26.1
PERLBREW_ROOT = /export/home/njh/perl5/perlbrew
PERLBREW_SHELLRC_VERSION = 0.82
PERLBREW_VERSION = 0.82
PERL_USE_UNSAFE_INC = 1
SHELL = /usr/bin/sh
TERM = dumb
Perl special variables (and OS-specific diagnostics, for MSWin32):
$^X = /export/home/njh/perl5/perlbrew/perls/perl-5.26.1/bin/perl
$UID/$EUID = 100 / 100
$GID = 10 10
$EGID = 10 10
Perl module toolchain versions installed:
Module Have
------------------- --------
CPAN 2.18
CPAN::Meta 2.150010
Cwd 3.67
ExtUtils::CBuilder 0.280230
ExtUtils::Command 7.30
ExtUtils::Install 2.14
ExtUtils::MakeMaker 7.30
ExtUtils::Manifest 1.70
ExtUtils::ParseXS 3.35
File::Spec 3.67
JSON 2.97001
JSON::PP 2.97001
Module::Build 0.4224
Module::Signature n/a
Parse::CPAN::Meta 2.150010
Test::Harness 3.39
Test::More 1.302122
YAML 1.24
YAML::Syck 1.30
version 0.9918
--
Summary of my perl5 (revision 5 version 26 subversion 1) configuration:
Platform:
osname=solaris
osvers=2.11
archname=i86pc-solaris
uname='sunos republic31 5.11 11.3 i86pc i386 i86pc '
config_args='-de -Dprefix=/export/home/njh/perl5/perlbrew/perls/perl-5.26.1 -Aeval:scriptdir=/export/home/njh/perl5/perlbrew/perls/perl-5.26.1/bin'
hint=recommended
useposix=true
d_sigaction=define
useithreads=undef
usemultiplicity=undef
use64bitint=undef
use64bitall=undef
uselongdouble=undef
usemymalloc=n
default_inc_excludes_dot=define
bincompat5005=undef
Compiler:
cc='cc'
ccflags ='-fwrapv -fno-strict-aliasing -pipe -fstack-protector -I/usr/gnu/include -D_LARGEFILE_SOURCE -D_FILE_OFFSET_BITS=64 -D_FORTIFY_SOURCE=2 -DPERL_USE_SAFE_PUTENV'
optimize='-O'
cppflags='-fwrapv -fno-strict-aliasing -pipe -fstack-protector -I/usr/gnu/include'
ccversion=''
gccversion='4.8.2'
gccosandvers=''
intsize=4
longsize=4
ptrsize=4
doublesize=8
byteorder=1234
doublekind=3
d_longlong=define
longlongsize=8
d_longdbl=define
longdblsize=12
longdblkind=3
ivtype='long'
ivsize=4
nvtype='double'
nvsize=8
Off_t='off_t'
lseeksize=8
alignbytes=4
prototype=define
Linker and Libraries:
ld='cc'
ldflags =' -fstack-protector -L/usr/gnu/lib '
libpth=/usr/gcc/4.8/lib /usr/gcc/4.8/lib/gcc/i386-pc-solaris2.11/4.8.2/include-fixed /usr/lib /usr/gnu/lib /usr/ccs/lib
libs=-lpthread -lsocket -lnsl -lgdbm -ldb -ldl -lm -lc
perllibs=-lpthread -lsocket -lnsl -ldl -lm -lc
libc=/lib/libc.so
so=so
useshrplib=true
libperl=libperl.so
gnulibc_version=''
Dynamic Linking:
dlsrc=dl_dlopen.xs
dlext=so
d_dlsymun=undef
ccdlflags=' -R /export/home/njh/perl5/perlbrew/perls/perl-5.26.1/lib/5.26.1/i86pc-solaris/CORE'
cccdlflags='-fPIC'
lddlflags='-shared -L/usr/gnu/lib -fstack-protector'
Characteristics of this binary (from libperl):
Compile-time options:
HAS_TIMES
PERLIO_LAYERS
PERL_COPY_ON_WRITE
PERL_DONT_CREATE_GVSV
PERL_HASH_FUNC_ONE_AT_A_TIME_HARD
PERL_MALLOC_WRAP
PERL_OP_PARENT
PERL_PRESERVE_IVUV
PERL_USE_SAFE_PUTENV
USE_LARGE_FILES
USE_LOCALE
USE_LOCALE_COLLATE
USE_LOCALE_CTYPE
USE_LOCALE_NUMERIC
USE_LOCALE_TIME
USE_PERLIO
USE_PERL_ATOF
Locally applied patches:
Devel::PatchPerl 1.48
Built under solaris
Compiled at Feb 4 2018 22:08:30
%ENV:
PERL5LIB="/export/home/njh/.cpan/build/Object-Simple-3.19-0/blib/arch:/export/home/njh/.cpan/build/Object-Simple-3.19-0/blib/lib:/export/home/njh/.cpan/build/DBIx-Connector-0.56-0/blib/arch:/export/home/njh/.cpan/build/DBIx-Connector-0.56-0/blib/lib"
PERL5OPT=""
PERL5_CPANPLUS_IS_RUNNING="1663"
PERL5_CPAN_IS_RUNNING="1663"
PERLBREW_HOME="/export/home/njh/.perlbrew"
PERLBREW_MANPATH="/export/home/njh/perl5/perlbrew/perls/perl-5.26.1/man"
PERLBREW_PATH="/export/home/njh/perl5/perlbrew/bin:/export/home/njh/perl5/perlbrew/perls/perl-5.26.1/bin"
PERLBREW_PERL="perl-5.26.1"
PERLBREW_ROOT="/export/home/njh/perl5/perlbrew"
PERLBREW_SHELLRC_VERSION="0.82"
PERLBREW_VERSION="0.82"
PERL_USE_UNSAFE_INC="1"
@INC:
/export/home/njh/.cpan/build/Object-Simple-3.19-0/blib/arch
/export/home/njh/.cpan/build/Object-Simple-3.19-0/blib/lib
/export/home/njh/.cpan/build/DBIx-Connector-0.56-0/blib/arch
/export/home/njh/.cpan/build/DBIx-Connector-0.56-0/blib/lib
/export/home/njh/perl5/perlbrew/perls/perl-5.26.1/lib/site_perl/5.26.1/i86pc-solaris
/export/home/njh/perl5/perlbrew/perls/perl-5.26.1/lib/site_perl/5.26.1
/export/home/njh/perl5/perlbrew/perls/perl-5.26.1/lib/5.26.1/i86pc-solaris
/export/home/njh/perl5/perlbrew/perls/perl-5.26.1/lib/5.26.1
.