Report for Audio-M4P-0.57

Back
From: metabase:user:efaea432-2c23-11e4-82e9-b1bd3c985d1a
Subject: PASS Audio-M4P-0.57 v5.22.0 RC2 GNU/Linux
Date: 2015-05-31T18:29:57Z

This distribution has been tested as part of the CPAN Testers
project, supporting the Perl programming language.  See
http://wiki.cpantesters.org/ for more information or email
questions to cpan-testers-discuss@perl.org


--
Dear BILLH,

This is a computer-generated report for Audio-M4P-0.57
on perl 5.22.0, created by App::cpanminus::reporter 0.13 (1.7034).

Thank you for uploading your work to CPAN.  Congratulations!
All tests were successful.

Sections of this report:

    * Tester comments
    * Program output
    * Prerequisites
    * Environment and other context

------------------------------
TESTER COMMENTS
------------------------------

Additional comments from tester:

none provided

------------------------------
PROGRAM OUTPUT
------------------------------

Output from '':

Building and testing Audio-M4P-0.57
cp lib/Audio/M4P.pm blib/lib/Audio/M4P.pm
cp lib/Audio/M4P/Decrypt.pm blib/lib/Audio/M4P/Decrypt.pm
cp lib/Audio/M4P/QuickTime.pm blib/lib/Audio/M4P/QuickTime.pm
cp lib/Audio/M4P/Atom.pm blib/lib/Audio/M4P/Atom.pm
Manifying 4 pod documents
PERL_DL_NONLAZY=1 "/opt/plenv/versions/5.22.0-RC2/bin/perl5.22.0" "-MExtUtils::Command::MM" "-MTest::Harness" "-e" "undef *Test::Harness::Switches; test_harness(0, 'blib/lib', 'blib/arch')" t/*.t
t/01_test.t ............... ok
t/02_test.t ............... ok
t/03_test.t ............... ok
t/04_test.t ............... ok
t/05_test.t ............... ok
t/06_test.t ............... ok
t/07_test.t ............... skipped: Test::Memory::Cycle required for testing memory leaks
t/08_pod_test.t ........... ok
t/09_pod_coverage_test.t .. ok
All tests successful.
Files=9, Tests=71,  2 wallclock secs ( 0.08 usr  0.02 sys +  1.81 cusr  0.10 csys =  2.01 CPU)
Result: PASS

------------------------------
PREREQUISITES
------------------------------

Prerequisite modules loaded:

    No requirements found

------------------------------
ENVIRONMENT AND OTHER CONTEXT
------------------------------

Environment variables:

    LANG = en_US.UTF-8
    LC_ALL = en_US.UTF-8
    PATH = /opt/plenv/versions/5.22.0-RC2/bin:/opt/plenv/libexec:/opt/plenv/plugins/perl-build/bin:/opt/plenv/shims:/opt/plenv/bin:/opt/plenv/shims:/opt/plenv/bin:/home/genehack/bin:/opt/weechat/bin:/opt/tmux/bin:/opt/node/bin:/opt/git/bin:/opt/emacs/bin:/opt/local/bin:/usr/local/bin:/usr/bin:/bin:/usr/bin/X11:/usr/games
    PERL_CPANM_OPT = --skip-installed --prompt
    SHELL = /bin/zsh
    TERM = screen-256color

Perl special variables (and OS-specific diagnostics, for MSWin32):

    EGID = 1001 1001
    EUID = 1001
    EXECUTABLE_NAME = /opt/plenv/versions/5.22.0-RC2/bin/perl5.22.0
    GID = 1001 1001
    UID = 1001

Perl module toolchain versions installed:

    Module              Have    
    ------------------- --------
    CPAN                2.11    
    CPAN::Meta          2.150001
    Cwd                 3.56    
    ExtUtils::CBuilder  0.280221
    ExtUtils::Command   1.20    
    ExtUtils::Install   2.04    
    ExtUtils::MakeMaker 7.04_01 
    ExtUtils::Manifest  1.70    
    ExtUtils::ParseXS   3.28    
    File::Spec          3.56    
    JSON                2.90    
    JSON::PP            2.27300 
    Module::Build       0.4212  
    Module::Signature   n/a     
    Parse::CPAN::Meta   1.4414  
    Test::Harness       3.35    
    Test::More          1.001014
    YAML                1.15    
    YAML::Syck          n/a     
    version             0.9909  


--

Summary of my perl5 (revision 5 version 22 subversion 0) configuration:
   
  Platform:
    osname=linux, osvers=3.18.5-x86_64-linode52, archname=x86_64-linux
    uname='linux klatch 3.18.5-x86_64-linode52 #1 smp thu feb 5 12:18:36 est 2015 x86_64 gnulinux '
    config_args='-Dprefix=/opt/plenv/versions/5.22.0-RC2 -de -Dusedevel -A'eval:scriptdir=/opt/plenv/versions/5.22.0-RC2/bin''
    hint=recommended, useposix=true, d_sigaction=define
    useithreads=undef, usemultiplicity=undef
    use64bitint=define, use64bitall=define, uselongdouble=undef
    usemymalloc=n, bincompat5005=undef
  Compiler:
    cc='cc', ccflags ='-fwrapv -fno-strict-aliasing -pipe -fstack-protector -I/usr/local/include -D_LARGEFILE_SOURCE -D_FILE_OFFSET_BITS=64 -D_FORTIFY_SOURCE=2',
    optimize='-O2',
    cppflags='-fwrapv -fno-strict-aliasing -pipe -fstack-protector -I/usr/local/include'
    ccversion='', gccversion='4.7.2', gccosandvers=''
    intsize=4, longsize=8, ptrsize=8, doublesize=8, byteorder=12345678, doublekind=3
    d_longlong=define, longlongsize=8, d_longdbl=define, longdblsize=16, longdblkind=3
    ivtype='long', ivsize=8, nvtype='double', nvsize=8, Off_t='off_t', lseeksize=8
    alignbytes=8, prototype=define
  Linker and Libraries:
    ld='cc', ldflags =' -fstack-protector -L/usr/local/lib'
    libpth=/usr/local/lib /usr/lib/gcc/x86_64-linux-gnu/4.7/include-fixed /usr/include/x86_64-linux-gnu /usr/lib /lib/x86_64-linux-gnu /lib/../lib /usr/lib/x86_64-linux-gnu /usr/lib/../lib /lib
    libs=-lpthread -lnsl -lgdbm -ldl -lm -lcrypt -lutil -lc -lgdbm_compat
    perllibs=-lpthread -lnsl -ldl -lm -lcrypt -lutil -lc
    libc=libc-2.13.so, so=so, useshrplib=false, libperl=libperl.a
    gnulibc_version='2.13'
  Dynamic Linking:
    dlsrc=dl_dlopen.xs, dlext=so, d_dlsymun=undef, ccdlflags='-Wl,-E'
    cccdlflags='-fPIC', lddlflags='-shared -O2 -L/usr/local/lib -fstack-protector'


Characteristics of this binary (from libperl): 
  Compile-time options: HAS_TIMES PERLIO_LAYERS PERL_DONT_CREATE_GVSV
                        PERL_HASH_FUNC_ONE_AT_A_TIME_HARD PERL_MALLOC_WRAP
                        PERL_NEW_COPY_ON_WRITE PERL_PRESERVE_IVUV
                        PERL_USE_DEVEL USE_64_BIT_ALL USE_64_BIT_INT
                        USE_LARGE_FILES USE_LOCALE USE_LOCALE_COLLATE
                        USE_LOCALE_CTYPE USE_LOCALE_NUMERIC USE_LOCALE_TIME
                        USE_PERLIO USE_PERL_ATOF
  Locally applied patches:
	RC2
	Devel::PatchPerl 1.30
  Built under linux
  Compiled at May 26 2015 12:47:00
  %ENV:
    PERL_CPANM_OPT="--skip-installed --prompt"
  @INC:
    /opt/plenv/versions/5.22.0-RC2/lib/perl5/site_perl/5.22.0/x86_64-linux
    /opt/plenv/versions/5.22.0-RC2/lib/perl5/site_perl/5.22.0
    /opt/plenv/versions/5.22.0-RC2/lib/perl5/5.22.0/x86_64-linux
    /opt/plenv/versions/5.22.0-RC2/lib/perl5/5.22.0
    .