Report for OX-View-TT-0.02

Back
From: metabase:user:30ae4450-2aae-11df-837a-5e0a49663a4f
Subject: PASS OX-View-TT-0.02 v5.18.0 
Date: 2014-07-31T15:50:56Z

This distribution has been tested as part of the CPAN Testers
project, supporting the Perl programming language.  See
http://wiki.cpantesters.org/ for more information or email
questions to cpan-testers-discuss@perl.org


--
Dear Jesse Luehrs,

This is a computer-generated report for OX-View-TT-0.02
on perl 5.18.0, created by CPAN-Reporter-1.2010_01.

Thank you for uploading your work to CPAN.  Congratulations!
All tests were successful.

Sections of this report:

    * Tester comments
    * Program output
    * Prerequisites
    * Environment and other context

------------------------------
TESTER COMMENTS
------------------------------

Additional comments from tester:

this report is from an automated smoke testing program
and was not reviewed by a human for accuracy

------------------------------
PROGRAM OUTPUT
------------------------------

Output from 'C:\strawberry180\c\bin\dmake.exe test':

C:\strawberry180\perl\bin\perl.exe "-MExtUtils::Command::MM" "-e" "test_harness(0, 'blib\lib', 'blib\arch')" t/*.t
Class::MOP::load_class is deprecated at C:\strawberry180\cpan\build\Moose-2.1210-p2cyuS/blib/lib/Class/MOP.pm line 71.
	Class::MOP::load_class('MooseX::Role::Parameterized::Meta::Role::Parameterized') called at C:/strawberry180/perl/vendor/lib/MooseX/Role/Parameterized/Meta/Role/Parameterizable.pm line 60
	MooseX::Role::Parameterized::Meta::Role::Parameterizable::generate_role('MooseX::Role::Parameterized::Meta::Role::Parameterizable=HASH...', 'consumer', 'Moose::Meta::Role=HASH(0x166e4dc)', 'parameters', 'HASH(0x16c159c)') called at C:/strawberry180/perl/vendor/lib/MooseX/Role/Parameterized/Meta/Role/Parameterizable.pm line 104
	MooseX::Role::Parameterized::Meta::Role::Parameterizable::apply('MooseX::Role::Parameterized::Meta::Role::Parameterizable=HASH...', 'Moose::Meta::Role=HASH(0x166e4dc)') called at C:\strawberry180\cpan\build\Moose-2.1210-p2cyuS/blib/lib/Moose/Util.pm line 175
	Moose::Util::_apply_all_roles('Moose::Meta::Role=HASH(0x166e4dc)', undef, 'MooseX::Getopt::GLD') called at C:\strawberry180\cpan\build\Moose-2.1210-p2cyuS/blib/lib/Moose/Util.pm line 117
	Moose::Util::apply_all_roles('Moose::Meta::Role=HASH(0x166e4dc)', 'MooseX::Getopt::GLD') called at C:\strawberry180\cpan\build\Moose-2.1210-p2cyuS/blib/lib/Moose/Role.pm line 27
	Moose::Role::with('Moose::Meta::Role=HASH(0x166e4dc)', 'MooseX::Getopt::GLD') called at C:\strawberry180\cpan\build\Moose-2.1210-p2cyuS/blib/lib/Moose/Exporter.pm line 405
	Moose::Role::with('MooseX::Getopt::GLD') called at C:/strawberry180/perl/site/lib/MooseX/Getopt.pm line 14
	require MooseX/Getopt.pm called at C:/strawberry180/perl/site/lib/MooseX/Types/Path/Class.pm line 35
	eval {...} called at C:/strawberry180/perl/site/lib/MooseX/Types/Path/Class.pm line 35
	require MooseX/Types/Path/Class.pm called at C:\strawberry180\cpan\build\OX-View-TT-0.02-GWdygq\blib\lib/OX/View/TT.pm line 9
	OX::View::TT::BEGIN() called at C:/strawberry180/perl/site/lib/MooseX/Getopt.pm line 0
	eval {...} called at C:/strawberry180/perl/site/lib/MooseX/Getopt.pm line 0
	require OX/View/TT.pm called at -e line 1
t/00-compile.t ....... ok
Passing a list of values to enum is deprecated. Enum values should be wrapped in an arrayref. at C:\strawberry180\cpan\build\Moose-2.1210-p2cyuS/blib/lib/Moose/Util/TypeConstraints.pm line 440.
	Moose::Util::TypeConstraints::enum('Bread::Board::Service::LifeCycles', 'Null', 'Singleton') called at C:/strawberry180/perl/site/lib/Bread/Board/Types.pm line 15
	require Bread/Board/Types.pm called at C:/strawberry180/perl/site/lib/Bread/Board.pm line 14
	Bread::Board::BEGIN() called at C:/strawberry180/perl/site/lib/Bread/Board/Types.pm line 0
	eval {...} called at C:/strawberry180/perl/site/lib/Bread/Board/Types.pm line 0
	require Bread/Board.pm called at C:\strawberry180\cpan\build\Bread-Board-Declare-0.16-HJiQ7h/blib/lib/Bread/Board/Declare.pm line 11
	Bread::Board::Declare::BEGIN() called at C:/strawberry180/perl/site/lib/Bread/Board/Types.pm line 0
	eval {...} called at C:/strawberry180/perl/site/lib/Bread/Board/Types.pm line 0
	require Bread/Board/Declare.pm called at C:\strawberry180\cpan\build\OX-0.14-1ea1Vo/blib/lib/OX.pm line 10
	OX::BEGIN() called at C:/strawberry180/perl/site/lib/Bread/Board/Types.pm line 0
	eval {...} called at C:/strawberry180/perl/site/lib/Bread/Board/Types.pm line 0
	require OX.pm called at t/array_parameter.t line 35
	Foo::BEGIN() called at C:/strawberry180/perl/site/lib/Bread/Board/Types.pm line 0
	eval {...} called at C:/strawberry180/perl/site/lib/Bread/Board/Types.pm line 0
Class::MOP::load_class is deprecated at C:\strawberry180\cpan\build\Moose-2.1210-p2cyuS/blib/lib/Class/MOP.pm line 71.
	Class::MOP::load_class('Plack::Component', 'HASH(0x219be84)') called at C:/strawberry180/perl/vendor/lib/MooseX/NonMoose/Meta/Role/Class.pm line 247
	Class::MOP::Class:::around(undef, undef, 'Plack::Component') called at C:\strawberry180\cpan\build\Moose-2.1210-p2cyuS/blib/lib/Class/MOP/Method/Wrapped.pm line 160
	Class::MOP::Method::Wrapped::__ANON__('Moose::Meta::Class::__ANON__::SERIAL::22=HASH(0x21a61b4)', 'Plack::Component') called at C:\strawberry180\cpan\build\Moose-2.1210-p2cyuS/blib/lib/Class/MOP/Method/Wrapped.pm line 89
	Moose::Meta::Class::__ANON__::SERIAL::22::superclasses('Moose::Meta::Class::__ANON__::SERIAL::22=HASH(0x21a61b4)', 'Plack::Component') called at C:\strawberry180\cpan\build\Moose-2.1210-p2cyuS/blib/lib/Moose.pm line 56
	Moose::extends('Moose::Meta::Class::__ANON__::SERIAL::22=HASH(0x21a61b4)', 'Plack::Component') called at C:\strawberry180\cpan\build\Moose-2.1210-p2cyuS/blib/lib/Moose/Exporter.pm line 405
	Moose::extends('Plack::Component') called at C:\strawberry180\cpan\build\Plack-App-Path-Router-0.05-uALQ4s/blib/lib/Plack/App/Path/Router/Custom.pm line 12
	require Plack/App/Path/Router/Custom.pm called at C:\strawberry180\cpan\build\OX-0.14-1ea1Vo/blib/lib/OX/Application/Role/Router/Path/Router.pm line 10
	OX::Application::Role::Router::Path::Router::BEGIN() called at C:\strawberry180\cpan\build\Plack-App-Path-Router-0.05-uALQ4s/blib/lib/Plack/App/Path/Router/Custom.pm line 0
	eval {...} called at C:\strawberry180\cpan\build\Plack-App-Path-Router-0.05-uALQ4s/blib/lib/Plack/App/Path/Router/Custom.pm line 0
	require OX/Application/Role/Router/Path/Router.pm called at C:\strawberry180\cpan\build\Module-Runtime-0.014-z50gag/blib/lib/Module/Runtime.pm line 317
	Module::Runtime::require_module('OX::Application::Role::Router::Path::Router') called at C:\strawberry180\cpan\build\Module-Runtime-0.014-z50gag/blib/lib/Module/Runtime.pm line 348
	Module::Runtime::use_module('OX::Application::Role::Router::Path::Router') called at C:\strawberry180\cpan\build\Moose-2.1210-p2cyuS/blib/lib/Moose/Util.pm line 150
	Moose::Util::_apply_all_roles('Moose::Meta::Class=HASH(0x20a12ac)', undef, 'OX::Application::Role::Router::Path::Router', 'OX::Application::Role::RouteBuilder', 'OX::Application::Role::Sugar', 'Bread::Board::Declare::Role::Object') called at C:\strawberry180\cpan\build\Moose-2.1210-p2cyuS/blib/lib/Moose/Util.pm line 117
	Moose::Util::apply_all_roles('Moose::Meta::Class=HASH(0x20a12ac)', 'OX::Application::Role::Router::Path::Router', 'OX::Application::Role::RouteBuilder', 'OX::Application::Role::Sugar', 'Bread::Board::Declare::Role::Object') called at C:\strawberry180\cpan\build\Moose-2.1210-p2cyuS/blib/lib/Moose/Meta/Class.pm line 92
	Moose::Meta::Class::create('Moose::Meta::Class', 'Moose::Meta::Class::__ANON__::SERIAL::21', 'weaken', '', 'roles', 'ARRAY(0x128afe4)', 'superclasses', 'ARRAY(0x20ac98c)') called at C:\strawberry180\cpan\build\Moose-2.1210-p2cyuS/blib/lib/Class/MOP/Package.pm line 123
	Class::MOP::Package::create_anon('Moose::Meta::Class', 'superclasses', 'ARRAY(0x20ac98c)', 'roles', 'ARRAY(0x128afe4)', 'cache', 1) called at C:\strawberry180\cpan\build\Moose-2.1210-p2cyuS/blib/lib/Class/MOP/Class.pm line 473
	Class::MOP::Class::create_anon_class('Moose::Meta::Class', 'superclasses', 'ARRAY(0x20ac98c)', 'roles', 'ARRAY(0x128afe4)', 'cache', 1) called at C:\strawberry180\cpan\build\Moose-2.1210-p2cyuS/blib/lib/Moose/Util/MetaRole.pm line 113
	Moose::Util::MetaRole::_make_new_class('Foo', 'ARRAY(0x128afe4)', 'ARRAY(0x20ac98c)') called at C:\strawberry180\cpan\build\Moose-2.1210-p2cyuS/blib/lib/Moose/Util/MetaRole.pm line 90
	Moose::Util::MetaRole::apply_base_class_roles('for', 'Moose::Meta::Class=HASH(0x1e6e6f4)', 'roles', 'ARRAY(0x128afe4)') called at C:\strawberry180\cpan\build\Moose-2.1210-p2cyuS/blib/lib/Moose/Exporter.pm line 570
	Moose::Exporter::_apply_metaroles('Plack::App::Path::Router::Custom', 'ARRAY(0x1e6e394)', 'CODE(0x11d44ec)') called at C:\strawberry180\cpan\build\Moose-2.1210-p2cyuS/blib/lib/Moose/Exporter.pm line 483
	Moose::Exporter::__ANON__('OX') called at t/array_parameter.t line 35
	Foo::BEGIN() called at C:\strawberry180\cpan\build\Plack-App-Path-Router-0.05-uALQ4s/blib/lib/Plack/App/Path/Router/Custom.pm line 0
	eval {...} called at C:\strawberry180\cpan\build\Plack-App-Path-Router-0.05-uALQ4s/blib/lib/Plack/App/Path/Router/Custom.pm line 0
Class::MOP::load_class is deprecated at C:\strawberry180\cpan\build\Moose-2.1210-p2cyuS/blib/lib/Class/MOP.pm line 71.
	Class::MOP::load_class('MooseX::Role::Parameterized::Meta::Role::Parameterized') called at C:/strawberry180/perl/vendor/lib/MooseX/Role/Parameterized/Meta/Role/Parameterizable.pm line 60
	MooseX::Role::Parameterized::Meta::Role::Parameterizable::generate_role('MooseX::Role::Parameterized::Meta::Role::Parameterizable=HASH...', 'consumer', 'Moose::Meta::Role=HASH(0x22dc1e4)', 'parameters', 'HASH(0x230b35c)') called at C:/strawberry180/perl/vendor/lib/MooseX/Role/Parameterized/Meta/Role/Parameterizable.pm line 104
	MooseX::Role::Parameterized::Meta::Role::Parameterizable::apply('MooseX::Role::Parameterized::Meta::Role::Parameterizable=HASH...', 'Moose::Meta::Role=HASH(0x22dc1e4)') called at C:\strawberry180\cpan\build\Moose-2.1210-p2cyuS/blib/lib/Moose/Util.pm line 175
	Moose::Util::_apply_all_roles('Moose::Meta::Role=HASH(0x22dc1e4)', undef, 'MooseX::Getopt::GLD') called at C:\strawberry180\cpan\build\Moose-2.1210-p2cyuS/blib/lib/Moose/Util.pm line 117
	Moose::Util::apply_all_roles('Moose::Meta::Role=HASH(0x22dc1e4)', 'MooseX::Getopt::GLD') called at C:\strawberry180\cpan\build\Moose-2.1210-p2cyuS/blib/lib/Moose/Role.pm line 27
	Moose::Role::with('Moose::Meta::Role=HASH(0x22dc1e4)', 'MooseX::Getopt::GLD') called at C:\strawberry180\cpan\build\Moose-2.1210-p2cyuS/blib/lib/Moose/Exporter.pm line 405
	Moose::Role::with('MooseX::Getopt::GLD') called at C:/strawberry180/perl/site/lib/MooseX/Getopt.pm line 14
	require MooseX/Getopt.pm called at C:/strawberry180/perl/site/lib/MooseX/Types/Path/Class.pm line 35
	eval {...} called at C:/strawberry180/perl/site/lib/MooseX/Types/Path/Class.pm line 35
	require MooseX/Types/Path/Class.pm called at C:\strawberry180\cpan\build\OX-View-TT-0.02-GWdygq\blib\lib/OX/View/TT.pm line 9
	OX::View::TT::BEGIN() called at C:/strawberry180/perl/site/lib/MooseX/Getopt.pm line 0
	eval {...} called at C:/strawberry180/perl/site/lib/MooseX/Getopt.pm line 0
	require OX/View/TT.pm called at C:\strawberry180\cpan\build\Module-Runtime-0.014-z50gag/blib/lib/Module/Runtime.pm line 317
	Module::Runtime::require_module('OX::View::TT') called at C:/strawberry180/perl/vendor/lib/Class/Load.pm line 177
	Class::Load::__ANON__() called at C:/strawberry180/perl/vendor/lib/Try/Tiny.pm line 71
	eval {...} called at C:/strawberry180/perl/vendor/lib/Try/Tiny.pm line 67
	Try::Tiny::try('CODE(0x222b1dc)', 'Try::Tiny::Catch=REF(0x22505dc)') called at C:/strawberry180/perl/vendor/lib/Class/Load.pm line 183
	Class::Load::try_load_class('OX::View::TT', undef) called at C:/strawberry180/perl/vendor/lib/Class/Load.pm line 38
	Class::Load::load_class('OX::View::TT') called at C:\strawberry180\cpan\build\Bread-Board-Declare-0.16-HJiQ7h/blib/lib/Bread/Board/Declare/Meta/Role/Attribute/Service.pm line 118
	Class::MOP::Class:::after('Moose::Meta::Class::__ANON__::SERIAL::24=HASH(0x2250264)', 'Moose::Meta::Class::__ANON__::SERIAL::13=HASH(0x20c6ac4)') called at C:\strawberry180\cpan\build\Moose-2.1210-p2cyuS/blib/lib/Class/MOP/Method/Wrapped.pm line 58
	Class::MOP::Method::Wrapped::__ANON__('Moose::Meta::Class::__ANON__::SERIAL::24=HASH(0x2250264)', 'Moose::Meta::Class::__ANON__::SERIAL::13=HASH(0x20c6ac4)') called at C:\strawberry180\cpan\build\Moose-2.1210-p2cyuS/blib/lib/Class/MOP/Method/Wrapped.pm line 89
	Moose::Meta::Class::__ANON__::SERIAL::24::attach_to_class('Moose::Meta::Class::__ANON__::SERIAL::24=HASH(0x2250264)', 'Moose::Meta::Class::__ANON__::SERIAL::13=HASH(0x20c6ac4)') called at C:\strawberry180\cpan\build\Moose-2.1210-p2cyuS/blib/lib/Class/MOP/Class.pm line 889
	Class::MOP::Class::_attach_attribute('Moose::Meta::Class::__ANON__::SERIAL::13=HASH(0x20c6ac4)', 'Moose::Meta::Class::__ANON__::SERIAL::24=HASH(0x2250264)') called at C:\strawberry180\cpan\build\Moose-2.1210-p2cyuS/blib/lib/Class/MOP/Mixin/HasAttributes.pm line 24
	Class::MOP::Mixin::HasAttributes::add_attribute('Moose::Meta::Class::__ANON__::SERIAL::13=HASH(0x20c6ac4)', 'Moose::Meta::Class::__ANON__::SERIAL::24=HASH(0x2250264)') called at C:\strawberry180\cpan\build\Moose-2.1210-p2cyuS/blib/lib/Moose/Meta/Class.pm line 576
	Moose::Meta::Class::add_attribute('Moose::Meta::Class::__ANON__::SERIAL::13=HASH(0x20c6ac4)', 'view', 'definition_context', 'HASH(0x99ba94)', 'is', 'ro', 'isa', 'OX::View::TT', 'dependencies', ...) called at C:\strawberry180\cpan\build\Moose-2.1210-p2cyuS/blib/lib/Moose.pm line 77
	Moose::has('Moose::Meta::Class::__ANON__::SERIAL::13=HASH(0x20c6ac4)', 'view', 'is', 'ro', 'isa', 'OX::View::TT', 'dependencies', 'ARRAY(0x3fa264)') called at C:\strawberry180\cpan\build\Moose-2.1210-p2cyuS/blib/lib/Moose/Exporter.pm line 405
	Moose::has('view', 'is', 'ro', 'isa', 'OX::View::TT', 'dependencies', 'ARRAY(0x3fa264)') called at t/array_parameter.t line 57
Class::MOP::load_class is deprecated at C:\strawberry180\cpan\build\Moose-2.1210-p2cyuS/blib/lib/Class/MOP.pm line 71.
	Class::MOP::load_class('OX::View::TT') called at C:/strawberry180/perl/site/lib/Bread/Board/Service/WithClass.pm line 22
	Class::MOP::Class:::before('Bread::Board::Declare::ConstructorInjection=HASH(0x25a818c)') called at C:\strawberry180\cpan\build\Moose-2.1210-p2cyuS/blib/lib/Class/MOP/Method/Wrapped.pm line 28
	Class::MOP::Method::Wrapped::__ANON__('Bread::Board::Declare::ConstructorInjection=HASH(0x25a818c)') called at C:\strawberry180\cpan\build\Moose-2.1210-p2cyuS/blib/lib/Class/MOP/Method/Wrapped.pm line 89
	Bread::Board::ConstructorInjection::get('Bread::Board::Declare::ConstructorInjection=HASH(0x25a818c)') called at C:\strawberry180\cpan\build\Bread-Board-Declare-0.16-HJiQ7h/blib/lib/Bread/Board/Declare/Role/Service.pm line 31
	Class::MOP::Class:::around('CODE(0x1b1a1ac)', 'Bread::Board::Declare::ConstructorInjection=HASH(0x25a818c)') called at C:\strawberry180\cpan\build\Moose-2.1210-p2cyuS/blib/lib/Class/MOP/Method/Wrapped.pm line 160
	Class::MOP::Method::Wrapped::__ANON__('Bread::Board::Declare::ConstructorInjection=HASH(0x25a818c)') called at C:\strawberry180\cpan\build\Moose-2.1210-p2cyuS/blib/lib/Class/MOP/Method/Wrapped.pm line 89
	Bread::Board::Declare::ConstructorInjection::get('Bread::Board::Declare::ConstructorInjection=HASH(0x25a818c)') called at reader Foo::view (defined at t/array_parameter.t line 57) line 11
	Foo::view('Foo=HASH(0x258f93c)') called at t/array_parameter.t line 77
t/array_parameter.t .. ok
Passing a list of values to enum is deprecated. Enum values should be wrapped in an arrayref. at C:\strawberry180\cpan\build\Moose-2.1210-p2cyuS/blib/lib/Moose/Util/TypeConstraints.pm line 440.
	Moose::Util::TypeConstraints::enum('Bread::Board::Service::LifeCycles', 'Null', 'Singleton') called at C:/strawberry180/perl/site/lib/Bread/Board/Types.pm line 15
	require Bread/Board/Types.pm called at C:/strawberry180/perl/site/lib/Bread/Board.pm line 14
	Bread::Board::BEGIN() called at C:/strawberry180/perl/site/lib/Bread/Board/Types.pm line 0
	eval {...} called at C:/strawberry180/perl/site/lib/Bread/Board/Types.pm line 0
	require Bread/Board.pm called at C:\strawberry180\cpan\build\Bread-Board-Declare-0.16-HJiQ7h/blib/lib/Bread/Board/Declare.pm line 11
	Bread::Board::Declare::BEGIN() called at C:/strawberry180/perl/site/lib/Bread/Board/Types.pm line 0
	eval {...} called at C:/strawberry180/perl/site/lib/Bread/Board/Types.pm line 0
	require Bread/Board/Declare.pm called at C:\strawberry180\cpan\build\OX-0.14-1ea1Vo/blib/lib/OX.pm line 10
	OX::BEGIN() called at C:/strawberry180/perl/site/lib/Bread/Board/Types.pm line 0
	eval {...} called at C:/strawberry180/perl/site/lib/Bread/Board/Types.pm line 0
	require OX.pm called at t/basic.t line 35
	Foo::BEGIN() called at C:/strawberry180/perl/site/lib/Bread/Board/Types.pm line 0
	eval {...} called at C:/strawberry180/perl/site/lib/Bread/Board/Types.pm line 0
Class::MOP::load_class is deprecated at C:\strawberry180\cpan\build\Moose-2.1210-p2cyuS/blib/lib/Class/MOP.pm line 71.
	Class::MOP::load_class('Plack::Component', 'HASH(0x2199274)') called at C:/strawberry180/perl/vendor/lib/MooseX/NonMoose/Meta/Role/Class.pm line 247
	Class::MOP::Class:::around(undef, undef, 'Plack::Component') called at C:\strawberry180\cpan\build\Moose-2.1210-p2cyuS/blib/lib/Class/MOP/Method/Wrapped.pm line 160
	Class::MOP::Method::Wrapped::__ANON__('Moose::Meta::Class::__ANON__::SERIAL::22=HASH(0x21a4784)', 'Plack::Component') called at C:\strawberry180\cpan\build\Moose-2.1210-p2cyuS/blib/lib/Class/MOP/Method/Wrapped.pm line 89
	Moose::Meta::Class::__ANON__::SERIAL::22::superclasses('Moose::Meta::Class::__ANON__::SERIAL::22=HASH(0x21a4784)', 'Plack::Component') called at C:\strawberry180\cpan\build\Moose-2.1210-p2cyuS/blib/lib/Moose.pm line 56
	Moose::extends('Moose::Meta::Class::__ANON__::SERIAL::22=HASH(0x21a4784)', 'Plack::Component') called at C:\strawberry180\cpan\build\Moose-2.1210-p2cyuS/blib/lib/Moose/Exporter.pm line 405
	Moose::extends('Plack::Component') called at C:\strawberry180\cpan\build\Plack-App-Path-Router-0.05-uALQ4s/blib/lib/Plack/App/Path/Router/Custom.pm line 12
	require Plack/App/Path/Router/Custom.pm called at C:\strawberry180\cpan\build\OX-0.14-1ea1Vo/blib/lib/OX/Application/Role/Router/Path/Router.pm line 10
	OX::Application::Role::Router::Path::Router::BEGIN() called at C:\strawberry180\cpan\build\Plack-App-Path-Router-0.05-uALQ4s/blib/lib/Plack/App/Path/Router/Custom.pm line 0
	eval {...} called at C:\strawberry180\cpan\build\Plack-App-Path-Router-0.05-uALQ4s/blib/lib/Plack/App/Path/Router/Custom.pm line 0
	require OX/Application/Role/Router/Path/Router.pm called at C:\strawberry180\cpan\build\Module-Runtime-0.014-z50gag/blib/lib/Module/Runtime.pm line 317
	Module::Runtime::require_module('OX::Application::Role::Router::Path::Router') called at C:\strawberry180\cpan\build\Module-Runtime-0.014-z50gag/blib/lib/Module/Runtime.pm line 348
	Module::Runtime::use_module('OX::Application::Role::Router::Path::Router') called at C:\strawberry180\cpan\build\Moose-2.1210-p2cyuS/blib/lib/Moose/Util.pm line 150
	Moose::Util::_apply_all_roles('Moose::Meta::Class=HASH(0x209c6dc)', undef, 'OX::Application::Role::Router::Path::Router', 'OX::Application::Role::RouteBuilder', 'OX::Application::Role::Sugar', 'Bread::Board::Declare::Role::Object') called at C:\strawberry180\cpan\build\Moose-2.1210-p2cyuS/blib/lib/Moose/Util.pm line 117
	Moose::Util::apply_all_roles('Moose::Meta::Class=HASH(0x209c6dc)', 'OX::Application::Role::Router::Path::Router', 'OX::Application::Role::RouteBuilder', 'OX::Application::Role::Sugar', 'Bread::Board::Declare::Role::Object') called at C:\strawberry180\cpan\build\Moose-2.1210-p2cyuS/blib/lib/Moose/Meta/Class.pm line 92
	Moose::Meta::Class::create('Moose::Meta::Class', 'Moose::Meta::Class::__ANON__::SERIAL::21', 'weaken', '', 'superclasses', 'ARRAY(0x20ab4ac)', 'roles', 'ARRAY(0x128bb74)') called at C:\strawberry180\cpan\build\Moose-2.1210-p2cyuS/blib/lib/Class/MOP/Package.pm line 123
	Class::MOP::Package::create_anon('Moose::Meta::Class', 'superclasses', 'ARRAY(0x20ab4ac)', 'roles', 'ARRAY(0x128bb74)', 'cache', 1) called at C:\strawberry180\cpan\build\Moose-2.1210-p2cyuS/blib/lib/Class/MOP/Class.pm line 473
	Class::MOP::Class::create_anon_class('Moose::Meta::Class', 'superclasses', 'ARRAY(0x20ab4ac)', 'roles', 'ARRAY(0x128bb74)', 'cache', 1) called at C:\strawberry180\cpan\build\Moose-2.1210-p2cyuS/blib/lib/Moose/Util/MetaRole.pm line 113
	Moose::Util::MetaRole::_make_new_class('Foo', 'ARRAY(0x128bb74)', 'ARRAY(0x20ab4ac)') called at C:\strawberry180\cpan\build\Moose-2.1210-p2cyuS/blib/lib/Moose/Util/MetaRole.pm line 90
	Moose::Util::MetaRole::apply_base_class_roles('for', 'Moose::Meta::Class=HASH(0x1e6e694)', 'roles', 'ARRAY(0x128bb74)') called at C:\strawberry180\cpan\build\Moose-2.1210-p2cyuS/blib/lib/Moose/Exporter.pm line 570
	Moose::Exporter::_apply_metaroles('Plack::App::Path::Router::Custom', 'ARRAY(0x1e6e394)', 'CODE(0x11d591c)') called at C:\strawberry180\cpan\build\Moose-2.1210-p2cyuS/blib/lib/Moose/Exporter.pm line 483
	Moose::Exporter::__ANON__('OX') called at t/basic.t line 35
	Foo::BEGIN() called at C:\strawberry180\cpan\build\Plack-App-Path-Router-0.05-uALQ4s/blib/lib/Plack/App/Path/Router/Custom.pm line 0
	eval {...} called at C:\strawberry180\cpan\build\Plack-App-Path-Router-0.05-uALQ4s/blib/lib/Plack/App/Path/Router/Custom.pm line 0
Class::MOP::load_class is deprecated at C:\strawberry180\cpan\build\Moose-2.1210-p2cyuS/blib/lib/Class/MOP.pm line 71.
	Class::MOP::load_class('MooseX::Role::Parameterized::Meta::Role::Parameterized') called at C:/strawberry180/perl/vendor/lib/MooseX/Role/Parameterized/Meta/Role/Parameterizable.pm line 60
	MooseX::Role::Parameterized::Meta::Role::Parameterizable::generate_role('MooseX::Role::Parameterized::Meta::Role::Parameterizable=HASH...', 'consumer', 'Moose::Meta::Role=HASH(0x22d9154)', 'parameters', 'HASH(0x2317ee4)') called at C:/strawberry180/perl/vendor/lib/MooseX/Role/Parameterized/Meta/Role/Parameterizable.pm line 104
	MooseX::Role::Parameterized::Meta::Role::Parameterizable::apply('MooseX::Role::Parameterized::Meta::Role::Parameterizable=HASH...', 'Moose::Meta::Role=HASH(0x22d9154)') called at C:\strawberry180\cpan\build\Moose-2.1210-p2cyuS/blib/lib/Moose/Util.pm line 175
	Moose::Util::_apply_all_roles('Moose::Meta::Role=HASH(0x22d9154)', undef, 'MooseX::Getopt::GLD') called at C:\strawberry180\cpan\build\Moose-2.1210-p2cyuS/blib/lib/Moose/Util.pm line 117
	Moose::Util::apply_all_roles('Moose::Meta::Role=HASH(0x22d9154)', 'MooseX::Getopt::GLD') called at C:\strawberry180\cpan\build\Moose-2.1210-p2cyuS/blib/lib/Moose/Role.pm line 27
	Moose::Role::with('Moose::Meta::Role=HASH(0x22d9154)', 'MooseX::Getopt::GLD') called at C:\strawberry180\cpan\build\Moose-2.1210-p2cyuS/blib/lib/Moose/Exporter.pm line 405
	Moose::Role::with('MooseX::Getopt::GLD') called at C:/strawberry180/perl/site/lib/MooseX/Getopt.pm line 14
	require MooseX/Getopt.pm called at C:/strawberry180/perl/site/lib/MooseX/Types/Path/Class.pm line 35
	eval {...} called at C:/strawberry180/perl/site/lib/MooseX/Types/Path/Class.pm line 35
	require MooseX/Types/Path/Class.pm called at C:\strawberry180\cpan\build\OX-View-TT-0.02-GWdygq\blib\lib/OX/View/TT.pm line 9
	OX::View::TT::BEGIN() called at C:/strawberry180/perl/site/lib/MooseX/Getopt.pm line 0
	eval {...} called at C:/strawberry180/perl/site/lib/MooseX/Getopt.pm line 0
	require OX/View/TT.pm called at C:\strawberry180\cpan\build\Module-Runtime-0.014-z50gag/blib/lib/Module/Runtime.pm line 317
	Module::Runtime::require_module('OX::View::TT') called at C:/strawberry180/perl/vendor/lib/Class/Load.pm line 177
	Class::Load::__ANON__() called at C:/strawberry180/perl/vendor/lib/Try/Tiny.pm line 71
	eval {...} called at C:/strawberry180/perl/vendor/lib/Try/Tiny.pm line 67
	Try::Tiny::try('CODE(0x2228c34)', 'Try::Tiny::Catch=REF(0x224ae9c)') called at C:/strawberry180/perl/vendor/lib/Class/Load.pm line 183
	Class::Load::try_load_class('OX::View::TT', undef) called at C:/strawberry180/perl/vendor/lib/Class/Load.pm line 38
	Class::Load::load_class('OX::View::TT') called at C:\strawberry180\cpan\build\Bread-Board-Declare-0.16-HJiQ7h/blib/lib/Bread/Board/Declare/Meta/Role/Attribute/Service.pm line 118
	Class::MOP::Class:::after('Moose::Meta::Class::__ANON__::SERIAL::24=HASH(0x224e084)', 'Moose::Meta::Class::__ANON__::SERIAL::13=HASH(0x20c58ec)') called at C:\strawberry180\cpan\build\Moose-2.1210-p2cyuS/blib/lib/Class/MOP/Method/Wrapped.pm line 58
	Class::MOP::Method::Wrapped::__ANON__('Moose::Meta::Class::__ANON__::SERIAL::24=HASH(0x224e084)', 'Moose::Meta::Class::__ANON__::SERIAL::13=HASH(0x20c58ec)') called at C:\strawberry180\cpan\build\Moose-2.1210-p2cyuS/blib/lib/Class/MOP/Method/Wrapped.pm line 89
	Moose::Meta::Class::__ANON__::SERIAL::24::attach_to_class('Moose::Meta::Class::__ANON__::SERIAL::24=HASH(0x224e084)', 'Moose::Meta::Class::__ANON__::SERIAL::13=HASH(0x20c58ec)') called at C:\strawberry180\cpan\build\Moose-2.1210-p2cyuS/blib/lib/Class/MOP/Class.pm line 889
	Class::MOP::Class::_attach_attribute('Moose::Meta::Class::__ANON__::SERIAL::13=HASH(0x20c58ec)', 'Moose::Meta::Class::__ANON__::SERIAL::24=HASH(0x224e084)') called at C:\strawberry180\cpan\build\Moose-2.1210-p2cyuS/blib/lib/Class/MOP/Mixin/HasAttributes.pm line 24
	Class::MOP::Mixin::HasAttributes::add_attribute('Moose::Meta::Class::__ANON__::SERIAL::13=HASH(0x20c58ec)', 'Moose::Meta::Class::__ANON__::SERIAL::24=HASH(0x224e084)') called at C:\strawberry180\cpan\build\Moose-2.1210-p2cyuS/blib/lib/Moose/Meta/Class.pm line 576
	Moose::Meta::Class::add_attribute('Moose::Meta::Class::__ANON__::SERIAL::13=HASH(0x20c58ec)', 'view', 'definition_context', 'HASH(0x99b984)', 'is', 'ro', 'isa', 'OX::View::TT', 'dependencies', ...) called at C:\strawberry180\cpan\build\Moose-2.1210-p2cyuS/blib/lib/Moose.pm line 77
	Moose::has('Moose::Meta::Class::__ANON__::SERIAL::13=HASH(0x20c58ec)', 'view', 'is', 'ro', 'isa', 'OX::View::TT', 'dependencies', 'ARRAY(0x3fa254)') called at C:\strawberry180\cpan\build\Moose-2.1210-p2cyuS/blib/lib/Moose/Exporter.pm line 405
	Moose::has('view', 'is', 'ro', 'isa', 'OX::View::TT', 'dependencies', 'ARRAY(0x3fa254)') called at t/basic.t line 45
Class::MOP::load_class is deprecated at C:\strawberry180\cpan\build\Moose-2.1210-p2cyuS/blib/lib/Class/MOP.pm line 71.
	Class::MOP::load_class('OX::View::TT') called at C:/strawberry180/perl/site/lib/Bread/Board/Service/WithClass.pm line 22
	Class::MOP::Class:::before('Bread::Board::Declare::ConstructorInjection=HASH(0x27597f4)') called at C:\strawberry180\cpan\build\Moose-2.1210-p2cyuS/blib/lib/Class/MOP/Method/Wrapped.pm line 28
	Class::MOP::Method::Wrapped::__ANON__('Bread::Board::Declare::ConstructorInjection=HASH(0x27597f4)') called at C:\strawberry180\cpan\build\Moose-2.1210-p2cyuS/blib/lib/Class/MOP/Method/Wrapped.pm line 89
	Bread::Board::ConstructorInjection::get('Bread::Board::Declare::ConstructorInjection=HASH(0x27597f4)') called at C:\strawberry180\cpan\build\Bread-Board-Declare-0.16-HJiQ7h/blib/lib/Bread/Board/Declare/Role/Service.pm line 31
	Class::MOP::Class:::around('CODE(0x199861c)', 'Bread::Board::Declare::ConstructorInjection=HASH(0x27597f4)') called at C:\strawberry180\cpan\build\Moose-2.1210-p2cyuS/blib/lib/Class/MOP/Method/Wrapped.pm line 160
	Class::MOP::Method::Wrapped::__ANON__('Bread::Board::Declare::ConstructorInjection=HASH(0x27597f4)') called at C:\strawberry180\cpan\build\Moose-2.1210-p2cyuS/blib/lib/Class/MOP/Method/Wrapped.pm line 89
	Bread::Board::Declare::ConstructorInjection::get('Bread::Board::Declare::ConstructorInjection=HASH(0x27597f4)') called at reader Foo::view (defined at t/basic.t line 45) line 11
	Foo::view('Foo=HASH(0x255cd04)') called at t/basic.t line 66
t/basic.t ............ ok
Passing a list of values to enum is deprecated. Enum values should be wrapped in an arrayref. at C:\strawberry180\cpan\build\Moose-2.1210-p2cyuS/blib/lib/Moose/Util/TypeConstraints.pm line 440.
	Moose::Util::TypeConstraints::enum('Bread::Board::Service::LifeCycles', 'Null', 'Singleton') called at C:/strawberry180/perl/site/lib/Bread/Board/Types.pm line 15
	require Bread/Board/Types.pm called at C:/strawberry180/perl/site/lib/Bread/Board.pm line 14
	Bread::Board::BEGIN() called at C:/strawberry180/perl/site/lib/Bread/Board/Types.pm line 0
	eval {...} called at C:/strawberry180/perl/site/lib/Bread/Board/Types.pm line 0
	require Bread/Board.pm called at C:\strawberry180\cpan\build\Bread-Board-Declare-0.16-HJiQ7h/blib/lib/Bread/Board/Declare.pm line 11
	Bread::Board::Declare::BEGIN() called at C:/strawberry180/perl/site/lib/Bread/Board/Types.pm line 0
	eval {...} called at C:/strawberry180/perl/site/lib/Bread/Board/Types.pm line 0
	require Bread/Board/Declare.pm called at C:\strawberry180\cpan\build\OX-0.14-1ea1Vo/blib/lib/OX.pm line 10
	OX::BEGIN() called at C:/strawberry180/perl/site/lib/Bread/Board/Types.pm line 0
	eval {...} called at C:/strawberry180/perl/site/lib/Bread/Board/Types.pm line 0
	require OX.pm called at t/mapping.t line 31
	Foo::BEGIN() called at C:/strawberry180/perl/site/lib/Bread/Board/Types.pm line 0
	eval {...} called at C:/strawberry180/perl/site/lib/Bread/Board/Types.pm line 0
Class::MOP::load_class is deprecated at C:\strawberry180\cpan\build\Moose-2.1210-p2cyuS/blib/lib/Class/MOP.pm line 71.
	Class::MOP::load_class('Plack::Component', 'HASH(0x2199c44)') called at C:/strawberry180/perl/vendor/lib/MooseX/NonMoose/Meta/Role/Class.pm line 247
	Class::MOP::Class:::around(undef, undef, 'Plack::Component') called at C:\strawberry180\cpan\build\Moose-2.1210-p2cyuS/blib/lib/Class/MOP/Method/Wrapped.pm line 160
	Class::MOP::Method::Wrapped::__ANON__('Moose::Meta::Class::__ANON__::SERIAL::22=HASH(0x2193784)', 'Plack::Component') called at C:\strawberry180\cpan\build\Moose-2.1210-p2cyuS/blib/lib/Class/MOP/Method/Wrapped.pm line 89
	Moose::Meta::Class::__ANON__::SERIAL::22::superclasses('Moose::Meta::Class::__ANON__::SERIAL::22=HASH(0x2193784)', 'Plack::Component') called at C:\strawberry180\cpan\build\Moose-2.1210-p2cyuS/blib/lib/Moose.pm line 56
	Moose::extends('Moose::Meta::Class::__ANON__::SERIAL::22=HASH(0x2193784)', 'Plack::Component') called at C:\strawberry180\cpan\build\Moose-2.1210-p2cyuS/blib/lib/Moose/Exporter.pm line 405
	Moose::extends('Plack::Component') called at C:\strawberry180\cpan\build\Plack-App-Path-Router-0.05-uALQ4s/blib/lib/Plack/App/Path/Router/Custom.pm line 12
	require Plack/App/Path/Router/Custom.pm called at C:\strawberry180\cpan\build\OX-0.14-1ea1Vo/blib/lib/OX/Application/Role/Router/Path/Router.pm line 10
	OX::Application::Role::Router::Path::Router::BEGIN() called at C:\strawberry180\cpan\build\Plack-App-Path-Router-0.05-uALQ4s/blib/lib/Plack/App/Path/Router/Custom.pm line 0
	eval {...} called at C:\strawberry180\cpan\build\Plack-App-Path-Router-0.05-uALQ4s/blib/lib/Plack/App/Path/Router/Custom.pm line 0
	require OX/Application/Role/Router/Path/Router.pm called at C:\strawberry180\cpan\build\Module-Runtime-0.014-z50gag/blib/lib/Module/Runtime.pm line 317
	Module::Runtime::require_module('OX::Application::Role::Router::Path::Router') called at C:\strawberry180\cpan\build\Module-Runtime-0.014-z50gag/blib/lib/Module/Runtime.pm line 348
	Module::Runtime::use_module('OX::Application::Role::Router::Path::Router') called at C:\strawberry180\cpan\build\Moose-2.1210-p2cyuS/blib/lib/Moose/Util.pm line 150
	Moose::Util::_apply_all_roles('Moose::Meta::Class=HASH(0x209bdf4)', undef, 'OX::Application::Role::Router::Path::Router', 'OX::Application::Role::RouteBuilder', 'OX::Application::Role::Sugar', 'Bread::Board::Declare::Role::Object') called at C:\strawberry180\cpan\build\Moose-2.1210-p2cyuS/blib/lib/Moose/Util.pm line 117
	Moose::Util::apply_all_roles('Moose::Meta::Class=HASH(0x209bdf4)', 'OX::Application::Role::Router::Path::Router', 'OX::Application::Role::RouteBuilder', 'OX::Application::Role::Sugar', 'Bread::Board::Declare::Role::Object') called at C:\strawberry180\cpan\build\Moose-2.1210-p2cyuS/blib/lib/Moose/Meta/Class.pm line 92
	Moose::Meta::Class::create('Moose::Meta::Class', 'Moose::Meta::Class::__ANON__::SERIAL::21', 'weaken', '', 'superclasses', 'ARRAY(0x20aa9b4)', 'roles', 'ARRAY(0x128b284)') called at C:\strawberry180\cpan\build\Moose-2.1210-p2cyuS/blib/lib/Class/MOP/Package.pm line 123
	Class::MOP::Package::create_anon('Moose::Meta::Class', 'superclasses', 'ARRAY(0x20aa9b4)', 'roles', 'ARRAY(0x128b284)', 'cache', 1) called at C:\strawberry180\cpan\build\Moose-2.1210-p2cyuS/blib/lib/Class/MOP/Class.pm line 473
	Class::MOP::Class::create_anon_class('Moose::Meta::Class', 'superclasses', 'ARRAY(0x20aa9b4)', 'roles', 'ARRAY(0x128b284)', 'cache', 1) called at C:\strawberry180\cpan\build\Moose-2.1210-p2cyuS/blib/lib/Moose/Util/MetaRole.pm line 113
	Moose::Util::MetaRole::_make_new_class('Foo', 'ARRAY(0x128b284)', 'ARRAY(0x20aa9b4)') called at C:\strawberry180\cpan\build\Moose-2.1210-p2cyuS/blib/lib/Moose/Util/MetaRole.pm line 90
	Moose::Util::MetaRole::apply_base_class_roles('for', 'Moose::Meta::Class=HASH(0x1e6cc74)', 'roles', 'ARRAY(0x128b284)') called at C:\strawberry180\cpan\build\Moose-2.1210-p2cyuS/blib/lib/Moose/Exporter.pm line 570
	Moose::Exporter::_apply_metaroles('Plack::App::Path::Router::Custom', 'ARRAY(0x1e6c98c)', 'CODE(0x11d4ec4)') called at C:\strawberry180\cpan\build\Moose-2.1210-p2cyuS/blib/lib/Moose/Exporter.pm line 483
	Moose::Exporter::__ANON__('OX') called at t/mapping.t line 31
	Foo::BEGIN() called at C:\strawberry180\cpan\build\Plack-App-Path-Router-0.05-uALQ4s/blib/lib/Plack/App/Path/Router/Custom.pm line 0
	eval {...} called at C:\strawberry180\cpan\build\Plack-App-Path-Router-0.05-uALQ4s/blib/lib/Plack/App/Path/Router/Custom.pm line 0
Class::MOP::load_class is deprecated at C:\strawberry180\cpan\build\Moose-2.1210-p2cyuS/blib/lib/Class/MOP.pm line 71.
	Class::MOP::load_class('MooseX::Role::Parameterized::Meta::Role::Parameterized') called at C:/strawberry180/perl/vendor/lib/MooseX/Role/Parameterized/Meta/Role/Parameterizable.pm line 60
	MooseX::Role::Parameterized::Meta::Role::Parameterizable::generate_role('MooseX::Role::Parameterized::Meta::Role::Parameterizable=HASH...', 'consumer', 'Moose::Meta::Role=HASH(0x22d6c2c)', 'parameters', 'HASH(0x230bdac)') called at C:/strawberry180/perl/vendor/lib/MooseX/Role/Parameterized/Meta/Role/Parameterizable.pm line 104
	MooseX::Role::Parameterized::Meta::Role::Parameterizable::apply('MooseX::Role::Parameterized::Meta::Role::Parameterizable=HASH...', 'Moose::Meta::Role=HASH(0x22d6c2c)') called at C:\strawberry180\cpan\build\Moose-2.1210-p2cyuS/blib/lib/Moose/Util.pm line 175
	Moose::Util::_apply_all_roles('Moose::Meta::Role=HASH(0x22d6c2c)', undef, 'MooseX::Getopt::GLD') called at C:\strawberry180\cpan\build\Moose-2.1210-p2cyuS/blib/lib/Moose/Util.pm line 117
	Moose::Util::apply_all_roles('Moose::Meta::Role=HASH(0x22d6c2c)', 'MooseX::Getopt::GLD') called at C:\strawberry180\cpan\build\Moose-2.1210-p2cyuS/blib/lib/Moose/Role.pm line 27
	Moose::Role::with('Moose::Meta::Role=HASH(0x22d6c2c)', 'MooseX::Getopt::GLD') called at C:\strawberry180\cpan\build\Moose-2.1210-p2cyuS/blib/lib/Moose/Exporter.pm line 405
	Moose::Role::with('MooseX::Getopt::GLD') called at C:/strawberry180/perl/site/lib/MooseX/Getopt.pm line 14
	require MooseX/Getopt.pm called at C:/strawberry180/perl/site/lib/MooseX/Types/Path/Class.pm line 35
	eval {...} called at C:/strawberry180/perl/site/lib/MooseX/Types/Path/Class.pm line 35
	require MooseX/Types/Path/Class.pm called at C:\strawberry180\cpan\build\OX-View-TT-0.02-GWdygq\blib\lib/OX/View/TT.pm line 9
	OX::View::TT::BEGIN() called at C:/strawberry180/perl/site/lib/MooseX/Getopt.pm line 0
	eval {...} called at C:/strawberry180/perl/site/lib/MooseX/Getopt.pm line 0
	require OX/View/TT.pm called at C:\strawberry180\cpan\build\Module-Runtime-0.014-z50gag/blib/lib/Module/Runtime.pm line 317
	Module::Runtime::require_module('OX::View::TT') called at C:/strawberry180/perl/vendor/lib/Class/Load.pm line 177
	Class::Load::__ANON__() called at C:/strawberry180/perl/vendor/lib/Try/Tiny.pm line 71
	eval {...} called at C:/strawberry180/perl/vendor/lib/Try/Tiny.pm line 67
	Try::Tiny::try('CODE(0x222107c)', 'Try::Tiny::Catch=REF(0x2249f14)') called at C:/strawberry180/perl/vendor/lib/Class/Load.pm line 183
	Class::Load::try_load_class('OX::View::TT', undef) called at C:/strawberry180/perl/vendor/lib/Class/Load.pm line 38
	Class::Load::load_class('OX::View::TT') called at C:\strawberry180\cpan\build\Bread-Board-Declare-0.16-HJiQ7h/blib/lib/Bread/Board/Declare/Meta/Role/Attribute/Service.pm line 118
	Class::MOP::Class:::after('Moose::Meta::Class::__ANON__::SERIAL::24=HASH(0x224a2ec)', 'Moose::Meta::Class::__ANON__::SERIAL::13=HASH(0x20c079c)') called at C:\strawberry180\cpan\build\Moose-2.1210-p2cyuS/blib/lib/Class/MOP/Method/Wrapped.pm line 58
	Class::MOP::Method::Wrapped::__ANON__('Moose::Meta::Class::__ANON__::SERIAL::24=HASH(0x224a2ec)', 'Moose::Meta::Class::__ANON__::SERIAL::13=HASH(0x20c079c)') called at C:\strawberry180\cpan\build\Moose-2.1210-p2cyuS/blib/lib/Class/MOP/Method/Wrapped.pm line 89
	Moose::Meta::Class::__ANON__::SERIAL::24::attach_to_class('Moose::Meta::Class::__ANON__::SERIAL::24=HASH(0x224a2ec)', 'Moose::Meta::Class::__ANON__::SERIAL::13=HASH(0x20c079c)') called at C:\strawberry180\cpan\build\Moose-2.1210-p2cyuS/blib/lib/Class/MOP/Class.pm line 889
	Class::MOP::Class::_attach_attribute('Moose::Meta::Class::__ANON__::SERIAL::13=HASH(0x20c079c)', 'Moose::Meta::Class::__ANON__::SERIAL::24=HASH(0x224a2ec)') called at C:\strawberry180\cpan\build\Moose-2.1210-p2cyuS/blib/lib/Class/MOP/Mixin/HasAttributes.pm line 24
	Class::MOP::Mixin::HasAttributes::add_attribute('Moose::Meta::Class::__ANON__::SERIAL::13=HASH(0x20c079c)', 'Moose::Meta::Class::__ANON__::SERIAL::24=HASH(0x224a2ec)') called at C:\strawberry180\cpan\build\Moose-2.1210-p2cyuS/blib/lib/Moose/Meta/Class.pm line 576
	Moose::Meta::Class::add_attribute('Moose::Meta::Class::__ANON__::SERIAL::13=HASH(0x20c079c)', 'view', 'definition_context', 'HASH(0x99b984)', 'is', 'ro', 'isa', 'OX::View::TT', 'dependencies', ...) called at C:\strawberry180\cpan\build\Moose-2.1210-p2cyuS/blib/lib/Moose.pm line 77
	Moose::has('Moose::Meta::Class::__ANON__::SERIAL::13=HASH(0x20c079c)', 'view', 'is', 'ro', 'isa', 'OX::View::TT', 'dependencies', 'ARRAY(0x3fa254)') called at C:\strawberry180\cpan\build\Moose-2.1210-p2cyuS/blib/lib/Moose/Exporter.pm line 405
	Moose::has('view', 'is', 'ro', 'isa', 'OX::View::TT', 'dependencies', 'ARRAY(0x3fa254)') called at t/mapping.t line 41
Class::MOP::load_class is deprecated at C:\strawberry180\cpan\build\Moose-2.1210-p2cyuS/blib/lib/Class/MOP.pm line 71.
	Class::MOP::load_class('Path::Router') called at C:/strawberry180/perl/site/lib/Bread/Board/Service/WithClass.pm line 22
	Class::MOP::Class:::before('Bread::Board::BlockInjection=HASH(0x25a30f4)') called at C:\strawberry180\cpan\build\Moose-2.1210-p2cyuS/blib/lib/Class/MOP/Method/Wrapped.pm line 28
	Class::MOP::Method::Wrapped::__ANON__('Bread::Board::BlockInjection=HASH(0x25a30f4)') called at C:\strawberry180\cpan\build\Moose-2.1210-p2cyuS/blib/lib/Class/MOP/Method/Wrapped.pm line 89
	Bread::Board::BlockInjection::get('Bread::Board::BlockInjection=HASH(0x25a30f4)') called at C:/strawberry180/perl/site/lib/Bread/Board/Service/WithDependencies.pm line 93
	Bread::Board::Service::WithDependencies::__ANON__() called at C:/strawberry180/perl/vendor/lib/Try/Tiny.pm line 76
	eval {...} called at C:/strawberry180/perl/vendor/lib/Try/Tiny.pm line 67
	Try::Tiny::try('CODE(0x282d81c)', 'Try::Tiny::Finally=REF(0xf511c4)', 'Try::Tiny::Catch=REF(0x282d774)') called at C:/strawberry180/perl/site/lib/Bread/Board/Service/WithDependencies.pm line 99
	Bread::Board::Service::WithDependencies::resolve_dependencies('Bread::Board::BlockInjection=HASH(0x271c5ec)') called at C:/strawberry180/perl/site/lib/Bread/Board/Service/WithDependencies.pm line 41
	Class::MOP::Class:::around('CODE(0x17e0ab4)', 'Bread::Board::BlockInjection=HASH(0x271c5ec)') called at C:\strawberry180\cpan\build\Moose-2.1210-p2cyuS/blib/lib/Class/MOP/Method/Wrapped.pm line 160
	Class::MOP::Method::Wrapped::__ANON__('Bread::Board::BlockInjection=HASH(0x271c5ec)') called at C:\strawberry180\cpan\build\Moose-2.1210-p2cyuS/blib/lib/Class/MOP/Method/Wrapped.pm line 89
	Bread::Board::BlockInjection::init_params('Bread::Board::BlockInjection=HASH(0x271c5ec)') called at accessor Bread::Board::BlockInjection::params (defined at C:/strawberry180/perl/site/lib/Bread/Board/Service.pm line 18) line 10
	Bread::Board::BlockInjection::params('Bread::Board::BlockInjection=HASH(0x271c5ec)') called at C:/strawberry180/perl/site/lib/Bread/Board/Service/WithParameters.pm line 38
	Class::MOP::Class:::before('Bread::Board::BlockInjection=HASH(0x271c5ec)') called at C:\strawberry180\cpan\build\Moose-2.1210-p2cyuS/blib/lib/Class/MOP/Method/Wrapped.pm line 28
	Class::MOP::Method::Wrapped::__ANON__('Bread::Board::BlockInjection=HASH(0x271c5ec)') called at C:\strawberry180\cpan\build\Moose-2.1210-p2cyuS/blib/lib/Class/MOP/Method/Wrapped.pm line 89
	Bread::Board::BlockInjection::get('Bread::Board::BlockInjection=HASH(0x271c5ec)') called at C:/strawberry180/perl/site/lib/Bread/Board/Container.pm line 161
	Bread::Board::Container::resolve(undef, 'service', 'App') called at C:\strawberry180\cpan\build\OX-0.14-1ea1Vo/blib/lib/OX/Application.pm line 112
	OX::Application::to_app('Foo=HASH(0x2253674)') called at C:\strawberry180\cpan\build\OX-0.14-1ea1Vo/blib/lib/OX/Application/Role/Sugar.pm line 96
	Class::MOP::Class:::around('CODE(0x1ed27b4)', 'Foo=HASH(0x2253674)') called at C:\strawberry180\cpan\build\Moose-2.1210-p2cyuS/blib/lib/Class/MOP/Method/Wrapped.pm line 160
	Class::MOP::Method::Wrapped::__ANON__('Foo=HASH(0x2253674)') called at C:\strawberry180\cpan\build\Moose-2.1210-p2cyuS/blib/lib/Class/MOP/Method/Wrapped.pm line 89
	Moose::Meta::Class::__ANON__::SERIAL::21::to_app('Foo=HASH(0x2253674)') called at t/mapping.t line 70
t/mapping.t .......... ok
Passing a list of values to enum is deprecated. Enum values should be wrapped in an arrayref. at C:\strawberry180\cpan\build\Moose-2.1210-p2cyuS/blib/lib/Moose/Util/TypeConstraints.pm line 440.
	Moose::Util::TypeConstraints::enum('Bread::Board::Service::LifeCycles', 'Null', 'Singleton') called at C:/strawberry180/perl/site/lib/Bread/Board/Types.pm line 15
	require Bread/Board/Types.pm called at C:/strawberry180/perl/site/lib/Bread/Board.pm line 14
	Bread::Board::BEGIN() called at C:/strawberry180/perl/site/lib/Bread/Board/Types.pm line 0
	eval {...} called at C:/strawberry180/perl/site/lib/Bread/Board/Types.pm line 0
	require Bread/Board.pm called at C:\strawberry180\cpan\build\Bread-Board-Declare-0.16-HJiQ7h/blib/lib/Bread/Board/Declare.pm line 11
	Bread::Board::Declare::BEGIN() called at C:/strawberry180/perl/site/lib/Bread/Board/Types.pm line 0
	eval {...} called at C:/strawberry180/perl/site/lib/Bread/Board/Types.pm line 0
	require Bread/Board/Declare.pm called at C:\strawberry180\cpan\build\OX-0.14-1ea1Vo/blib/lib/OX.pm line 10
	OX::BEGIN() called at C:/strawberry180/perl/site/lib/Bread/Board/Types.pm line 0
	eval {...} called at C:/strawberry180/perl/site/lib/Bread/Board/Types.pm line 0
	require OX.pm called at t/route.t line 13
	Foo::BEGIN() called at C:/strawberry180/perl/site/lib/Bread/Board/Types.pm line 0
	eval {...} called at C:/strawberry180/perl/site/lib/Bread/Board/Types.pm line 0
Class::MOP::load_class is deprecated at C:\strawberry180\cpan\build\Moose-2.1210-p2cyuS/blib/lib/Class/MOP.pm line 71.
	Class::MOP::load_class('Plack::Component', 'HASH(0x219960c)') called at C:/strawberry180/perl/vendor/lib/MooseX/NonMoose/Meta/Role/Class.pm line 247
	Class::MOP::Class:::around(undef, undef, 'Plack::Component') called at C:\strawberry180\cpan\build\Moose-2.1210-p2cyuS/blib/lib/Class/MOP/Method/Wrapped.pm line 160
	Class::MOP::Method::Wrapped::__ANON__('Moose::Meta::Class::__ANON__::SERIAL::22=HASH(0x219fedc)', 'Plack::Component') called at C:\strawberry180\cpan\build\Moose-2.1210-p2cyuS/blib/lib/Class/MOP/Method/Wrapped.pm line 89
	Moose::Meta::Class::__ANON__::SERIAL::22::superclasses('Moose::Meta::Class::__ANON__::SERIAL::22=HASH(0x219fedc)', 'Plack::Component') called at C:\strawberry180\cpan\build\Moose-2.1210-p2cyuS/blib/lib/Moose.pm line 56
	Moose::extends('Moose::Meta::Class::__ANON__::SERIAL::22=HASH(0x219fedc)', 'Plack::Component') called at C:\strawberry180\cpan\build\Moose-2.1210-p2cyuS/blib/lib/Moose/Exporter.pm line 405
	Moose::extends('Plack::Component') called at C:\strawberry180\cpan\build\Plack-App-Path-Router-0.05-uALQ4s/blib/lib/Plack/App/Path/Router/Custom.pm line 12
	require Plack/App/Path/Router/Custom.pm called at C:\strawberry180\cpan\build\OX-0.14-1ea1Vo/blib/lib/OX/Application/Role/Router/Path/Router.pm line 10
	OX::Application::Role::Router::Path::Router::BEGIN() called at C:\strawberry180\cpan\build\Plack-App-Path-Router-0.05-uALQ4s/blib/lib/Plack/App/Path/Router/Custom.pm line 0
	eval {...} called at C:\strawberry180\cpan\build\Plack-App-Path-Router-0.05-uALQ4s/blib/lib/Plack/App/Path/Router/Custom.pm line 0
	require OX/Application/Role/Router/Path/Router.pm called at C:\strawberry180\cpan\build\Module-Runtime-0.014-z50gag/blib/lib/Module/Runtime.pm line 317
	Module::Runtime::require_module('OX::Application::Role::Router::Path::Router') called at C:\strawberry180\cpan\build\Module-Runtime-0.014-z50gag/blib/lib/Module/Runtime.pm line 348
	Module::Runtime::use_module('OX::Application::Role::Router::Path::Router') called at C:\strawberry180\cpan\build\Moose-2.1210-p2cyuS/blib/lib/Moose/Util.pm line 150
	Moose::Util::_apply_all_roles('Moose::Meta::Class=HASH(0x213b674)', undef, 'OX::Application::Role::Router::Path::Router', 'OX::Application::Role::RouteBuilder', 'OX::Application::Role::Sugar', 'Bread::Board::Declare::Role::Object') called at C:\strawberry180\cpan\build\Moose-2.1210-p2cyuS/blib/lib/Moose/Util.pm line 117
	Moose::Util::apply_all_roles('Moose::Meta::Class=HASH(0x213b674)', 'OX::Application::Role::Router::Path::Router', 'OX::Application::Role::RouteBuilder', 'OX::Application::Role::Sugar', 'Bread::Board::Declare::Role::Object') called at C:\strawberry180\cpan\build\Moose-2.1210-p2cyuS/blib/lib/Moose/Meta/Class.pm line 92
	Moose::Meta::Class::create('Moose::Meta::Class', 'Moose::Meta::Class::__ANON__::SERIAL::21', 'superclasses', 'ARRAY(0x213b644)', 'roles', 'ARRAY(0x127fddc)', 'weaken', '') called at C:\strawberry180\cpan\build\Moose-2.1210-p2cyuS/blib/lib/Class/MOP/Package.pm line 123
	Class::MOP::Package::create_anon('Moose::Meta::Class', 'superclasses', 'ARRAY(0x213b644)', 'roles', 'ARRAY(0x127fddc)', 'cache', 1) called at C:\strawberry180\cpan\build\Moose-2.1210-p2cyuS/blib/lib/Class/MOP/Class.pm line 473
	Class::MOP::Class::create_anon_class('Moose::Meta::Class', 'superclasses', 'ARRAY(0x213b644)', 'roles', 'ARRAY(0x127fddc)', 'cache', 1) called at C:\strawberry180\cpan\build\Moose-2.1210-p2cyuS/blib/lib/Moose/Util/MetaRole.pm line 113
	Moose::Util::MetaRole::_make_new_class('Foo', 'ARRAY(0x127fddc)', 'ARRAY(0x213b644)') called at C:\strawberry180\cpan\build\Moose-2.1210-p2cyuS/blib/lib/Moose/Util/MetaRole.pm line 90
	Moose::Util::MetaRole::apply_base_class_roles('for', 'Moose::Meta::Class=HASH(0x1e68c94)', 'roles', 'ARRAY(0x127fddc)') called at C:\strawberry180\cpan\build\Moose-2.1210-p2cyuS/blib/lib/Moose/Exporter.pm line 570
	Moose::Exporter::_apply_metaroles('Plack::App::Path::Router::Custom', 'ARRAY(0x1e6894c)', 'CODE(0x11cff94)') called at C:\strawberry180\cpan\build\Moose-2.1210-p2cyuS/blib/lib/Moose/Exporter.pm line 483
	Moose::Exporter::__ANON__('OX') called at t/route.t line 13
	Foo::BEGIN() called at C:\strawberry180\cpan\build\Plack-App-Path-Router-0.05-uALQ4s/blib/lib/Plack/App/Path/Router/Custom.pm line 0
	eval {...} called at C:\strawberry180\cpan\build\Plack-App-Path-Router-0.05-uALQ4s/blib/lib/Plack/App/Path/Router/Custom.pm line 0
Class::MOP::load_class is deprecated at C:\strawberry180\cpan\build\Moose-2.1210-p2cyuS/blib/lib/Class/MOP.pm line 71.
	Class::MOP::load_class('MooseX::Role::Parameterized::Meta::Role::Parameterized') called at C:/strawberry180/perl/vendor/lib/MooseX/Role/Parameterized/Meta/Role/Parameterizable.pm line 60
	MooseX::Role::Parameterized::Meta::Role::Parameterizable::generate_role('MooseX::Role::Parameterized::Meta::Role::Parameterizable=HASH...', 'consumer', 'Moose::Meta::Role=HASH(0x22edb14)', 'parameters', 'HASH(0x232c074)') called at C:/strawberry180/perl/vendor/lib/MooseX/Role/Parameterized/Meta/Role/Parameterizable.pm line 104
	MooseX::Role::Parameterized::Meta::Role::Parameterizable::apply('MooseX::Role::Parameterized::Meta::Role::Parameterizable=HASH...', 'Moose::Meta::Role=HASH(0x22edb14)') called at C:\strawberry180\cpan\build\Moose-2.1210-p2cyuS/blib/lib/Moose/Util.pm line 175
	Moose::Util::_apply_all_roles('Moose::Meta::Role=HASH(0x22edb14)', undef, 'MooseX::Getopt::GLD') called at C:\strawberry180\cpan\build\Moose-2.1210-p2cyuS/blib/lib/Moose/Util.pm line 117
	Moose::Util::apply_all_roles('Moose::Meta::Role=HASH(0x22edb14)', 'MooseX::Getopt::GLD') called at C:\strawberry180\cpan\build\Moose-2.1210-p2cyuS/blib/lib/Moose/Role.pm line 27
	Moose::Role::with('Moose::Meta::Role=HASH(0x22edb14)', 'MooseX::Getopt::GLD') called at C:\strawberry180\cpan\build\Moose-2.1210-p2cyuS/blib/lib/Moose/Exporter.pm line 405
	Moose::Role::with('MooseX::Getopt::GLD') called at C:/strawberry180/perl/site/lib/MooseX/Getopt.pm line 14
	require MooseX/Getopt.pm called at C:/strawberry180/perl/site/lib/MooseX/Types/Path/Class.pm line 35
	eval {...} called at C:/strawberry180/perl/site/lib/MooseX/Types/Path/Class.pm line 35
	require MooseX/Types/Path/Class.pm called at C:\strawberry180\cpan\build\OX-View-TT-0.02-GWdygq\blib\lib/OX/View/TT.pm line 9
	OX::View::TT::BEGIN() called at C:/strawberry180/perl/site/lib/MooseX/Getopt.pm line 0
	eval {...} called at C:/strawberry180/perl/site/lib/MooseX/Getopt.pm line 0
	require OX/View/TT.pm called at C:\strawberry180\cpan\build\Module-Runtime-0.014-z50gag/blib/lib/Module/Runtime.pm line 317
	Module::Runtime::require_module('OX::View::TT') called at C:/strawberry180/perl/vendor/lib/Class/Load.pm line 177
	Class::Load::__ANON__() called at C:/strawberry180/perl/vendor/lib/Try/Tiny.pm line 71
	eval {...} called at C:/strawberry180/perl/vendor/lib/Try/Tiny.pm line 67
	Try::Tiny::try('CODE(0x22380c4)', 'Try::Tiny::Catch=REF(0x225f35c)') called at C:/strawberry180/perl/vendor/lib/Class/Load.pm line 183
	Class::Load::try_load_class('OX::View::TT', undef) called at C:/strawberry180/perl/vendor/lib/Class/Load.pm line 38
	Class::Load::load_class('OX::View::TT') called at C:\strawberry180\cpan\build\Bread-Board-Declare-0.16-HJiQ7h/blib/lib/Bread/Board/Declare/Meta/Role/Attribute/Service.pm line 118
	Class::MOP::Class:::after('Moose::Meta::Class::__ANON__::SERIAL::24=HASH(0x2267194)', 'Moose::Meta::Class::__ANON__::SERIAL::13=HASH(0x213b5cc)') called at C:\strawberry180\cpan\build\Moose-2.1210-p2cyuS/blib/lib/Class/MOP/Method/Wrapped.pm line 58
	Class::MOP::Method::Wrapped::__ANON__('Moose::Meta::Class::__ANON__::SERIAL::24=HASH(0x2267194)', 'Moose::Meta::Class::__ANON__::SERIAL::13=HASH(0x213b5cc)') called at C:\strawberry180\cpan\build\Moose-2.1210-p2cyuS/blib/lib/Class/MOP/Method/Wrapped.pm line 89
	Moose::Meta::Class::__ANON__::SERIAL::24::attach_to_class('Moose::Meta::Class::__ANON__::SERIAL::24=HASH(0x2267194)', 'Moose::Meta::Class::__ANON__::SERIAL::13=HASH(0x213b5cc)') called at C:\strawberry180\cpan\build\Moose-2.1210-p2cyuS/blib/lib/Class/MOP/Class.pm line 889
	Class::MOP::Class::_attach_attribute('Moose::Meta::Class::__ANON__::SERIAL::13=HASH(0x213b5cc)', 'Moose::Meta::Class::__ANON__::SERIAL::24=HASH(0x2267194)') called at C:\strawberry180\cpan\build\Moose-2.1210-p2cyuS/blib/lib/Class/MOP/Mixin/HasAttributes.pm line 24
	Class::MOP::Mixin::HasAttributes::add_attribute('Moose::Meta::Class::__ANON__::SERIAL::13=HASH(0x213b5cc)', 'Moose::Meta::Class::__ANON__::SERIAL::24=HASH(0x2267194)') called at C:\strawberry180\cpan\build\Moose-2.1210-p2cyuS/blib/lib/Moose/Meta/Class.pm line 576
	Moose::Meta::Class::add_attribute('Moose::Meta::Class::__ANON__::SERIAL::13=HASH(0x213b5cc)', 'view', 'definition_context', 'HASH(0x3fa2b4)', 'is', 'ro', 'isa', 'OX::View::TT', 'dependencies', ...) called at C:\strawberry180\cpan\build\Moose-2.1210-p2cyuS/blib/lib/Moose.pm line 77
	Moose::has('Moose::Meta::Class::__ANON__::SERIAL::13=HASH(0x213b5cc)', 'view', 'is', 'ro', 'isa', 'OX::View::TT', 'dependencies', 'ARRAY(0x3f9c84)') called at C:\strawberry180\cpan\build\Moose-2.1210-p2cyuS/blib/lib/Moose/Exporter.pm line 405
	Moose::has('view', 'is', 'ro', 'isa', 'OX::View::TT', 'dependencies', 'ARRAY(0x3f9c84)') called at t/route.t line 23
Class::MOP::load_class is deprecated at C:\strawberry180\cpan\build\Moose-2.1210-p2cyuS/blib/lib/Class/MOP.pm line 71.
	Class::MOP::load_class('Path::Router') called at C:/strawberry180/perl/site/lib/Bread/Board/Service/WithClass.pm line 22
	Class::MOP::Class:::before('Bread::Board::BlockInjection=HASH(0x25bca14)') called at C:\strawberry180\cpan\build\Moose-2.1210-p2cyuS/blib/lib/Class/MOP/Method/Wrapped.pm line 28
	Class::MOP::Method::Wrapped::__ANON__('Bread::Board::BlockInjection=HASH(0x25bca14)') called at C:\strawberry180\cpan\build\Moose-2.1210-p2cyuS/blib/lib/Class/MOP/Method/Wrapped.pm line 89
	Bread::Board::BlockInjection::get('Bread::Board::BlockInjection=HASH(0x25bca14)') called at C:/strawberry180/perl/site/lib/Bread/Board/Service/WithDependencies.pm line 93
	Bread::Board::Service::WithDependencies::__ANON__() called at C:/strawberry180/perl/vendor/lib/Try/Tiny.pm line 76
	eval {...} called at C:/strawberry180/perl/vendor/lib/Try/Tiny.pm line 67
	Try::Tiny::try('CODE(0x283dee4)', 'Try::Tiny::Finally=REF(0xf74874)', 'Try::Tiny::Catch=REF(0x283df5c)') called at C:/strawberry180/perl/site/lib/Bread/Board/Service/WithDependencies.pm line 99
	Bread::Board::Service::WithDependencies::resolve_dependencies('Bread::Board::BlockInjection=HASH(0x272f54c)') called at C:/strawberry180/perl/site/lib/Bread/Board/Service/WithDependencies.pm line 41
	Class::MOP::Class:::around('CODE(0x15688f4)', 'Bread::Board::BlockInjection=HASH(0x272f54c)') called at C:\strawberry180\cpan\build\Moose-2.1210-p2cyuS/blib/lib/Class/MOP/Method/Wrapped.pm line 160
	Class::MOP::Method::Wrapped::__ANON__('Bread::Board::BlockInjection=HASH(0x272f54c)') called at C:\strawberry180\cpan\build\Moose-2.1210-p2cyuS/blib/lib/Class/MOP/Method/Wrapped.pm line 89
	Bread::Board::BlockInjection::init_params('Bread::Board::BlockInjection=HASH(0x272f54c)') called at accessor Bread::Board::BlockInjection::params (defined at C:/strawberry180/perl/site/lib/Bread/Board/Service.pm line 18) line 10
	Bread::Board::BlockInjection::params('Bread::Board::BlockInjection=HASH(0x272f54c)') called at C:/strawberry180/perl/site/lib/Bread/Board/Service/WithParameters.pm line 38
	Class::MOP::Class:::before('Bread::Board::BlockInjection=HASH(0x272f54c)') called at C:\strawberry180\cpan\build\Moose-2.1210-p2cyuS/blib/lib/Class/MOP/Method/Wrapped.pm line 28
	Class::MOP::Method::Wrapped::__ANON__('Bread::Board::BlockInjection=HASH(0x272f54c)') called at C:\strawberry180\cpan\build\Moose-2.1210-p2cyuS/blib/lib/Class/MOP/Method/Wrapped.pm line 89
	Bread::Board::BlockInjection::get('Bread::Board::BlockInjection=HASH(0x272f54c)') called at C:/strawberry180/perl/site/lib/Bread/Board/Container.pm line 161
	Bread::Board::Container::resolve(undef, 'service', 'App') called at C:\strawberry180\cpan\build\OX-0.14-1ea1Vo/blib/lib/OX/Application.pm line 112
	OX::Application::to_app('Foo=HASH(0x25849e4)') called at C:\strawberry180\cpan\build\OX-0.14-1ea1Vo/blib/lib/OX/Application/Role/Sugar.pm line 96
	Class::MOP::Class:::around('CODE(0x1ed1fec)', 'Foo=HASH(0x25849e4)') called at C:\strawberry180\cpan\build\Moose-2.1210-p2cyuS/blib/lib/Class/MOP/Method/Wrapped.pm line 160
	Class::MOP::Method::Wrapped::__ANON__('Foo=HASH(0x25849e4)') called at C:\strawberry180\cpan\build\Moose-2.1210-p2cyuS/blib/lib/Class/MOP/Method/Wrapped.pm line 89
	Moose::Meta::Class::__ANON__::SERIAL::21::to_app('Foo=HASH(0x25849e4)') called at t/route.t line 54
t/route.t ............ ok
All tests successful.
Files=5, Tests=24, 15 wallclock secs ( 0.07 usr +  0.04 sys =  0.11 CPU)
Result: PASS

------------------------------
PREREQUISITES
------------------------------

Prerequisite modules loaded:

requires:

    Module                     Need Have    
    -------------------------- ---- --------
    Moose                      0    2.1210  
    MooseX::Types::Path::Class 0    0.06    
    Template                   0    2.24    

build_requires:

    Module                     Need Have    
    -------------------------- ---- --------
    File::Spec                 0    3.40    
    FindBin                    0    1.51    
    HTTP::Request::Common      0    6.04    
    IO::Handle                 0    1.34    
    IPC::Open3                 0    1.13    
    OX                         0    0.14    
    Path::Class                0    0.32    
    Plack::Test                0    0       
    strict                     0    1.07    
    Test::More                 0.88 1.001003
    warnings                   0    1.18    

configure_requires:

    Module                     Need Have    
    -------------------------- ---- --------
    ExtUtils::MakeMaker        6.30 6.66    


------------------------------
ENVIRONMENT AND OTHER CONTEXT
------------------------------

Environment variables:

    AUTOMATED_TESTING = 1
    COMSPEC = C:\WINDOWS\system32\cmd.exe
    NUMBER_OF_PROCESSORS = 1
    PATH = C:\Program Files\Far Manager\;C:\WINDOWS\system32;C:\WINDOWS;C:\WINDOWS\System32\Wbem;C:\strawberry180\c\bin;C:\strawberry180\perl\site\bin;C:\strawberry180\perl\bin
    PERL5LIB = C:\strawberry180\cpan\build\OX-0.14-1ea1Vo/blib/arch;C:\strawberry180\cpan\build\OX-0.14-1ea1Vo/blib/lib;C:\strawberry180\cpan\build\Bread-Board-Declare-0.16-HJiQ7h/blib/arch;C:\strawberry180\cpan\build\Bread-Board-Declare-0.16-HJiQ7h/blib/lib;C:\strawberry180\cpan\build\Web-Request-0.11-YozdqR/blib/arch;C:\strawberry180\cpan\build\Web-Request-0.11-YozdqR/blib/lib;C:\strawberry180\cpan\build\Plack-App-Path-Router-0.05-uALQ4s/blib/arch;C:\strawberry180\cpan\build\Plack-App-Path-Router-0.05-uALQ4s/blib/lib;C:\strawberry180\cpan\build\Moose-2.1210-p2cyuS/blib/arch;C:\strawberry180\cpan\build\Moose-2.1210-p2cyuS/blib/lib;C:\strawberry180\cpan\build\Module-Runtime-0.014-z50gag/blib/arch;C:\strawberry180\cpan\build\Module-Runtime-0.014-z50gag/blib/lib;C:\strawberry180\cpan\build\CPAN-Meta-Check-0.009-iCuUe6/blib/arch;C:\strawberry180\cpan\build\CPAN-Meta-Check-0.009-iCuUe6/blib/lib;C:\strawberry180\cpan\build\CPAN-Meta-2.142060-Y095Gk/blib/arch;C:\strawberry180\cpan\build\CPAN-Meta-2.142060-Y095Gk/blib/lib;C:\strawberry180\cpan\build\Parse-CPAN-Meta-1.4414-7r7ZrI/blib/arch;C:\strawberry180\cpan\build\Parse-CPAN-Meta-1.4414-7r7ZrI/blib/lib;C:\strawberry180\cpan\build\CPAN-Meta-YAML-0.012-pheLPh/blib/arch;C:\strawberry180\cpan\build\CPAN-Meta-YAML-0.012-pheLPh/blib/lib;C:\strawberry180\cpan\build\Test-Simple-1.001003-hD9QF1/blib/arch;C:\strawberry180\cpan\build\Test-Simple-1.001003-hD9QF1/blib/lib;C:\strawberry180\cpan\build\Path-Router-0.12-MUYNJD/blib/arch;C:\strawberry180\cpan\build\Path-Router-0.12-MUYNJD/blib/lib
    PERL5OPT = 
    PERL5_CPANPLUS_IS_RUNNING = 172
    PERL5_CPAN_IS_RUNNING = 172
    PERL5_CPAN_IS_RUNNING_IN_RECURSION = 1008,172
    PERL_CR_SMOKER_CURRENT = OX-View-TT-0.02
    PERL_EXTUTILS_AUTOINSTALL = --defaultdeps
    PERL_MM_USE_DEFAULT = 1
    PROCESSOR_IDENTIFIER = x86 Family 16 Model 5 Stepping 3, AuthenticAMD
    TEMP = C:\DOCUME~1\c\LOCALS~1\Temp
    TERM = dumb

Perl special variables (and OS-specific diagnostics, for MSWin32):

    $^X = C:\strawberry180\perl\bin\perl.exe
    $UID/$EUID = 0 / 0
    $GID = 0
    $EGID = 0
    Win32::GetOSName = WinXP/.Net
    Win32::GetOSVersion = Service Pack 3, 5, 1, 2600, 2, 3, 0, 256, 1
    Win32::FsType = NTFS
    Win32::IsAdminUser = 1

Perl module toolchain versions installed:

    Module              Have    
    ------------------- --------
    CPAN                2.00    
    CPAN::Meta          2.142060
    Cwd                 3.40    
    ExtUtils::CBuilder  0.280210
    ExtUtils::Command   1.17    
    ExtUtils::Install   1.59    
    ExtUtils::MakeMaker 6.66    
    ExtUtils::Manifest  1.63    
    ExtUtils::ParseXS   3.18    
    File::Spec          3.40    
    JSON                2.57    
    JSON::PP            2.27202 
    Module::Build       0.4005  
    Module::Signature   n/a     
    Parse::CPAN::Meta   1.4414  
    Test::Harness       3.28    
    Test::More          1.001003
    YAML                0.84    
    YAML::Syck          1.27    
    version             0.9902  


--

Summary of my perl5 (revision 5 version 18 subversion 0) configuration:
   
  Platform:
    osname=MSWin32, osvers=4.0, archname=MSWin32-x86-multi-thread-64int
    uname='Win32 strawberry-perl 5.18.0.1 #1 Sat May 18 17:46:00 2013 i386'
    config_args='undef'
    hint=recommended, useposix=true, d_sigaction=undef
    useithreads=define, usemultiplicity=define
    useperlio=define, d_sfio=undef, uselargefiles=define, usesocks=undef
    use64bitint=define, use64bitall=undef, uselongdouble=undef
    usemymalloc=n, bincompat5005=undef
  Compiler:
    cc='gcc', ccflags =' -s -O2 -DWIN32  -DPERL_TEXTMODE_SCRIPTS -DPERL_IMPLICIT_CONTEXT -DPERL_IMPLICIT_SYS -DUSE_PERLIO -fno-strict-aliasing -mms-bitfields',
    optimize='-s -O2',
    cppflags='-DWIN32'
    ccversion='', gccversion='4.6.3', gccosandvers=''
    intsize=4, longsize=4, ptrsize=4, doublesize=8, byteorder=12345678
    d_longlong=define, longlongsize=8, d_longdbl=define, longdblsize=12
    ivtype='long long', ivsize=8, nvtype='double', nvsize=8, Off_t='long long', lseeksize=8
    alignbytes=8, prototype=define
  Linker and Libraries:
    ld='g++', ldflags ='-s -L"C:\strawberry180\perl\lib\CORE" -L"C:\strawberry180\c\lib"'
    libpth=C:\strawberry180\c\lib C:\strawberry180\c\i686-w64-mingw32\lib
    libs=-lmoldname -lkernel32 -luser32 -lgdi32 -lwinspool -lcomdlg32 -ladvapi32 -lshell32 -lole32 -loleaut32 -lnetapi32 -luuid -lws2_32 -lmpr -lwinmm -lversion -lodbc32 -lodbccp32 -lcomctl32
    perllibs=-lmoldname -lkernel32 -luser32 -lgdi32 -lwinspool -lcomdlg32 -ladvapi32 -lshell32 -lole32 -loleaut32 -lnetapi32 -luuid -lws2_32 -lmpr -lwinmm -lversion -lodbc32 -lodbccp32 -lcomctl32
    libc=, so=dll, useshrplib=true, libperl=libperl518.a
    gnulibc_version=''
  Dynamic Linking:
    dlsrc=dl_win32.xs, dlext=dll, d_dlsymun=undef, ccdlflags=' '
    cccdlflags=' ', lddlflags='-mdll -s -L"C:\strawberry180\perl\lib\CORE" -L"C:\strawberry180\c\lib"'


Characteristics of this binary (from libperl): 
  Compile-time options: HAS_TIMES HAVE_INTERP_INTERN MULTIPLICITY
                        PERLIO_LAYERS PERL_DONT_CREATE_GVSV
                        PERL_HASH_FUNC_ONE_AT_A_TIME_HARD
                        PERL_IMPLICIT_CONTEXT PERL_IMPLICIT_SYS
                        PERL_MALLOC_WRAP PERL_PRESERVE_IVUV PERL_SAWAMPERSAND
                        USE_64_BIT_INT USE_ITHREADS USE_LARGE_FILES
                        USE_LOCALE USE_LOCALE_COLLATE USE_LOCALE_CTYPE
                        USE_LOCALE_NUMERIC USE_PERLIO USE_PERL_ATOF
  Built under MSWin32
  Compiled at May 18 2013 17:53:14
  %ENV:
    PERL5LIB="C:\strawberry180\cpan\build\OX-0.14-1ea1Vo/blib/arch;C:\strawberry180\cpan\build\OX-0.14-1ea1Vo/blib/lib;C:\strawberry180\cpan\build\Bread-Board-Declare-0.16-HJiQ7h/blib/arch;C:\strawberry180\cpan\build\Bread-Board-Declare-0.16-HJiQ7h/blib/lib;C:\strawberry180\cpan\build\Web-Request-0.11-YozdqR/blib/arch;C:\strawberry180\cpan\build\Web-Request-0.11-YozdqR/blib/lib;C:\strawberry180\cpan\build\Plack-App-Path-Router-0.05-uALQ4s/blib/arch;C:\strawberry180\cpan\build\Plack-App-Path-Router-0.05-uALQ4s/blib/lib;C:\strawberry180\cpan\build\Moose-2.1210-p2cyuS/blib/arch;C:\strawberry180\cpan\build\Moose-2.1210-p2cyuS/blib/lib;C:\strawberry180\cpan\build\Module-Runtime-0.014-z50gag/blib/arch;C:\strawberry180\cpan\build\Module-Runtime-0.014-z50gag/blib/lib;C:\strawberry180\cpan\build\CPAN-Meta-Check-0.009-iCuUe6/blib/arch;C:\strawberry180\cpan\build\CPAN-Meta-Check-0.009-iCuUe6/blib/lib;C:\strawberry180\cpan\build\CPAN-Meta-2.142060-Y095Gk/blib/arch;C:\strawberry180\cpan\build\CPAN-Meta-2.142060-Y095Gk/blib/lib;C:\strawberry180\cpan\build\Parse-CPAN-Meta-1.4414-7r7ZrI/blib/arch;C:\strawberry180\cpan\build\Parse-CPAN-Meta-1.4414-7r7ZrI/blib/lib;C:\strawberry180\cpan\build\CPAN-Meta-YAML-0.012-pheLPh/blib/arch;C:\strawberry180\cpan\build\CPAN-Meta-YAML-0.012-pheLPh/blib/lib;C:\strawberry180\cpan\build\Test-Simple-1.001003-hD9QF1/blib/arch;C:\strawberry180\cpan\build\Test-Simple-1.001003-hD9QF1/blib/lib;C:\strawberry180\cpan\build\Path-Router-0.12-MUYNJD/blib/arch;C:\strawberry180\cpan\build\Path-Router-0.12-MUYNJD/blib/lib"
    PERL5_CPANPLUS_IS_RUNNING="172"
    PERL5_CPAN_IS_RUNNING="172"
    PERL5_CPAN_IS_RUNNING_IN_RECURSION="1008,172"
    PERL_CR_SMOKER_CURRENT="OX-View-TT-0.02"
    PERL_EXTUTILS_AUTOINSTALL="--defaultdeps"
    PERL_MM_USE_DEFAULT="1"
  @INC:
    C:\strawberry180\cpan\build\OX-0.14-1ea1Vo/blib/arch
    C:\strawberry180\cpan\build\OX-0.14-1ea1Vo/blib/lib
    C:\strawberry180\cpan\build\Bread-Board-Declare-0.16-HJiQ7h/blib/arch
    C:\strawberry180\cpan\build\Bread-Board-Declare-0.16-HJiQ7h/blib/lib
    C:\strawberry180\cpan\build\Web-Request-0.11-YozdqR/blib/arch
    C:\strawberry180\cpan\build\Web-Request-0.11-YozdqR/blib/lib
    C:\strawberry180\cpan\build\Plack-App-Path-Router-0.05-uALQ4s/blib/arch
    C:\strawberry180\cpan\build\Plack-App-Path-Router-0.05-uALQ4s/blib/lib
    C:\strawberry180\cpan\build\Moose-2.1210-p2cyuS/blib/arch
    C:\strawberry180\cpan\build\Moose-2.1210-p2cyuS/blib/lib
    C:\strawberry180\cpan\build\Module-Runtime-0.014-z50gag/blib/arch
    C:\strawberry180\cpan\build\Module-Runtime-0.014-z50gag/blib/lib
    C:\strawberry180\cpan\build\CPAN-Meta-Check-0.009-iCuUe6/blib/arch
    C:\strawberry180\cpan\build\CPAN-Meta-Check-0.009-iCuUe6/blib/lib
    C:\strawberry180\cpan\build\CPAN-Meta-2.142060-Y095Gk/blib/arch
    C:\strawberry180\cpan\build\CPAN-Meta-2.142060-Y095Gk/blib/lib
    C:\strawberry180\cpan\build\Parse-CPAN-Meta-1.4414-7r7ZrI/blib/arch
    C:\strawberry180\cpan\build\Parse-CPAN-Meta-1.4414-7r7ZrI/blib/lib
    C:\strawberry180\cpan\build\CPAN-Meta-YAML-0.012-pheLPh/blib/arch
    C:\strawberry180\cpan\build\CPAN-Meta-YAML-0.012-pheLPh/blib/lib
    C:\strawberry180\cpan\build\Test-Simple-1.001003-hD9QF1/blib/arch
    C:\strawberry180\cpan\build\Test-Simple-1.001003-hD9QF1/blib/lib
    C:\strawberry180\cpan\build\Path-Router-0.12-MUYNJD/blib/arch
    C:\strawberry180\cpan\build\Path-Router-0.12-MUYNJD/blib/lib
    C:/strawberry180/perl/site/lib
    C:/strawberry180/perl/vendor/lib
    C:/strawberry180/perl/lib
    .