Business-CyberSource v0.010008 Perl 5 v5.27.6 MSWin32-x86-multi-thread-64int
- Status
- Pass
- From
- Alexandr Ciornii (CHORNY)
- Dist
-
Business-CyberSource v0.010008
- Platform
- Perl 5 v5.27.6 MSWin32-x86-multi-thread-64int
- Date
- 2018-02-01 07:24:27
- ID
- 0953d398-6bf4-1014-a088-d1f5f087ee55
This distribution has been tested as part of the CPAN Testers
project, supporting the Perl programming language. See
http://wiki.cpantesters.org/ for more information or email
questions to cpan-testers-discuss@perl.org
--
Dear Allie Gator,
This is a computer-generated report for Business-CyberSource-0.010008
on perl 5.27.6, created by CPAN-Reporter-1.2018.
Thank you for uploading your work to CPAN. Congratulations!
All tests were successful.
Sections of this report:
* Tester comments
* Program output
* Prerequisites
* Environment and other context
------------------------------
TESTER COMMENTS
------------------------------
Additional comments from tester:
this report is from an automated smoke testing program
and was not reviewed by a human for accuracy
------------------------------
PROGRAM OUTPUT
------------------------------
Output from 'C:\STRAWB~1\c\bin\gmake.exe test':
Skip blib\lib\auto\share\dist\Business-CyberSource\test\CyberSourceTransaction_1_71.xsd (unchanged)
Skip blib\lib\auto\share\dist\Business-CyberSource\production\CyberSourceTransaction_1_71.xsd (unchanged)
Skip blib\lib\auto\share\dist\Business-CyberSource\production\CyberSourceTransaction_1_71.wsdl (unchanged)
Skip blib\lib\auto\share\dist\Business-CyberSource\test\CyberSourceTransaction_1_71.wsdl (unchanged)
"C:\Strawberry276\perl\bin\perl.exe" "-MExtUtils::Command::MM" "-MTest::Harness" "-e" "undef *Test::Harness::Switches; test_harness(0, 'blib\lib', 'blib\arch')" t/*.t
t/00-compile.t ............................. ok
#
# Versions for all modules listed in MYMETA.json (including optional ones):
#
# === Configure Requires ===
#
# Module Want Have
# ----------------------- ---- ----
# ExtUtils::MakeMaker any 7.30
# File::ShareDir::Install 0.06 0.11
#
# === Build Requires ===
#
# Module Want Have
# ------------------- ---- ----
# ExtUtils::MakeMaker any 7.30
#
# === Test Requires ===
#
# Module Want Have
# -------------------- ---- --------
# Business::CreditCard 0.32 0.36
# DateTime any 1.45
# ExtUtils::MakeMaker any 7.30
# File::Spec any 3.69
# FindBin any 1.51
# IO::Handle any 1.37
# IPC::Open3 any 1.20
# Test::Deep any 1.127
# Test::Fatal any 0.014
# Test::Method any 0.001002
# Test::Moose any 2.2009
# Test::More any 1.302120
# Test::Requires any 0.10
# blib 1.01 1.07
# lib any 0.64
#
# === Test Recommends ===
#
# Module Want Have
# ------------ -------- --------
# Bread::Board 0.25 0.36
# CPAN::Meta 2.120900 2.150010
#
# === Runtime Requires ===
#
# Module Want Have
# -------------------------------------------- -------- --------
# Business::CreditCard 0.32 0.36
# DateTime::Format::W3CDTF 0.06 0.07
# File::ShareDir::ProjectDistDir 1.000 1.000009
# LWP::Protocol::https any 6.07
# Module::Load any 0.32
# Module::Runtime any 0.016
# Moose any 2.2009
# Moose::Exception any 2.2009
# Moose::Exception::AttributeIsRequired any 2.2009
# Moose::Role any 2.2009
# Moose::Util any 2.2009
# Moose::Util::TypeConstraints any 2.2009
# MooseX::AbstractFactory any 0.004003
# MooseX::Aliases any 0.11
# MooseX::RemoteHelper any 0.001021
# MooseX::RemoteHelper::CompositeSerialization any 0.001021
# MooseX::RemoteHelper::Types any 0.001021
# MooseX::SetOnce 0.200001 0.200002
# MooseX::Types any 0.50
# MooseX::Types::Common::Numeric 0.001003 0.001014
# MooseX::Types::Common::String 0.001005 0.001014
# MooseX::Types::CreditCard 0.002 0.002003
# MooseX::Types::DateTime any 0.13
# MooseX::Types::DateTime::W3C any 1.103360
# MooseX::Types::Email any 0.007
# MooseX::Types::Locale::Country any 0.05
# MooseX::Types::Locale::Currency any 0.001005
# MooseX::Types::Moose any 0.50
# MooseX::Types::NetAddr::IP any 0.07
# MooseY::RemoteHelper::MessagePart any 0.001021
# MooseY::RemoteHelper::Role::Client any 0.001021
# Type::Params any 1.002001
# Type::Utils 0.040 1.002001
# Types::Standard any 1.002001
# XML::Compile::SOAP11 any 3.22
# XML::Compile::SOAP::WSS 1.04 1.14
# XML::Compile::Transport::SOAPHTTP any 3.22
# XML::Compile::WSDL11 any 3.06
# namespace::autoclean any 0.28
# strict any 1.11
# warnings any 1.38
#
t/00-report-prereqs.t ...................... ok
t/auth-reversal.t .......................... ok
street deprecated check the perldoc for the actual attribute at C:/Strawberry276/perl/site/lib/Class/MOP/Method/Wrapped.pm line 164.
street deprecated check the perldoc for the actual attribute at C:/Strawberry276/perl/site/lib/Class/MOP/Method/Wrapped.pm line 164.
street deprecated check the perldoc for the actual attribute at C:/Strawberry276/perl/site/lib/Class/MOP/Method/Wrapped.pm line 164.
t/authorization.t .......................... ok
street deprecated check the perldoc for the actual attribute at C:/Strawberry276/perl/site/lib/Class/MOP/Method/Wrapped.pm line 164.
zip deprecated check the perldoc for the actual attribute at C:/Strawberry276/perl/site/lib/Class/MOP/Method/Wrapped.pm line 164.
street deprecated check the perldoc for the actual attribute at C:/Strawberry276/perl/site/lib/Class/MOP/Method/Wrapped.pm line 164.
street deprecated check the perldoc for the actual attribute at C:/Strawberry276/perl/site/lib/Class/MOP/Method/Wrapped.pm line 164.
t/billto-exceptions.t ...................... ok
t/billto.t ................................. ok
t/business-rules.t ......................... ok
t/capture.t ................................ ok
t/card.t ................................... ok
t/client.t ................................. ok
street deprecated check the perldoc for the actual attribute at C:/Strawberry276/perl/site/lib/Class/MOP/Method/Wrapped.pm line 164.
t/credit.t ................................. ok
t/dcc-autorization.t ....................... ok
t/dcc.t .................................... ok
t/error-exception.t ........................ ok
street deprecated check the perldoc for the actual attribute at C:/Strawberry276/perl/site/lib/Class/MOP/Method/Wrapped.pm line 164.
t/exceptions.t ............................. ok
t/factory-request.t ........................ ok
t/invoiceheader.t .......................... ok
t/item-serialization.t ..................... ok
t/items.t .................................. ok
t/othertax.t ............................... ok
t/purchase-totals.t ........................ ok
t/response-removed-methods-successfully.t .. ok
t/response-sale.t .......................... ok
t/response.t ............................... ok
t/rule-expired-card.t ...................... skipped: Unable to send with fake credentials. Set both PERL_BUSINESS_CYBERSOURCE_USERNAME and PERL_BUSINESS_CYBERSOURCE_PASSWORD in the environment
t/rule-request-id-is-zero.t ................ skipped: Unable to send with fake credentials. Set both PERL_BUSINESS_CYBERSOURCE_USERNAME and PERL_BUSINESS_CYBERSOURCE_PASSWORD in the environment
t/service.t ................................ ok
t/shipfrom.t ............................... ok
t/shipto-exceptions.t ...................... ok
t/shipto.t ................................. ok
All tests successful.
Files=30, Tests=313, 244 wallclock secs ( 0.13 usr + 0.20 sys = 0.33 CPU)
Result: PASS
------------------------------
PREREQUISITES
------------------------------
Prerequisite modules loaded:
requires:
Module Need Have
-------------------------------------------- -------- --------
Business::CreditCard 0.32 0.36
DateTime::Format::W3CDTF 0.06 0.07
File::ShareDir::ProjectDistDir 1.000 1.000009
LWP::Protocol::https 0 6.07
Module::Load 0 0.32
Module::Runtime 0 0.016
Moose 0 2.2009
Moose::Exception 0 2.2009
Moose::Exception::AttributeIsRequired 0 2.2009
Moose::Role 0 2.2009
Moose::Util 0 2.2009
Moose::Util::TypeConstraints 0 2.2009
MooseX::AbstractFactory 0 0.004003
MooseX::Aliases 0 0.11
MooseX::RemoteHelper 0 0.001021
MooseX::RemoteHelper::CompositeSerialization 0 0.001021
MooseX::RemoteHelper::Types 0 0.001021
MooseX::SetOnce 0.200001 0.200002
MooseX::Types 0 0.50
MooseX::Types::Common::Numeric 0.001003 0.001014
MooseX::Types::Common::String 0.001005 0.001014
MooseX::Types::CreditCard 0.002 0.002003
MooseX::Types::DateTime 0 0.13
MooseX::Types::DateTime::W3C 0 1.103360
MooseX::Types::Email 0 0.007
MooseX::Types::Locale::Country 0 0.05
MooseX::Types::Locale::Currency 0 0.001005
MooseX::Types::Moose 0 0.50
MooseX::Types::NetAddr::IP 0 0.07
MooseY::RemoteHelper::MessagePart 0 0.001021
MooseY::RemoteHelper::Role::Client 0 0.001021
namespace::autoclean 0 0.28
perl 5.010 5.027006
strict 0 1.11
Type::Params 0 1.002001
Type::Utils 0.040 1.002001
Types::Standard 0 1.002001
warnings 0 1.38
XML::Compile::SOAP11 0 3.22
XML::Compile::SOAP::WSS 1.04 1.14
XML::Compile::Transport::SOAPHTTP 0 3.22
XML::Compile::WSDL11 0 3.06
build_requires:
Module Need Have
-------------------------------------------- -------- --------
blib 1.01 1.07
Business::CreditCard 0.32 0.36
DateTime 0 1.45
ExtUtils::MakeMaker 0 7.30
File::Spec 0 3.69
FindBin 0 1.51
IO::Handle 0 1.37
IPC::Open3 0 1.20
lib 0 0.64
Test::Deep 0 1.127
Test::Fatal 0 0.014
Test::Method 0 0.001002
Test::Moose 0 2.2009
Test::More 0 1.302120
Test::Requires 0 0.10
configure_requires:
Module Need Have
-------------------------------------------- -------- --------
ExtUtils::MakeMaker 0 7.30
File::ShareDir::Install 0.06 0.11
------------------------------
ENVIRONMENT AND OTHER CONTEXT
------------------------------
Environment variables:
AUTOMATED_TESTING = 1
COMSPEC = C:\WINDOWS\system32\cmd.exe
NONINTERACTIVE_TESTING = 1
NUMBER_OF_PROCESSORS = 1
PATH = C:\Program Files\Far Manager\;C:\WINDOWS\system32;C:\WINDOWS;C:\WINDOWS\System32\Wbem;C:\Git\cmd;C:\Strawberry276\c\bin;C:\Strawberry276\perl\site\bin;C:\Strawberry276\perl\bin
PERL5LIB =
PERL5OPT =
PERL5_CPANPLUS_IS_RUNNING = 384
PERL5_CPAN_IS_RUNNING = 384
PERL5_CPAN_IS_RUNNING_IN_RECURSION = 1000,384
PERL_CR_SMOKER_CURRENT = Business::CyberSource
PERL_EXTUTILS_AUTOINSTALL = --defaultdeps
PERL_MM_USE_DEFAULT = 1
PERL_USE_UNSAFE_INC = 1
PROCESSOR_IDENTIFIER = x86 Family 16 Model 5 Stepping 3, AuthenticAMD
TEMP = C:\DOCUME~1\a\LOCALS~1\Temp
Perl special variables (and OS-specific diagnostics, for MSWin32):
$^X = C:\Strawberry276\perl\bin\perl.exe
$UID/$EUID = 0 / 0
$GID = 0
$EGID = 0
Win32::GetOSName = WinXP/.Net
Win32::GetOSVersion = Service Pack 3, 5, 1, 2600, 2, 3, 0, 256, 1
Win32::FsType = NTFS
Win32::IsAdminUser = 1
Perl module toolchain versions installed:
Module Have
------------------- --------
CPAN 2.18
CPAN::Meta 2.150010
Cwd 3.70
ExtUtils::CBuilder 0.280230
ExtUtils::Command 7.30
ExtUtils::Install 2.14
ExtUtils::MakeMaker 7.30
ExtUtils::Manifest 1.70
ExtUtils::ParseXS 3.36
File::Spec 3.69
JSON 2.97001
JSON::PP 2.97001
Module::Build 0.4224
Module::Signature n/a
Parse::CPAN::Meta 2.150010
Test::Harness 3.39
Test::More 1.302120
YAML 1.24
YAML::Syck 1.30
version 0.9918
--
Summary of my perl5 (revision 5 version 27 subversion 6) configuration:
Platform:
osname=MSWin32
osvers=5.1.2600
archname=MSWin32-x86-multi-thread-64int
uname='Win32 strawberry-perl 5.27.6.1-beta1 #1 Fri Jan 26 07:14:15 2018 i386'
config_args='undef'
hint=recommended
useposix=true
d_sigaction=undef
useithreads=define
usemultiplicity=define
use64bitint=define
use64bitall=undef
uselongdouble=undef
usemymalloc=n
default_inc_excludes_dot=define
bincompat5005=undef
Compiler:
cc='gcc'
ccflags =' -s -O2 -DWIN32 -D__USE_MINGW_ANSI_STDIO -DPERL_TEXTMODE_SCRIPTS -DPERL_IMPLICIT_CONTEXT -DPERL_IMPLICIT_SYS -DUSE_PERLIO -fwrapv -fno-strict-aliasing -mms-bitfields'
optimize='-s -O2'
cppflags='-DWIN32'
ccversion=''
gccversion='7.1.0'
gccosandvers=''
intsize=4
longsize=4
ptrsize=4
doublesize=8
byteorder=12345678
doublekind=3
d_longlong=define
longlongsize=8
d_longdbl=define
longdblsize=12
longdblkind=3
ivtype='long long'
ivsize=8
nvtype='double'
nvsize=8
Off_t='long long'
lseeksize=8
alignbytes=8
prototype=define
Linker and Libraries:
ld='g++'
ldflags ='-s -L"C:\STRAWB~1\perl\lib\CORE" -L"C:\STRAWB~1\c\lib"'
libpth=C:\STRAWB~1\c\lib C:\STRAWB~1\c\i686-w64-mingw32\lib C:\STRAWB~1\c\lib\gcc\i686-w64-mingw32\7.1.0
libs= -lmoldname -lkernel32 -luser32 -lgdi32 -lwinspool -lcomdlg32 -ladvapi32 -lshell32 -lole32 -loleaut32 -lnetapi32 -luuid -lws2_32 -lmpr -lwinmm -lversion -lodbc32 -lodbccp32 -lcomctl32
perllibs= -lmoldname -lkernel32 -luser32 -lgdi32 -lwinspool -lcomdlg32 -ladvapi32 -lshell32 -lole32 -loleaut32 -lnetapi32 -luuid -lws2_32 -lmpr -lwinmm -lversion -lodbc32 -lodbccp32 -lcomctl32
libc=
so=dll
useshrplib=true
libperl=libperl527.a
gnulibc_version=''
Dynamic Linking:
dlsrc=dl_win32.xs
dlext=xs.dll
d_dlsymun=undef
ccdlflags=' '
cccdlflags=' '
lddlflags='-mdll -s -L"C:\STRAWB~1\perl\lib\CORE" -L"C:\STRAWB~1\c\lib"'
Characteristics of this binary (from libperl):
Compile-time options:
HAS_TIMES
HAVE_INTERP_INTERN
MULTIPLICITY
PERLIO_LAYERS
PERL_COPY_ON_WRITE
PERL_DONT_CREATE_GVSV
PERL_IMPLICIT_CONTEXT
PERL_IMPLICIT_SYS
PERL_MALLOC_WRAP
PERL_OP_PARENT
PERL_PRESERVE_IVUV
USE_64_BIT_INT
USE_ITHREADS
USE_LARGE_FILES
USE_LOCALE
USE_LOCALE_COLLATE
USE_LOCALE_CTYPE
USE_LOCALE_NUMERIC
USE_LOCALE_TIME
USE_PERLIO
USE_PERL_ATOF
Built under MSWin32
Compiled at Jan 26 2018 07:24:09
%ENV:
PERL5_CPANPLUS_IS_RUNNING="384"
PERL5_CPAN_IS_RUNNING="384"
PERL5_CPAN_IS_RUNNING_IN_RECURSION="1000,384"
PERL_CR_SMOKER_CURRENT="Business::CyberSource"
PERL_EXTUTILS_AUTOINSTALL="--defaultdeps"
PERL_MM_USE_DEFAULT="1"
PERL_USE_UNSAFE_INC="1"
@INC:
C:/Strawberry276/perl/site/lib
C:/Strawberry276/perl/vendor/lib
C:/Strawberry276/perl/lib
.