Math-NumSeq v75 Perl 5 v5.22.1 darwin-2level

Status
Pass
From
Neil Bowers
Dist
Math-NumSeq v75
Platform
Perl 5 v5.22.1 darwin-2level
Date
2022-06-06 14:43:31
ID
08cf1e52-e5a7-11ec-b057-c8fa54a9e914
This distribution has been tested as part of the CPAN Testers
project, supporting the Perl programming language.  See
http://wiki.cpantesters.org/ for more information or email
questions to cpan-testers-discuss@perl.org


--
Dear Kevin Ryde,

This is a computer-generated report for Math-NumSeq-75
on perl 5.22.1, created by CPAN-Reporter-1.2018.

Thank you for uploading your work to CPAN.  Congratulations!
All tests were successful.

Sections of this report:

    * Tester comments
    * Program output
    * Prerequisites
    * Environment and other context

------------------------------
TESTER COMMENTS
------------------------------

Additional comments from tester:

none provided

------------------------------
PROGRAM OUTPUT
------------------------------

Output from '/usr/bin/make test':

PERL_DL_NONLAZY=1 "/usr/local/perl/5221/bin/perl" "-MExtUtils::Command::MM" "-MTest::Harness" "-e" "undef *Test::Harness::Switches; test_harness(0, 'blib/lib', 'blib/arch')" t/*.t
t/Abundant.t ..................... ok
t/All.t .......................... ok
t/AsciiSelf.t .................... ok
t/BalancedBinary.t ............... ok
# Math::BigInt version 1.999826
t/bigint-preload.t ............... ok
t/Catalan.t ...................... ok
# uv_bits is 64
t/CollatzSteps.t ................. ok
# cbrt(27) is 3
# int() is 3
# equal is '1'
t/Cubes.t ........................ ok
t/DeletablePrimes.t .............. ok
t/DigitProduct.t ................. ok
t/DivisorCount.t ................. ok
t/Emirps.t ....................... ok
t/ErdosSelfridgeClass.t .......... ok
t/Even.t ......................... ok
t/Expression.t ................... ok
t/Factorials.t ................... ok
# big_calc 1968465517034375322200706745147694433505589739315889588670778928134523203878912
# big_conv 1968465517034375322200706745147694433505589739315889588670778928134523203878912
# nv is 1.96846551703438e+78
# ~0 is 18446744073709551615
# sprintf is 1968465517034375322200706745147694433505589739315889588670778928134523203878912
# _to_bigint(nv) is 1968465517034375322200706745147694433505589739315889588670778928134523203878912
# big & (big>>1) is 0
t/Fibbinary.t .................... ok
t/Fibonacci.t .................... ok
t/FibonacciRepresentations.t ..... ok
t/FibonacciWord.t ................ ok
t/File.t ......................... ok
t/FractionDigits-Catalogue.t ..... ok
# Math::BigInt version 1.999826
t/FractionDigits.t ............... ok
t/GolayRudinShapiroCumulative.t .. ok
t/GolombSequence.t ............... ok
t/HafermanCarpet.t ............... ok
# max_diff=530
t/HofstadterFigure.t ............. ok
t/LucasNumbers.t ................. ok
t/LuckyNumbers.t ................. ok
t/MephistoWaltz.t ................ ok
t/MobiusFunction.t ............... ok
t/Multiples.t .................... ok
t/NumSeq.t ....................... ok
t/Odd.t .......................... ok
t/OEIS-File.t .................... ok
t/OEIS.t ......................... ok
t/Pell.t ......................... ok
t/Perrin.t ....................... ok
t/PolignacObstinate.t ............ ok
t/PowerFlip.t .................... ok
t/Powerful.t ..................... ok
t/PrimeFactorsCount.t ............ ok
t/Primes.t ....................... ok
t/Pronic.t ....................... ok
t/ProthNumbers.t ................. ok
t/RepdigitAny.t .................. ok
t/RepdigitRadix.t ................ ok
t/Repdigits.t .................... ok
t/ReRound.t ...................... ok
# n type: Math::BigInt
# str   : 3377699871522813
# n str : 3377699871522813
# BigInt can(as_bin): CODE(0x7fb19ecb26b0)
# n as_bin(): 0b1100000000000000000000001000111111111111111111111101
# BigInt can(from_bin): CODE(0x7fb19eb175f8)
t/ReverseAdd.t ................... ok
t/Runs.t ......................... ok
t/SophieGermainPrimes.t .......... ok
t/SqrtContinued.t ................ ok
# Math::BigInt version 1.999826
t/SqrtDigits.t ................... ok
t/SqrtEngel.t .................... ok
t/Squares.t ...................... ok
t/Tetraheral.t ................... ok
t/Totient.t ...................... ok
t/TotientCumulative.t ............ ok
t/Triangular.t ................... ok
t/Tribonacci.t ................... ok
t/TwinPrimes.t ................... ok
t/UndulatingNumbers.t ............ ok
t/WoodallNumbers.t ............... ok
All tests successful.
Files=64, Tests=12297,  9 wallclock secs ( 0.37 usr  0.25 sys +  7.47 cusr  0.64 csys =  8.73 CPU)
Result: PASS

------------------------------
PREREQUISITES
------------------------------

Prerequisite modules loaded:

requires:

    Module              Need  Have    
    ------------------- ----- --------
    constant            1.02  1.33    
    constant::defer     1     6       
    File::HomeDir       0     1.00    
    File::Spec          0     3.75    
    File::Temp          0     0.2311  
    List::Util          0     1.59    
    Math::Factor::XS    0.40  0.40    
    Math::Libm          0     1.00    
    Math::Prime::XS     0.23  0.27    
    Module::Load        0     0.32    
    Module::Pluggable   0     5.2     
    Module::Util        0     1.09    
    perl                5.004 5.022001

build_requires:

    Module              Need  Have    
    ------------------- ----- --------
    ExtUtils::MakeMaker 0     7.62    
    Test                0     1.26    

configure_requires:

    Module              Need  Have    
    ------------------- ----- --------
    ExtUtils::MakeMaker 0     7.62    


------------------------------
ENVIRONMENT AND OTHER CONTEXT
------------------------------

Environment variables:

    NONINTERACTIVE_TESTING = 1
    PATH = /usr/local/apache/bin:/usr/local/bin:/opt/local/bin:/usr/local/bin:/usr/bin:/bin:/usr/sbin:/sbin:/Applications/VMware Fusion.app/Contents/Public:/usr/local/go/bin:/opt/X11/bin:/usr/local/git/bin
    PERL5LIB = 
    PERL5OPT = 
    PERL5_CPANPLUS_IS_RUNNING = 11249
    PERL5_CPAN_IS_RUNNING = 11249
    PERL_MM_USE_DEFAULT = 1
    SHELL = /bin/sh
    TERM = xterm

Perl special variables (and OS-specific diagnostics, for MSWin32):

    $^X = /usr/local/perl/5221/bin/perl
    $UID/$EUID = 0 / 0
    $GID = 0 0 1 2 3 4 5 8 9 12 20 29 61 80 33 98 100
    $EGID = 0 0 1 2 3 4 5 8 9 12 20 29 61 80 33 98 100

Perl module toolchain versions installed:

    Module              Have    
    ------------------- --------
    CPAN                2.11    
    CPAN::Meta          2.150010
    Cwd                 3.75    
    ExtUtils::CBuilder  0.280236
    ExtUtils::Command   7.62    
    ExtUtils::Install   2.06    
    ExtUtils::MakeMaker 7.62    
    ExtUtils::Manifest  1.70    
    ExtUtils::ParseXS   3.35    
    File::Spec          3.75    
    JSON                4.03    
    JSON::PP            4.06    
    Module::Build       0.4231  
    Module::Signature   n/a     
    Parse::CPAN::Meta   2.150010
    Test::Harness       3.44    
    Test::More          1.302188
    YAML                1.18    
    YAML::Syck          n/a     
    version             0.9929  


--

Summary of my perl5 (revision 5 version 22 subversion 1) configuration:
   
  Platform:
    osname=darwin, osvers=15.6.0, archname=darwin-2level
    uname='darwin tucumcari.home 15.6.0 darwin kernel version 15.6.0: thu jun 23 18:25:34 pdt 2016; root:xnu-3248.60.10~1release_x86_64 x86_64 '
    config_args=''
    hint=recommended, useposix=true, d_sigaction=define
    useithreads=undef, usemultiplicity=undef
    use64bitint=define, use64bitall=define, uselongdouble=undef
    usemymalloc=n, bincompat5005=undef
  Compiler:
    cc='gcc', ccflags ='-fno-common -DPERL_DARWIN -fno-strict-aliasing -pipe -fstack-protector-strong -I/usr/local/include -I/opt/local/include',
    optimize='-O3',
    cppflags='-fno-common -DPERL_DARWIN -fno-strict-aliasing -pipe -fstack-protector-strong -I/usr/local/include -I/opt/local/include'
    ccversion='', gccversion='4.2.1 Compatible Apple LLVM 7.0.2 (clang-700.1.81)', gccosandvers=''
    intsize=4, longsize=8, ptrsize=8, doublesize=8, byteorder=12345678, doublekind=3
    d_longlong=define, longlongsize=8, d_longdbl=define, longdblsize=16, longdblkind=3
    ivtype='long', ivsize=8, nvtype='double', nvsize=8, Off_t='off_t', lseeksize=8
    alignbytes=8, prototype=define
  Linker and Libraries:
    ld='env MACOSX_DEPLOYMENT_TARGET=10.3 gcc', ldflags =' -fstack-protector-strong -L/usr/local/lib -L/opt/local/lib'
    libpth=/Applications/Xcode.app/Contents/Developer/Toolchains/XcodeDefault.xctoolchain/usr/bin/../lib/clang/7.0.2/lib /Applications/Xcode.app/Contents/Developer/Toolchains/XcodeDefault.xctoolchain/usr/lib /Applications/Xcode.app/Contents/Developer/Platforms/MacOSX.platform/Developer/SDKs/MacOSX10.11.sdk/usr/lib /usr/local/lib /opt/local/lib /usr/lib
    libs=-lpthread -lgdbm -ldbm -ldl -lm -lutil -lc
    perllibs=-lpthread -ldl -lm -lutil -lc
    libc=, so=dylib, useshrplib=false, libperl=libperl.a
    gnulibc_version=''
  Dynamic Linking:
    dlsrc=dl_dlopen.xs, dlext=bundle, d_dlsymun=undef, ccdlflags=' '
    cccdlflags=' ', lddlflags=' -bundle -undefined dynamic_lookup -L/usr/local/lib -L/opt/local/lib -fstack-protector-strong'


Characteristics of this binary (from libperl): 
  Compile-time options: HAS_TIMES PERLIO_LAYERS PERL_DONT_CREATE_GVSV
                        PERL_HASH_FUNC_ONE_AT_A_TIME_HARD PERL_MALLOC_WRAP
                        PERL_NEW_COPY_ON_WRITE PERL_PRESERVE_IVUV
                        USE_64_BIT_ALL USE_64_BIT_INT USE_LARGE_FILES
                        USE_LOCALE USE_LOCALE_COLLATE USE_LOCALE_CTYPE
                        USE_LOCALE_NUMERIC USE_LOCALE_TIME USE_PERLIO
                        USE_PERL_ATOF
  Built under darwin
  Compiled at Jul 23 2016 10:22:08
  %ENV:
    PERL5LIB=""
    PERL5OPT=""
    PERL5_CPANPLUS_IS_RUNNING="11249"
    PERL5_CPAN_IS_RUNNING="11249"
    PERL_MM_USE_DEFAULT="1"
  @INC:
    /usr/local/perl/5221/lib/site_perl/5.22.1/darwin-2level
    /usr/local/perl/5221/lib/site_perl/5.22.1
    /usr/local/perl/5221/lib/5.22.1/darwin-2level
    /usr/local/perl/5221/lib/5.22.1
    .