Pod-Perldoc v3.28 Perl 5 v5.8.1 x86_64-dragonfly
- Status
- Pass
- From
- Nigel Horne
- Dist
-
Pod-Perldoc v3.28
- Platform
- Perl 5 v5.8.1 x86_64-dragonfly
- Date
- 2019-02-15 08:23:54
- ID
- 085859e8-30fb-11e9-bf31-80c71e9d5857
This distribution has been tested as part of the CPAN Testers
project, supporting the Perl programming language. See
http://wiki.cpantesters.org/ for more information or email
questions to cpan-testers-discuss@perl.org
--
Dear Mark Allen,
This is a computer-generated report for Pod-Perldoc-3.28
on perl 5.8.1, created by CPAN-Reporter-1.2018.
Thank you for uploading your work to CPAN. Congratulations!
All tests were successful.
Sections of this report:
* Tester comments
* Program output
* Prerequisites
* Environment and other context
------------------------------
TESTER COMMENTS
------------------------------
Additional comments from tester:
this report is from an automated smoke testing program
and was not reviewed by a human for accuracy
------------------------------
PROGRAM OUTPUT
------------------------------
Output from '/usr/bin/make test':
PERL_DL_NONLAZY=1 "/home/njh/perl5/perlbrew/perls/perl-5.8.1/bin/perl" "-MExtUtils::Command::MM" "-MTest::Harness" "-e" "undef *Test::Harness::Switches; test_harness(0, 'blib/lib', 'blib/arch')" t/*.t t/*/*.t
t/00_load.t ............... ok
t/01_about_verbose.t ...... ok
t/02_module_pod_output.t .. ok
Use of uninitialized value in scalar assignment at t/man/_get_columns.t line 48.
Use of uninitialized value in scalar assignment at t/man/_get_columns.t line 48.
Use of uninitialized value in scalar assignment at t/man/_get_columns.t line 48.
Use of uninitialized value in scalar assignment at t/man/_get_columns.t line 48.
Use of uninitialized value in scalar assignment at t/man/_get_columns.t line 48.
Use of uninitialized value in scalar assignment at t/man/_get_columns.t line 48.
Use of uninitialized value in scalar assignment at t/man/_get_columns.t line 48.
t/man/_get_columns.t ...... ok
t/pod.t ................... skipped: Pod tests not required for installation.
All tests successful.
Files=5, Tests=56, 2 wallclock secs ( 0.03 usr 0.04 sys + 0.54 cusr 0.28 csys = 0.89 CPU)
Result: PASS
------------------------------
PREREQUISITES
------------------------------
Prerequisite modules loaded:
requires:
Module Need Have
------------------------- ---- --------
Config 0 0
Encode 0 2.94
Fcntl 0 1.05
File::Spec::Functions 0 3.2701
File::Temp 0.22 0.22
IO::Select 0 1.16
parent 0 0.236
Pod::Man 2.18 4.11
Pod::Simple::RTF 3.16 3.35
Pod::Simple::XMLOutStream 3.16 3.35
Pod::Text 0 4.11
strict 0 1.03
Symbol 0 1.05
Test::More 0 1.302136
Text::ParseWords 0 3.30
warnings 0 1.03
build_requires:
Module Need Have
------------------------- ---- --------
ExtUtils::MakeMaker 0 7.30
configure_requires:
Module Need Have
------------------------- ---- --------
ExtUtils::MakeMaker 0 7.30
------------------------------
ENVIRONMENT AND OTHER CONTEXT
------------------------------
Environment variables:
AUTOMATED_TESTING = 1
NONINTERACTIVE_TESTING = 1
PATH = /home/njh/perl5/perlbrew/bin:/home/njh/perl5/perlbrew/perls/perl-5.8.1/bin:src/njh/smoker/bin:/bin:/sbin:/usr/bin:/usr/sbin:/usr/local/bin:/usr/local/sbin:/usr/pkg/bin:/usr/pkg/sbin
PERL5LIB = /home/njh/.cpan/build/Net-Ping-2.71-6/blib/arch:/home/njh/.cpan/build/Net-Ping-2.71-6/blib/lib:/home/njh/.cpan/build/Socket-2.027-6/blib/arch:/home/njh/.cpan/build/Socket-2.027-6/blib/lib:/home/njh/.cpan/build/ExtUtils-Constant-0.25-6/blib/arch:/home/njh/.cpan/build/ExtUtils-Constant-0.25-6/blib/lib:/home/njh/.cpan/build/Cpanel-JSON-XS-4.08-6/blib/arch:/home/njh/.cpan/build/Cpanel-JSON-XS-4.08-6/blib/lib
PERL5OPT =
PERL5_CPANPLUS_IS_RUNNING = 12054
PERL5_CPAN_IS_RUNNING = 12054
PERLBREW_HOME = /home/njh/.perlbrew
PERLBREW_MANPATH = /home/njh/perl5/perlbrew/perls/perl-5.8.1/man
PERLBREW_PATH = /home/njh/perl5/perlbrew/bin:/home/njh/perl5/perlbrew/perls/perl-5.8.1/bin
PERLBREW_PERL = perl-5.8.1
PERLBREW_ROOT = /home/njh/perl5/perlbrew
PERLBREW_SHELLRC_VERSION = 0.86
PERLBREW_VERSION = 0.86
PERL_MM_USE_DEFAULT = 1
PERL_USE_UNSAFE_INC = 1
SHELL = /bin/sh
TMPDIR = /tmp/testwrapper.12040
Perl special variables (and OS-specific diagnostics, for MSWin32):
$^X = /home/njh/perl5/perlbrew/perls/perl-5.8.1/bin/perl
$UID/$EUID = 1001 / 1001
$GID = 1001 0 1001
$EGID = 1001 0 1001
Perl module toolchain versions installed:
Module Have
------------------- --------
CPAN 2.22
CPAN::Meta 2.143240
Cwd 3.2701
ExtUtils::CBuilder 0.280230
ExtUtils::Command 7.30
ExtUtils::Install 2.06
ExtUtils::MakeMaker 7.30
ExtUtils::Manifest 1.70
ExtUtils::ParseXS 3.35
File::Spec 3.2701
JSON 4.01
JSON::PP 2.97001
Module::Build 0.32
Module::Signature n/a
Parse::CPAN::Meta 1.4414
Test::Harness 3.39
Test::More 1.302136
YAML 1.27
YAML::Syck 1.31
version 0.9918
--
Summary of my perl5 (revision 5.0 version 8 subversion 1) configuration:
Platform:
osname=dragonfly, osvers=5.0-release, archname=x86_64-dragonfly
uname='dragonfly david.bandsman.co.uk 5.0-release dragonfly v5.0.2-release #4: sun dec 3 17:42:25 est 2017 root@www.shiningsilence.com:usrobjhomejustinrelease5_0sysx86_64_generic x86_64 '
config_args='-de -Dprefix=/home/njh/perl5/perlbrew/perls/perl-5.8.1 -Aeval:scriptdir=/home/njh/perl5/perlbrew/perls/perl-5.8.1/bin'
hint=recommended, useposix=true, d_sigaction=define
usethreads=undef use5005threads=undef useithreads=undef usemultiplicity=undef
useperlio=define d_sfio=undef uselargefiles=define usesocks=undef
use64bitint=define use64bitall=define uselongdouble=undef
usemymalloc=n, bincompat5005=undef
Compiler:
cc='cc', ccflags ='-DHAS_FPSETMASK -DHAS_FLOATINGPOINT_H -fno-strict-aliasing -I/usr/local/include',
optimize='-O',
cppflags='-DHAS_FPSETMASK -DHAS_FLOATINGPOINT_H -fno-strict-aliasing -I/usr/local/include'
ccversion='', gccversion='5.4.1 [DragonFly] Release/2016-08-27', gccosandvers=''
intsize=4, longsize=8, ptrsize=8, doublesize=8, byteorder=12345678
d_longlong=define, longlongsize=8, d_longdbl=define, longdblsize=16
ivtype='long', ivsize=8, nvtype='double', nvsize=8, Off_t='off_t', lseeksize=8
alignbytes=8, prototype=define
Linker and Libraries:
ld='cc', ldflags ='-Wl,-E -L/usr/local/lib'
libpth=/usr/lib /usr/local/lib
libs=-ldl -lm -lcrypt -lutil -lc
perllibs=-ldl -lm -lcrypt -lutil -lc
libc=, so=so, useshrplib=false, libperl=libperl.a
gnulibc_version=''
Dynamic Linking:
dlsrc=dl_dlopen.xs, dlext=so, d_dlsymun=undef, ccdlflags=' '
cccdlflags='-DPIC -fPIC', lddlflags='-shared -L/usr/local/lib'
Characteristics of this binary (from libperl):
Compile-time options: USE_64_BIT_INT USE_64_BIT_ALL USE_LARGE_FILES
Locally applied patches:
Devel::PatchPerl 1.48
Built under dragonfly
Compiled at Jan 28 2018 11:55:39
%ENV:
PERL5LIB="/home/njh/.cpan/build/Net-Ping-2.71-6/blib/arch:/home/njh/.cpan/build/Net-Ping-2.71-6/blib/lib:/home/njh/.cpan/build/Socket-2.027-6/blib/arch:/home/njh/.cpan/build/Socket-2.027-6/blib/lib:/home/njh/.cpan/build/ExtUtils-Constant-0.25-6/blib/arch:/home/njh/.cpan/build/ExtUtils-Constant-0.25-6/blib/lib:/home/njh/.cpan/build/Cpanel-JSON-XS-4.08-6/blib/arch:/home/njh/.cpan/build/Cpanel-JSON-XS-4.08-6/blib/lib"
PERL5OPT=""
PERL5_CPANPLUS_IS_RUNNING="12054"
PERL5_CPAN_IS_RUNNING="12054"
PERLBREW_HOME="/home/njh/.perlbrew"
PERLBREW_MANPATH="/home/njh/perl5/perlbrew/perls/perl-5.8.1/man"
PERLBREW_PATH="/home/njh/perl5/perlbrew/bin:/home/njh/perl5/perlbrew/perls/perl-5.8.1/bin"
PERLBREW_PERL="perl-5.8.1"
PERLBREW_ROOT="/home/njh/perl5/perlbrew"
PERLBREW_SHELLRC_VERSION="0.86"
PERLBREW_VERSION="0.86"
PERL_MM_USE_DEFAULT="1"
PERL_USE_UNSAFE_INC="1"
@INC:
/home/njh/.cpan/build/Net-Ping-2.71-6/blib/arch
/home/njh/.cpan/build/Net-Ping-2.71-6/blib/lib
/home/njh/.cpan/build/Socket-2.027-6/blib/arch
/home/njh/.cpan/build/Socket-2.027-6/blib/lib
/home/njh/.cpan/build/ExtUtils-Constant-0.25-6/blib/arch
/home/njh/.cpan/build/ExtUtils-Constant-0.25-6/blib/lib
/home/njh/.cpan/build/Cpanel-JSON-XS-4.08-6/blib/arch
/home/njh/.cpan/build/Cpanel-JSON-XS-4.08-6/blib/lib
/home/njh/perl5/perlbrew/perls/perl-5.8.1/lib/5.8.1/x86_64-dragonfly
/home/njh/perl5/perlbrew/perls/perl-5.8.1/lib/5.8.1
/home/njh/perl5/perlbrew/perls/perl-5.8.1/lib/site_perl/5.8.1/x86_64-dragonfly
/home/njh/perl5/perlbrew/perls/perl-5.8.1/lib/site_perl/5.8.1
/home/njh/perl5/perlbrew/perls/perl-5.8.1/lib/site_perl
.