App-perlbrew v1.01 Perl 5 v5.12.3 x86_64-linux
- Status
- Pass
- From
- Slaven Rezić
- Dist
-
App-perlbrew v1.01
- Platform
- Perl 5 v5.12.3 x86_64-linux
- Date
- 2025-05-14 20:57:22
- ID
- 082ed82c-3106-11f0-b8db-522f6e8775ea
This distribution has been tested as part of the CPAN Testers
project, supporting the Perl programming language. See
http://wiki.cpantesters.org/ for more information or email
questions to cpan-testers-discuss@perl.org
--
Dear Liu Kang Min,
This is a computer-generated report for App-perlbrew-1.01
on perl 5.12.3, created by CPAN-Reporter-1.2020.
Thank you for uploading your work to CPAN. Congratulations!
All tests were successful.
Sections of this report:
* Tester comments
* Program output
* Prerequisites
* Environment and other context
------------------------------
TESTER COMMENTS
------------------------------
Additional comments from tester:
none provided
------------------------------
PROGRAM OUTPUT
------------------------------
Output from './Build test':
t/00.load.t ............................... ok
t/01.options.t ............................ ok
t/02.format_perl_version.t ................ ok
t/03.test_get_available_versions.t ........ ok
t/04.find_available_perls.t ............... ok
t/05.get_current_perl.t ................... ok
t/06.installed_perls.t .................... skipped: No perl installation under PERLBREW_ROOT
t/07.argv.t ............................... ok
t/08.error_available.t .................... ok
t/08.error_install.t ...................... ok
t/08.error_install_blead.t ................ ok
t/08.error_install_cpanm.t ................ ok
t/08.error_install_cpm.t .................. ok
t/09.exit_status.t ........................ ok
t/10.resolve.t ............................ ok
t/11.editdist.t ........................... ok
t/11.root_from_arg.t ...................... ok
t/12.destdir.t ............................ ok
t/12.sitecustomize.t ...................... ok
# Workflow build 'when the given versionis not found is CPAN::Perl::Releases' is empty at t/13.perl_release.t around lines 27 -> 44.
t/13.perl_release.t ....................... ok
t/14.perl_version_parsing.t ............... ok
# /var/tmp/cpansmoker-1023/2025051420/gzSZ5wbD0c/build/test/test
t/15.no-reuse-build-dir.t ................. ok
t/16.release-detail.t ..................... ok
t/18.release-detail-perl-local.t .......... ok
t/18.release-detail-perl-remote.t ......... skipped: These tests send HTTP requests. Set env TEST_LIVE=1 to really run them.
# alias, available, clean, clone-modules, compgen, display-bashrc, display-cshrc, display-installation-failure-message, display-pristine-manpath, display-pristine-path, display-system-perl-executable, display-system-perl-shebang, download, env, exec, help, info, init, init-in-bash, install, install-cpanm, install-cpm, install-multiple, install-patchperl, lib, lib-create, lib-delete, lib-list, list, list-modules, make-pp, make-shim, off, self-install, self-upgrade, switch, switch-off, symlink-executables, uninstall, upgrade-perl, use, version
t/19.find_similar_commands.t .............. ok
t/app-perlbrew-path-installation.t ........ ok
t/app-perlbrew-path.t ..................... ok
t/bashrc_content.t ........................ ok
t/bashrc_executes.t ....................... ok
t/builddir.t .............................. ok
t/command-alias.t ......................... ok
t/command-available.t ..................... ok
t/command-clone-modules.t ................. ok
t/command-compgen.t ....................... ok
t/command-display-rc.t .................... ok
t/command-env.t ........................... ok
sort (...) interpreted as function at t/command-exec.t line 386.
sort (...) interpreted as function at t/command-exec.t line 410.
# Command [perl -E 'say 42'] terminated with exit code 3 ($? = 768) under the following perl environment:
# Command [perl -E 'say 42'] terminated with exit code 3 ($? = 768) under the following perl environment:
# Command [perl -E 'say 42'] terminated with exit code 7 ($? = 1792) under the following perl environment:
# Command [perl -E 'say 42'] terminated with exit code 3 ($? = 768) under the following perl environment:
# Command [perl -E 'say 42'] terminated with exit code 255 ($? = -1) under the following perl environment:
# Command [perl -E 'somesub 42'] terminated with exit code 7 ($? = 1792) under the following perl environment:
# format_info_output_value
t/command-exec.t .......................... ok
t/command-help.t .......................... ok
t/command-info.t .......................... ok
t/command-install-cpanm.t ................. ok
t/command-install-cpm.t ................... ok
t/command-install-from-archive.t .......... ok
t/command-install-patchperl.t ............. ok
t/command-install.t ....................... ok
t/command-lib.t ........................... ok
# Workflow build 'when `--no-decoration` is given' is empty at t/command-list.t around lines 90 -> 98.
t/command-list.t .......................... ok
#
# The content of shim:
# ----
# #!/usr/bin/zsh
# export PERL5LIB="/home/cpansand/.cpan/build/2025051420/App-perlbrew-1.01-0/blib/arch:/home/cpansand/.cpan/build/2025051420/App-perlbrew-1.01-0/blib/lib:/home/cpansand/.cpan/build/2025051420/Test2-Plugin-IOEvents-0.001001-0/blib/arch:/home/cpansand/.cpan/build/2025051420/Test2-Plugin-IOEvents-0.001001-0/blib/lib:/home/cpansand/.cpan/build/2025051420/Devel-PatchPerl-2.08-0/blib/arch:/home/cpansand/.cpan/build/2025051420/Devel-PatchPerl-2.08-0/blib/lib"
# unset PERLBREW_LIB
# export PERLBREW_MANPATH="/var/tmp/cpansmoker-1023/2025051420/bD0cRe8FnD/perls/perl-5.36.1/man"
# export PERLBREW_PATH="/var/tmp/cpansmoker-1023/2025051420/bD0cRe8FnD/bin:/var/tmp/cpansmoker-1023/2025051420/bD0cRe8FnD/perls/perl-5.36.1/bin"
# export PERLBREW_PERL="perl-5.36.1"
# export PERLBREW_ROOT="/var/tmp/cpansmoker-1023/2025051420/bD0cRe8FnD"
# export PERLBREW_VERSION="1.01"
# unset PERL_LOCAL_LIB_ROOT
#
# export PATH="/var/tmp/cpansmoker-1023/2025051420/bD0cRe8FnD/bin:/var/tmp/cpansmoker-1023/2025051420/bD0cRe8FnD/perls/perl-5.36.1/bin:/usr/local/bin:/usr/bin:/bin:/usr/local/sbin:/usr/sbin:/sbin:/home/cpansand/bin/linux-gnu:/home/cpansand/bin/sh:/home/cpansand/bin:/usr/games:/home/cpansand/devel:/home/eserte/src/srezic-misc/scripts"
#
# exec foo "$@"
#
#
# ----
#
# The content of shim:
# ----
# #!/usr/bin/zsh
# export PERL5LIB="/home/cpansand/.cpan/build/2025051420/App-perlbrew-1.01-0/blib/arch:/home/cpansand/.cpan/build/2025051420/App-perlbrew-1.01-0/blib/lib:/home/cpansand/.cpan/build/2025051420/Test2-Plugin-IOEvents-0.001001-0/blib/arch:/home/cpansand/.cpan/build/2025051420/Test2-Plugin-IOEvents-0.001001-0/blib/lib:/home/cpansand/.cpan/build/2025051420/Devel-PatchPerl-2.08-0/blib/arch:/home/cpansand/.cpan/build/2025051420/Devel-PatchPerl-2.08-0/blib/lib"
# unset PERLBREW_LIB
# export PERLBREW_MANPATH="/var/tmp/cpansmoker-1023/2025051420/bD0cRe8FnD/perls/perl-5.36.1/man"
# export PERLBREW_PATH="/var/tmp/cpansmoker-1023/2025051420/bD0cRe8FnD/bin:/var/tmp/cpansmoker-1023/2025051420/bD0cRe8FnD/perls/perl-5.36.1/bin"
# export PERLBREW_PERL="perl-5.36.1"
# export PERLBREW_ROOT="/var/tmp/cpansmoker-1023/2025051420/bD0cRe8FnD"
# export PERLBREW_VERSION="1.01"
# unset PERL_LOCAL_LIB_ROOT
#
# export PATH="/var/tmp/cpansmoker-1023/2025051420/bD0cRe8FnD/bin:/var/tmp/cpansmoker-1023/2025051420/bD0cRe8FnD/perls/perl-5.36.1/bin:/usr/local/bin:/usr/bin:/bin:/usr/local/sbin:/usr/sbin:/sbin:/home/cpansand/bin/linux-gnu:/home/cpansand/bin/sh:/home/cpansand/bin:/usr/games:/home/cpansand/devel:/home/eserte/src/srezic-misc/scripts"
#
# exec bar "$@"
#
#
# ----
t/command-make-shim.t ..................... ok
t/current_perl.t .......................... ok
t/current_shell.t ......................... ok
t/do_system.t ............................. ok
t/error-http_download-exec-error.t ........ ok
t/error-http_download-exit-nonzero.t ...... ok
t/error-http_download-param-validation.t .. ok
t/error-install-before-init.t ............. ok
t/failure-command-install-cpanm.t ......... ok
t/failure-command-install-cpm.t ........... ok
t/failure-command-install-patchperl.t ..... ok
t/home.t .................................. ok
t/http-program-control.t .................. ok
# PATH=/home/cpansand/.cpan/build/2025051420/App-perlbrew-1.01-0/t/fake-bin:/usr/local/bin:/usr/bin:/bin:/usr/local/sbin:/usr/sbin:/sbin:/home/cpansand/bin/linux-gnu:/home/cpansand/bin/sh:/home/cpansand/bin:/usr/games:/home/cpansand/devel:/home/eserte/src/srezic-misc/scripts
# curl = /home/cpansand/.cpan/build/2025051420/App-perlbrew-1.01-0/t/fake-bin/curl
t/http-ua-detect-non-curl.t ............... ok
t/http-ua-detect.t ........................ ok
t/http.t .................................. skipped: (no reason given)
t/installation-perlbrew.t ................. ok
t/installation.t .......................... ok
t/installation2.t ......................... ok
t/installation3.t ......................... ok
t/list_modules.t .......................... ok
t/sys.t ................................... ok
t/unit-files-are-the-same.t ............... ok
t/util-find-similar-tokens.t .............. ok
t/util-looks-like.t ....................... ok
All tests successful.
Files=72, Tests=241, 9 wallclock secs ( 0.19 usr 0.13 sys + 7.23 cusr 2.15 csys = 9.70 CPU)
Result: PASS
------------------------------
PREREQUISITES
------------------------------
Prerequisite modules loaded:
requires:
Module Need Have
------------------------- ---------- ----------
Capture::Tiny 0.48 0.50
CPAN::Perl::Releases 5.20240920 5.20250419
Devel::PatchPerl 2.08 2.08
ExtUtils::MakeMaker 7.22 7.70
File::Copy 0 2.18
File::Temp 0.2304 0.2311
JSON::PP 0 4.16
local::lib 2.000014 2.000029
Pod::Usage 1.69 2.05
build_requires:
Module Need Have
------------------------- ---------- ----------
File::Which 1.21 1.27
Path::Class 0.33 0.37
Test2::Plugin::IOEvents 0.001001 0.001001
Test2::Plugin::NoWarnings 0.10 0.10
Test2::V0 0.000163 1.302211
configure_requires:
Module Need Have
------------------------- ---------- ----------
Module::Build::Tiny 0.039 0.051
------------------------------
ENVIRONMENT AND OTHER CONTEXT
------------------------------
Environment variables:
LANG = en_US.UTF-8
PATH = /usr/local/bin:/usr/bin:/bin:/usr/local/sbin:/usr/sbin:/sbin:/home/cpansand/bin/linux-gnu:/home/cpansand/bin/sh:/home/cpansand/bin:/usr/games:/home/cpansand/devel:/home/eserte/src/srezic-misc/scripts
PERL5LIB = /home/cpansand/.cpan/build/2025051420/Test2-Plugin-IOEvents-0.001001-0/blib/arch:/home/cpansand/.cpan/build/2025051420/Test2-Plugin-IOEvents-0.001001-0/blib/lib:/home/cpansand/.cpan/build/2025051420/Devel-PatchPerl-2.08-0/blib/arch:/home/cpansand/.cpan/build/2025051420/Devel-PatchPerl-2.08-0/blib/lib
PERL5OPT =
PERL5_CPANPLUS_IS_RUNNING = 2364030
PERL5_CPAN_IS_RUNNING = 2364030
PERL5_CPAN_IS_RUNNING_IN_RECURSION = 2364012,2364030
PERLDOC = -MPod::Perldoc::ToTextOverstrike
PERL_BATCH = yes
PERL_CANARY_STABILITY_NOPROMPT = 1
PERL_CPAN_REPORTER_CONFIG = /var/tmp/cpansmoker-1023/2025051420/cpanreporter_000_config.ini
PERL_EXTUTILS_AUTOINSTALL = --defaultdeps
PERL_USE_UNSAFE_INC = 1
SHELL = /usr/bin/zsh
TERM = screen
TMPDIR = /var/tmp/cpansmoker-1023/2025051420
Perl special variables (and OS-specific diagnostics, for MSWin32):
$^X = /opt/perl-5.12.3/bin/perl
$UID/$EUID = 1023 / 1023
$GID = 1023 1023
$EGID = 1023 1023
Perl module toolchain versions installed:
Module Have
------------------- --------
CPAN 2.38
CPAN::Meta 2.150010
Cwd 3.75
ExtUtils::CBuilder 0.280236
ExtUtils::Command 7.70
ExtUtils::Install 2.06
ExtUtils::MakeMaker 7.70
ExtUtils::Manifest 1.70
ExtUtils::ParseXS 3.57
File::Spec 3.75
JSON 4.10
JSON::PP 4.16
Module::Build 0.4234
Module::Signature n/a
Parse::CPAN::Meta 2.150010
Test2 1.302211
Test::Harness 3.50
Test::More 1.302211
YAML 1.31
YAML::Syck 1.34
version 0.9933
--
Summary of my perl5 (revision 5 version 12 subversion 3) configuration:
Platform:
osname=linux, osvers=5.14.0-503.22.1.el9_5.x86_64, archname=x86_64-linux
uname='linux cloud1.bbbike.org 5.14.0-503.22.1.el9_5.x86_64 #1 smp preempt_dynamic wed jan 22 13:59:07 utc 2025 x86_64 x86_64 x86_64 gnulinux '
config_args='-ds -e -Dprefix=/opt/perl-5.12.3 -Uinstallusrbinperl -Dcf_email=srezic@cpan.org'
hint=recommended, useposix=true, d_sigaction=define
useithreads=undef, usemultiplicity=undef
useperlio=define, d_sfio=undef, uselargefiles=define, usesocks=undef
use64bitint=define, use64bitall=define, uselongdouble=undef
usemymalloc=n, bincompat5005=undef
Compiler:
cc='cc', ccflags ='-fwrapv -fno-strict-aliasing -pipe -fstack-protector -I/usr/local/include -D_LARGEFILE_SOURCE -D_FILE_OFFSET_BITS=64',
optimize='-O2',
cppflags='-fwrapv -fno-strict-aliasing -pipe -fstack-protector -I/usr/local/include'
ccversion='', gccversion='11.5.0 20240719 (Red Hat 11.5.0-2)', gccosandvers=''
intsize=4, longsize=8, ptrsize=8, doublesize=8, byteorder=12345678
d_longlong=define, longlongsize=8, d_longdbl=define, longdblsize=16
ivtype='long', ivsize=8, nvtype='double', nvsize=8, Off_t='off_t', lseeksize=8
alignbytes=8, prototype=define
Linker and Libraries:
ld='cc', ldflags =' -fstack-protector -L/usr/local/lib'
libpth=/usr/local/lib /lib/../lib64 /usr/lib/../lib64 /lib /usr/lib /lib64 /usr/lib64 /usr/local/lib64
libs=-ldb -ldl -lm -lcrypt -lutil -lc
perllibs=-ldl -lm -lcrypt -lutil -lc
libc=/lib/../lib64/libc.so.6, so=so, useshrplib=false, libperl=libperl.a
gnulibc_version='2.34'
Dynamic Linking:
dlsrc=dl_dlopen.xs, dlext=so, d_dlsymun=undef, ccdlflags='-Wl,-E'
cccdlflags='-fPIC', lddlflags='-shared -O2 -L/usr/local/lib -fstack-protector'
Characteristics of this binary (from libperl):
Compile-time options: PERL_DONT_CREATE_GVSV PERL_MALLOC_WRAP USE_64_BIT_ALL
USE_64_BIT_INT USE_LARGE_FILES USE_PERLIO
USE_PERL_ATOF
Locally applied patches:
Devel::PatchPerl 2.08
Built under linux
Compiled at Feb 1 2025 21:35:12
%ENV:
PERL5LIB="/home/cpansand/.cpan/build/2025051420/Test2-Plugin-IOEvents-0.001001-0/blib/arch:/home/cpansand/.cpan/build/2025051420/Test2-Plugin-IOEvents-0.001001-0/blib/lib:/home/cpansand/.cpan/build/2025051420/Devel-PatchPerl-2.08-0/blib/arch:/home/cpansand/.cpan/build/2025051420/Devel-PatchPerl-2.08-0/blib/lib"
PERL5OPT=""
PERL5_CPANPLUS_IS_RUNNING="2364030"
PERL5_CPAN_IS_RUNNING="2364030"
PERL5_CPAN_IS_RUNNING_IN_RECURSION="2364012,2364030"
PERLDOC="-MPod::Perldoc::ToTextOverstrike"
PERL_BATCH="yes"
PERL_CANARY_STABILITY_NOPROMPT="1"
PERL_CPAN_REPORTER_CONFIG="/var/tmp/cpansmoker-1023/2025051420/cpanreporter_000_config.ini"
PERL_EXTUTILS_AUTOINSTALL="--defaultdeps"
PERL_USE_UNSAFE_INC="1"
@INC:
/home/cpansand/.cpan/build/2025051420/Test2-Plugin-IOEvents-0.001001-0/blib/arch
/home/cpansand/.cpan/build/2025051420/Test2-Plugin-IOEvents-0.001001-0/blib/lib
/home/cpansand/.cpan/build/2025051420/Devel-PatchPerl-2.08-0/blib/arch
/home/cpansand/.cpan/build/2025051420/Devel-PatchPerl-2.08-0/blib/lib
/opt/perl-5.12.3/lib/site_perl/5.12.3/x86_64-linux
/opt/perl-5.12.3/lib/site_perl/5.12.3
/opt/perl-5.12.3/lib/5.12.3/x86_64-linux
/opt/perl-5.12.3/lib/5.12.3
.