CPANPLUS v0.9916 Perl 5 v5.36.3 x86_64-linux

Status
Pass
From
Slaven Rezić
Dist
CPANPLUS v0.9916
Platform
Perl 5 v5.36.3 x86_64-linux
Date
2025-02-16 23:16:20
ID
080a8b72-ecbc-11ef-b1ad-f7336e8775ea
This distribution has been tested as part of the CPAN Testers
project, supporting the Perl programming language.  See
http://wiki.cpantesters.org/ for more information or email
questions to cpan-testers-discuss@perl.org


--
Dear Chris Williams,

This is a computer-generated report for CPANPLUS-0.9916
on perl 5.36.3, created by CPAN-Reporter-1.2020.

Thank you for uploading your work to CPAN.  Congratulations!
All tests were successful.

Sections of this report:

    * Tester comments
    * Program output
    * Prerequisites
    * Environment and other context

------------------------------
TESTER COMMENTS
------------------------------

Additional comments from tester:

none provided

------------------------------
PROGRAM OUTPUT
------------------------------

Output from '/usr/bin/make test':

PERL_DL_NONLAZY=1 "/opt/perl-5.36.3/bin/perl" "-MExtUtils::Command::MM" "-MTest::Harness" "-e" "undef *Test::Harness::Switches; test_harness(0, 'inc', 'blib/lib', 'blib/arch')" t/*.t
t/08_CPANPLUS-Backend.t ....................... ok
t/00_CPANPLUS-Internals-Utils.t ............... ok
t/01_CPANPLUS-Configure.t ..................... ok
t/02_CPANPLUS-Internals.t ..................... ok
t/031_CPANPLUS-Internals-Source-SQLite.t ...... skipped: SQLite engine not available
t/032_CPANPLUS-Internals-Source-via-sqlite.t .. skipped: SQLite engine not available
t/03_CPANPLUS-Internals-Source.t .............. ok
t/04_CPANPLUS-Module.t ........................ ok
t/05_CPANPLUS-Internals-Fetch.t ............... ok
t/06_CPANPLUS-Internals-Constants.t ........... ok
t/07_CPANPLUS-Internals-Extract.t ............. ok
t/09_CPANPLUS-Internals-Search.t .............. ok
t/10_CPANPLUS-Error.t ......................... ok
t/15_CPANPLUS-Shell.t ......................... ok
t/19_CPANPLUS-Dist.t .......................... ok
t/20_CPANPLUS-Dist-MM.t ....................... ok
t/21_CPANPLUS-Dist-No-Build.t ................. ok
t/25_CPANPLUS.t ............................... ok
t/30_CPANPLUS-Internals-Selfupdate.t .......... ok
t/40_CPANPLUS-Internals-Report.t .............. ok
All tests successful.
Files=20, Tests=1708, 19 wallclock secs ( 0.16 usr  0.05 sys + 10.27 cusr  5.48 csys = 15.96 CPU)
Result: PASS

------------------------------
PREREQUISITES
------------------------------

Prerequisite modules loaded:

requires:

    Module                    Need    Have      
    ------------------------- ------- ----------
    Archive::Extract          0.16    0.88      
    Archive::Tar              1.23    2.40      
    Digest::SHA               0.0     6.02      
    ExtUtils::Install         1.42    2.20      
    File::Fetch               0.15_02 1.04      
    File::Spec                0.82    3.84      
    IO::Zlib                  1.04    1.11      
    IPC::Cmd                  0.36    1.04      
    Locale::Maketext::Simple  0.01    0.21_01   
    Log::Message              0.01    0.08      
    Module::CoreList          2.22    5.20231129
    Module::Load              0.10    0.36      
    Module::Load::Conditional 0.50    0.74      
    Module::Loaded            0.01    0.08      
    Module::Pluggable         2.4     6.3       
    Object::Accessor          0.44    0.48      
    Package::Constants        0.01    0.06      
    Params::Check             0.36    0.38      
    Parse::CPAN::Meta         1.4200  2.150010  
    Storable                  0.0     3.26      
    Term::UI                  0.18    0.50      
    Test::Harness             2.62    3.44      
    Test::More                0.47    1.302209  
    version                   0.77    0.9929    

build_requires:

    Module                    Need    Have      
    ------------------------- ------- ----------
    ExtUtils::MakeMaker       6.36    7.64      


------------------------------
ENVIRONMENT AND OTHER CONTEXT
------------------------------

Environment variables:

    LANG = en_US.UTF-8
    PATH = /usr/local/bin:/usr/bin:/bin:/usr/local/sbin:/usr/sbin:/sbin:/home/cpansand/bin/linux-gnu:/home/cpansand/bin/sh:/home/cpansand/bin:/usr/games:/home/cpansand/devel:/home/eserte/src/srezic-misc/scripts
    PERL5LIB = /home/cpansand/.cpan/build/2025021623/Term-UI-0.50-1/blib/arch:/home/cpansand/.cpan/build/2025021623/Term-UI-0.50-1/blib/lib:/home/cpansand/.cpan/build/2025021623/Log-Message-Simple-0.10-1/blib/arch:/home/cpansand/.cpan/build/2025021623/Log-Message-Simple-0.10-1/blib/lib:/home/cpansand/.cpan/build/2025021623/Package-Constants-0.06-3/blib/arch:/home/cpansand/.cpan/build/2025021623/Package-Constants-0.06-3/blib/lib:/home/cpansand/.cpan/build/2025021623/Object-Accessor-0.48-3/blib/arch:/home/cpansand/.cpan/build/2025021623/Object-Accessor-0.48-3/blib/lib:/home/cpansand/.cpan/build/2025021623/Log-Message-0.08-1/blib/arch:/home/cpansand/.cpan/build/2025021623/Log-Message-0.08-1/blib/lib:/home/cpansand/.cpan/build/2025021623/Archive-Extract-0.88-1/blib/arch:/home/cpansand/.cpan/build/2025021623/Archive-Extract-0.88-1/blib/lib
    PERL5OPT = 
    PERL5_CPANPLUS_IS_RUNNING = 313507
    PERL5_CPAN_IS_RUNNING = 313507
    PERL5_CPAN_IS_RUNNING_IN_RECURSION = 311036,313507
    PERLDOC = -MPod::Perldoc::ToTextOverstrike
    PERL_BATCH = yes
    PERL_CANARY_STABILITY_NOPROMPT = 1
    PERL_CPAN_REPORTER_CONFIG = /var/tmp/cpansmoker-1023/2025021623/cpanreporter_000_config.ini
    PERL_EXTUTILS_AUTOINSTALL = --defaultdeps
    PERL_USE_UNSAFE_INC = 1
    SHELL = /usr/bin/zsh
    TERM = screen
    TMPDIR = /var/tmp/cpansmoker-1023/2025021623

Perl special variables (and OS-specific diagnostics, for MSWin32):

    $^X = /opt/perl-5.36.3/bin/perl
    $UID/$EUID = 1023 / 1023
    $GID = 1023 1023
    $EGID = 1023 1023

Perl module toolchain versions installed:

    Module              Have    
    ------------------- --------
    CPAN                2.33    
    CPAN::Meta          2.150010
    Cwd                 3.84    
    ExtUtils::CBuilder  0.280236
    ExtUtils::Command   7.64    
    ExtUtils::Install   2.20    
    ExtUtils::MakeMaker 7.64    
    ExtUtils::Manifest  1.73    
    ExtUtils::ParseXS   3.45    
    File::Spec          3.84    
    JSON                4.10    
    JSON::PP            4.16    
    Module::Build       0.4234  
    Module::Signature   n/a     
    Parse::CPAN::Meta   2.150010
    Test2               1.302209
    Test::Harness       3.44    
    Test::More          1.302209
    YAML                1.31    
    YAML::Syck          1.34    
    version             0.9929  


--

Summary of my perl5 (revision 5 version 36 subversion 3) configuration:
   
  Platform:
    osname=linux
    osvers=6.12.11-200.fc41.x86_64
    archname=x86_64-linux
    uname='linux cloud4.bbbike.org 6.12.11-200.fc41.x86_64 #1 smp preempt_dynamic fri jan 24 04:59:58 utc 2025 x86_64 gnulinux '
    config_args='-ds -e -Dprefix=/opt/perl-5.36.3 -Uinstallusrbinperl -Dcf_email=srezic@cpan.org'
    hint=recommended
    useposix=true
    d_sigaction=define
    useithreads=undef
    usemultiplicity=undef
    use64bitint=define
    use64bitall=define
    uselongdouble=undef
    usemymalloc=n
    default_inc_excludes_dot=define
  Compiler:
    cc='cc'
    ccflags ='-fwrapv -fno-strict-aliasing -pipe -fstack-protector-strong -I/usr/local/include -D_LARGEFILE_SOURCE -D_FILE_OFFSET_BITS=64 -D_FORTIFY_SOURCE=2'
    optimize='-O2'
    cppflags='-fwrapv -fno-strict-aliasing -pipe -fstack-protector-strong -I/usr/local/include'
    ccversion=''
    gccversion='14.2.1 20250110 (Red Hat 14.2.1-7)'
    gccosandvers=''
    intsize=4
    longsize=8
    ptrsize=8
    doublesize=8
    byteorder=12345678
    doublekind=3
    d_longlong=define
    longlongsize=8
    d_longdbl=define
    longdblsize=16
    longdblkind=3
    ivtype='long'
    ivsize=8
    nvtype='double'
    nvsize=8
    Off_t='off_t'
    lseeksize=8
    alignbytes=8
    prototype=define
  Linker and Libraries:
    ld='cc'
    ldflags =' -fstack-protector-strong -L/usr/local/lib'
    libpth=/usr/local/lib /usr/lib /usr/lib64 /usr/local/lib64
    libs=-lpthread -ldb -ldl -lm -lcrypt -lutil -lc
    perllibs=-lpthread -ldl -lm -lcrypt -lutil -lc
    libc=/lib/../lib64/libc.so.6
    so=so
    useshrplib=false
    libperl=libperl.a
    gnulibc_version='2.40'
  Dynamic Linking:
    dlsrc=dl_dlopen.xs
    dlext=so
    d_dlsymun=undef
    ccdlflags='-Wl,-E'
    cccdlflags='-fPIC'
    lddlflags='-shared -O2 -L/usr/local/lib -fstack-protector-strong'


Characteristics of this binary (from libperl): 
  Compile-time options:
    HAS_TIMES
    PERLIO_LAYERS
    PERL_COPY_ON_WRITE
    PERL_DONT_CREATE_GVSV
    PERL_MALLOC_WRAP
    PERL_OP_PARENT
    PERL_PRESERVE_IVUV
    USE_64_BIT_ALL
    USE_64_BIT_INT
    USE_LARGE_FILES
    USE_LOCALE
    USE_LOCALE_COLLATE
    USE_LOCALE_CTYPE
    USE_LOCALE_NUMERIC
    USE_LOCALE_TIME
    USE_PERLIO
    USE_PERL_ATOF
  Built under linux
  Compiled at Feb  6 2025 21:03:46
  %ENV:
    PERL5LIB="/home/cpansand/.cpan/build/2025021623/Term-UI-0.50-1/blib/arch:/home/cpansand/.cpan/build/2025021623/Term-UI-0.50-1/blib/lib:/home/cpansand/.cpan/build/2025021623/Log-Message-Simple-0.10-1/blib/arch:/home/cpansand/.cpan/build/2025021623/Log-Message-Simple-0.10-1/blib/lib:/home/cpansand/.cpan/build/2025021623/Package-Constants-0.06-3/blib/arch:/home/cpansand/.cpan/build/2025021623/Package-Constants-0.06-3/blib/lib:/home/cpansand/.cpan/build/2025021623/Object-Accessor-0.48-3/blib/arch:/home/cpansand/.cpan/build/2025021623/Object-Accessor-0.48-3/blib/lib:/home/cpansand/.cpan/build/2025021623/Log-Message-0.08-1/blib/arch:/home/cpansand/.cpan/build/2025021623/Log-Message-0.08-1/blib/lib:/home/cpansand/.cpan/build/2025021623/Archive-Extract-0.88-1/blib/arch:/home/cpansand/.cpan/build/2025021623/Archive-Extract-0.88-1/blib/lib"
    PERL5OPT=""
    PERL5_CPANPLUS_IS_RUNNING="313507"
    PERL5_CPAN_IS_RUNNING="313507"
    PERL5_CPAN_IS_RUNNING_IN_RECURSION="311036,313507"
    PERLDOC="-MPod::Perldoc::ToTextOverstrike"
    PERL_BATCH="yes"
    PERL_CANARY_STABILITY_NOPROMPT="1"
    PERL_CPAN_REPORTER_CONFIG="/var/tmp/cpansmoker-1023/2025021623/cpanreporter_000_config.ini"
    PERL_EXTUTILS_AUTOINSTALL="--defaultdeps"
    PERL_USE_UNSAFE_INC="1"
  @INC:
    /home/cpansand/.cpan/build/2025021623/Term-UI-0.50-1/blib/arch
    /home/cpansand/.cpan/build/2025021623/Term-UI-0.50-1/blib/lib
    /home/cpansand/.cpan/build/2025021623/Log-Message-Simple-0.10-1/blib/arch
    /home/cpansand/.cpan/build/2025021623/Log-Message-Simple-0.10-1/blib/lib
    /home/cpansand/.cpan/build/2025021623/Package-Constants-0.06-3/blib/arch
    /home/cpansand/.cpan/build/2025021623/Package-Constants-0.06-3/blib/lib
    /home/cpansand/.cpan/build/2025021623/Object-Accessor-0.48-3/blib/arch
    /home/cpansand/.cpan/build/2025021623/Object-Accessor-0.48-3/blib/lib
    /home/cpansand/.cpan/build/2025021623/Log-Message-0.08-1/blib/arch
    /home/cpansand/.cpan/build/2025021623/Log-Message-0.08-1/blib/lib
    /home/cpansand/.cpan/build/2025021623/Archive-Extract-0.88-1/blib/arch
    /home/cpansand/.cpan/build/2025021623/Archive-Extract-0.88-1/blib/lib
    /opt/perl-5.36.3/lib/site_perl/5.36.3/x86_64-linux
    /opt/perl-5.36.3/lib/site_perl/5.36.3
    /opt/perl-5.36.3/lib/5.36.3/x86_64-linux
    /opt/perl-5.36.3/lib/5.36.3
    .