Report for Dist-Zilla-Plugin-CheckExtraTests-0.022

Back
From: metabase:user:6970b1ae-1421-11e4-ab07-c64c76713efd
Subject: PASS Dist-Zilla-Plugin-CheckExtraTests-0.022 v5.16.2 Mac OS X
Date: 2014-09-12T00:30:43Z

This distribution has been tested as part of the CPAN Testers
project, supporting the Perl programming language.  See
http://wiki.cpantesters.org/ for more information or email
questions to cpan-testers-discuss@perl.org


--
Dear DAGOLDEN,

This is a computer-generated report for Dist-Zilla-Plugin-CheckExtraTests-0.022
on perl 5.16.2, created by App::cpanminus::reporter 0.11 (1.7009).

Thank you for uploading your work to CPAN.  Congratulations!
All tests were successful.

Sections of this report:

    * Tester comments
    * Program output
    * Prerequisites
    * Environment and other context

------------------------------
TESTER COMMENTS
------------------------------

Additional comments from tester:

none provided

------------------------------
PROGRAM OUTPUT
------------------------------

Output from '':

Building and testing Dist-Zilla-Plugin-CheckExtraTests-0.022
cp lib/Dist/Zilla/Plugin/RunExtraTests.pm blib/lib/Dist/Zilla/Plugin/RunExtraTests.pm
cp lib/Dist/Zilla/App/Command/xtest.pm blib/lib/Dist/Zilla/App/Command/xtest.pm
cp lib/Dist/Zilla/Plugin/CheckExtraTests.pm blib/lib/Dist/Zilla/Plugin/CheckExtraTests.pm
Manifying blib/man3/Dist::Zilla::App::Command::xtest.3pm
Manifying blib/man3/Dist::Zilla::Plugin::CheckExtraTests.3pm
Manifying blib/man3/Dist::Zilla::Plugin::RunExtraTests.3pm
PERL_DL_NONLAZY=1 /usr/bin/perl "-MExtUtils::Command::MM" "-MTest::Harness" "-e" "undef *Test::Harness::Switches; test_harness(0, 'blib/lib', 'blib/arch')" t/*.t
# 
# Versions for all modules listed in MYMETA.json (including optional ones):
#    Version Module                          
#   -------- --------------------------------
#       3.33 App::Prove                      
#       2.00 Archive::Tar                    
#   2.142060 CPAN::Meta                      
#      2.128 CPAN::Meta::Requirements        
#       0.25 Capture::Tiny                   
#      5.020 Dist::Zilla                     
#      5.020 Dist::Zilla::App                
#      5.020 Dist::Zilla::App::Tester        
#      5.020 Dist::Zilla::Role::BeforeRelease
#      5.020 Dist::Zilla::Role::TestRunner   
#      5.020 Dist::Zilla::Tester             
#       6.98 ExtUtils::MakeMaker             
#       3.47 File::Spec::Functions           
#      1.009 File::pushd                     
#       1.41 List::Util                      
#     2.1211 Moose                           
#       0.15 Moose::Autobox                  
#       1.07 Params::Util                    
#      1.008 Path::Iterator::Rule            
#      0.056 Path::Tiny                      
#      0.987 Sub::Exporter                   
#   1.001006 Test::More                      
#       0.08 Test::Requires                  
#       0.22 Try::Tiny                       
#       0.63 lib                             
#       0.20 namespace::autoclean            
#       1.07 strict                          
#     0.9909 version                         
#       1.13 warnings                        
t/00-report-prereqs.t .. ok
t/checkxt.t ............ ok
t/runxt.t .............. ok
t/withblib.t ........... ok
All tests successful.
Files=4, Tests=16, 16 wallclock secs ( 0.04 usr  0.01 sys + 11.49 cusr  1.56 csys = 13.10 CPU)
Result: PASS

------------------------------
PREREQUISITES
------------------------------

Prerequisite modules loaded:

    No requirements found

------------------------------
ENVIRONMENT AND OTHER CONTEXT
------------------------------

Environment variables:

    LANG = en_US.UTF-8
    PATH = /usr/bin:/bin:/usr/sbin:/sbin:/usr/local/bin:/Users/dhorner/Downloads/adt-bundle-mac-x86_64-20140321/sdk/tools:/Users/dhorner/Downloads/adt-bundle-mac-x86_64-20140321/sdk/platform-tools
    SHELL = /bin/bash
    TERM = xterm-256color
    TMPDIR = /var/folders/bt/2bx00b7x0v7cjyfd_b7bpy480000gn/T/
    VERSIONER_PERL_PREFER_32_BIT = no
    VERSIONER_PERL_VERSION = 5.16

Perl special variables (and OS-specific diagnostics, for MSWin32):

    EGID = 20 20 401 12 61 79 80 81 98 33 100 204 398 399
    EUID = 501
    EXECUTABLE_NAME = /usr/bin/perl
    GID = 20 20 401 12 61 79 80 81 98 33 100 204 398 399
    UID = 501

Perl module toolchain versions installed:

    Module              Have    
    ------------------- --------
    CPAN                2.05    
    CPAN::Meta          2.142060
    Cwd                 3.47    
    ExtUtils::CBuilder  0.280219
    ExtUtils::Command   1.18    
    ExtUtils::Install   1.68    
    ExtUtils::MakeMaker 6.98    
    ExtUtils::Manifest  1.66    
    ExtUtils::ParseXS   3.24    
    File::Spec          3.47    
    JSON                2.90    
    JSON::PP            2.27203 
    Module::Build       0.4210  
    Module::Signature   n/a     
    Parse::CPAN::Meta   1.4414  
    Test::Harness       3.33    
    Test::More          1.001006
    YAML                1.11    
    YAML::Syck          1.27    
    version             0.9909  


--

Summary of my perl5 (revision 5 version 16 subversion 2) configuration:
   
  Platform:
    osname=darwin, osvers=13.0, archname=darwin-thread-multi-2level
    uname='darwin jackson.apple.com 13.0 darwin kernel version 13.0.0: tue jul 30 20:52:22 pdt 2013; root:xnu-2422.1.53~3release_x86_64 x86_64 '
    config_args='-ds -e -Dprefix=/usr -Dccflags=-g  -pipe  -Dldflags= -Dman3ext=3pm -Duseithreads -Duseshrplib -Dinc_version_list=none -Dcc=cc'
    hint=recommended, useposix=true, d_sigaction=define
    useithreads=define, usemultiplicity=define
    useperlio=define, d_sfio=undef, uselargefiles=define, usesocks=undef
    use64bitint=define, use64bitall=define, uselongdouble=undef
    usemymalloc=n, bincompat5005=undef
  Compiler:
    cc='cc', ccflags ='-arch x86_64 -arch i386 -g -pipe -fno-common -DPERL_DARWIN -fno-strict-aliasing -fstack-protector -I/usr/local/include',
    optimize='-Os',
    cppflags='-g -pipe -fno-common -DPERL_DARWIN -fno-strict-aliasing -fstack-protector -I/usr/local/include'
    ccversion='', gccversion='4.2.1 Compatible Apple LLVM 5.0 (clang-500.0.68)', gccosandvers=''
    intsize=4, longsize=8, ptrsize=8, doublesize=8, byteorder=12345678
    d_longlong=define, longlongsize=8, d_longdbl=define, longdblsize=16
    ivtype='long', ivsize=8, nvtype='double', nvsize=8, Off_t='off_t', lseeksize=8
    alignbytes=8, prototype=define
  Linker and Libraries:
    ld='cc -mmacosx-version-min=10.9', ldflags ='-arch x86_64 -arch i386 -fstack-protector -L/usr/local/lib'
    libpth=/usr/local/lib /usr/lib
    libs= 
    perllibs=
    libc=, so=dylib, useshrplib=true, libperl=libperl.dylib
    gnulibc_version=''
  Dynamic Linking:
    dlsrc=dl_dlopen.xs, dlext=bundle, d_dlsymun=undef, ccdlflags=' '
    cccdlflags=' ', lddlflags='-arch x86_64 -arch i386 -bundle -undefined dynamic_lookup -L/usr/local/lib -fstack-protector'


Characteristics of this binary (from libperl): 
  Compile-time options: HAS_TIMES MULTIPLICITY PERLIO_LAYERS
                        PERL_DONT_CREATE_GVSV PERL_IMPLICIT_CONTEXT
                        PERL_MALLOC_WRAP PERL_PRESERVE_IVUV USE_64_BIT_ALL
                        USE_64_BIT_INT USE_ITHREADS USE_LARGE_FILES
                        USE_LOCALE USE_LOCALE_COLLATE USE_LOCALE_CTYPE
                        USE_LOCALE_NUMERIC USE_PERLIO USE_PERL_ATOF
                        USE_REENTRANT_API
  Locally applied patches:
	/Library/Perl/Updates/<version> comes before system perl directories
	installprivlib and installarchlib points to the Updates directory
	CVE-2013-1667 hashtable DOS fix
  Built under darwin
  Compiled at Aug 25 2013 01:24:40
  @INC:
    /Library/Perl/5.16/darwin-thread-multi-2level
    /Library/Perl/5.16
    /Network/Library/Perl/5.16/darwin-thread-multi-2level
    /Network/Library/Perl/5.16
    /Library/Perl/Updates/5.16.2/darwin-thread-multi-2level
    /Library/Perl/Updates/5.16.2
    /System/Library/Perl/5.16/darwin-thread-multi-2level
    /System/Library/Perl/5.16
    /System/Library/Perl/Extras/5.16/darwin-thread-multi-2level
    /System/Library/Perl/Extras/5.16
    .