HiD v1.992 Perl 5 v5.30.1 x86_64-linux-thread-multi

Status
Pass
From
Slaven Rezić
Dist
HiD v1.992
Platform
Perl 5 v5.30.1 x86_64-linux-thread-multi
Date
2021-02-25 20:57:11
ID
07ad1a0c-77ac-11eb-8aed-f8671f24ea8f
This distribution has been tested as part of the CPAN Testers
project, supporting the Perl programming language.  See
http://wiki.cpantesters.org/ for more information or email
questions to cpan-testers-discuss@perl.org


--
Dear John SJ Anderson,

This is a computer-generated report for HiD-1.992
on perl 5.30.1, created by CPAN-Reporter-1.2018.

Thank you for uploading your work to CPAN.  Congratulations!
All tests were successful.

Sections of this report:

    * Tester comments
    * Program output
    * Prerequisites
    * Environment and other context

------------------------------
TESTER COMMENTS
------------------------------

Additional comments from tester:

none provided

------------------------------
PROGRAM OUTPUT
------------------------------

Output from '/usr/bin/make test':

PERL_DL_NONLAZY=1 "/opt/perl-5.30.1t/bin/perl" "-MExtUtils::Command::MM" "-MTest::Harness" "-e" "undef *Test::Harness::Switches; test_harness(0, 'blib/lib', 'blib/arch')" t/*.t
t/00-compile.t ........... ok
t/author-eol.t ........... skipped: these tests are for testing by the author
t/author-pod-coverage.t .. skipped: these tests are for testing by the author
t/author-pod-syntax.t .... skipped: these tests are for testing by the author
t/cmd-config.t ........... ok
t/cmd-help.t ............. ok
t/cmd-init.t ............. ok
# Testing in /var/tmp/cpansmoker-1023/2021022518/gdIrfF4HkJ
t/cmd-publish.t .......... ok
t/config.t ............... ok
t/file.t ................. ok
t/hid-server.t ........... ok
[2021/02/25 18:54:33]  WARN Skipping _posts/2008-02-02-not-published.textile because 'published' flag is false
[2021/02/25 18:54:33] ERROR ERROR: Post failed to build: Can't locate PatternLayout.pm in @INC (you may need to install the PatternLayout module) (@INC contains: /home/cpansand/.cpan/build/2021022518/HiD-1.992-1/blib/lib /home/cpansand/.cpan/build/2021022518/HiD-1.992-1/blib/arch /opt/perl-5.30.1t/lib/site_perl/5.30.1/x86_64-linux-thread-multi /opt/perl-5.30.1t/lib/site_perl/5.30.1 /opt/perl-5.30.1t/lib/5.30.1/x86_64-linux-thread-multi /opt/perl-5.30.1t/lib/5.30.1 .) at /opt/perl-5.30.1t/lib/site_perl/5.30.1/Log/Log4perl/Util.pm line 51.
	...propagated at /home/cpansand/.cpan/build/2021022518/HiD-1.992-1/blib/lib/HiD/Post.pm line 36.
t/hid.t .................. ok
t/layout.t ............... ok
t/page.t ................. ok
t/post-twitter.t ......... ok
t/post.t ................. ok
All tests successful.

Test Summary Report
-------------------
t/cmd-publish.t        (Wstat: 0 Tests: 76 Failed: 0)
  TODO passed:   72-73
Files=16, Tests=209, 16 wallclock secs ( 0.04 usr  0.16 sys + 13.29 cusr  2.62 csys = 16.11 CPU)
Result: PASS

------------------------------
PREREQUISITES
------------------------------

Prerequisite modules loaded:

requires:

    Module                       Need  Have    
    ---------------------------- ----- --------
    autodie                      0     2.34    
    Carp                         0     1.50    
    charnames                    0     1.45    
    Class::Load                  0     0.25    
    Data::Page                   0     2.03    
    Data::Printer                0.35  1.000001
    Date::Parse                  0     2.33    
    DateTime                     0     1.54    
    feature                      0     1.54    
    File::Copy                   0     2.34    
    File::Find::Rule             0     0.34    
    Log::Log4perl                0     1.54    
    Moose                        0     2.2014  
    Moose::Role                  0     2.2014  
    Moose::Util::TypeConstraints 0     2.2014  
    MooseX::App::Cmd             0     0.32    
    MooseX::App::Cmd::Command    0     0.32    
    MooseX::Getopt               0     0.74    
    namespace::autoclean         0     0.29    
    open                         0     1.11    
    parent                       0     0.238   
    Path::Tiny                   0.054 0.118   
    perl                         5.014 5.030001
    Plack::App::File             0     0       
    Plack::Builder               0     0       
    Plack::Handler::Standalone   0     0       
    Plack::Loader::Restarter     0     0       
    Plack::Runner                0     0       
    strict                       0     1.11    
    String::Errf                 0     0.008   
    Template                     0     3.009   
    Text::Handlebars             0     0.05    
    Text::Markdown               0     1.000031
    Text::MultiMarkdown          0     1.000035
    Text::Textile                0     2.13    
    Text::Xslate                 0     v3.5.8  
    Try::Tiny                    0     0.30    
    utf8                         0     1.22    
    warnings                     0     1.44    
    XML::Feed                    0     0.61    
    XML::Feed::Entry             0     0.61    
    YAML::Tiny                   0     1.73    
    YAML::XS                     0     0.82    

build_requires:

    Module                       Need  Have    
    ---------------------------- ----- --------
    App::Cmd::Tester             0     0.331   
    Exporter                     0     5.74    
    ExtUtils::MakeMaker          0     7.60    
    File::Spec                   0     3.78    
    FindBin                      0     1.52    
    HTTP::Request::Common        0     6.28    
    IO::Handle                   0     1.45    
    IPC::Open3                   0     1.20    
    lib                          0     0.65    
    Plack::Test                  0     0       
    Test::File                   0     1.447   
    Test::File::Contents         0     0.23    
    Test::More                   0     1.302183
    Test::Routine                0     0.027   
    Test::Routine::Util          0     0.027   
    Test::Warn                   0     0.36    

configure_requires:

    Module                       Need  Have    
    ---------------------------- ----- --------
    ExtUtils::MakeMaker          0     7.60    
    perl                         5.014 5.030001


------------------------------
ENVIRONMENT AND OTHER CONTEXT
------------------------------

Environment variables:

    LANG = en_US.UTF-8
    PATH = /usr/local/bin:/usr/bin:/bin:/usr/local/sbin:/usr/sbin:/sbin:/home/cpansand/bin/linux-gnu:/home/cpansand/bin/sh:/home/cpansand/bin:/usr/games:/home/cpansand/devel:/home/eserte/src/srezic-misc/scripts
    PERL5LIB = 
    PERL5OPT = 
    PERL5_CPANPLUS_IS_RUNNING = 25933
    PERL5_CPAN_IS_RUNNING = 25933
    PERL5_CPAN_IS_RUNNING_IN_RECURSION = 25128,25933
    PERLDOC = -MPod::Perldoc::ToTextOverstrike
    PERL_BATCH = yes
    PERL_CANARY_STABILITY_NOPROMPT = 1
    PERL_CPAN_REPORTER_CONFIG = /var/tmp/cpansmoker-1023/2021022518/cpanreporter_000_config.ini
    PERL_EXTUTILS_AUTOINSTALL = --defaultdeps
    PERL_USE_UNSAFE_INC = 1
    SHELL = /usr/bin/zsh
    TERM = screen
    TMPDIR = /var/tmp/cpansmoker-1023/2021022518

Perl special variables (and OS-specific diagnostics, for MSWin32):

    $^X = /opt/perl-5.30.1t/bin/perl
    $UID/$EUID = 1023 / 1023
    $GID = 1023 1023
    $EGID = 1023 1023

Perl module toolchain versions installed:

    Module              Have    
    ------------------- --------
    CPAN                2.28    
    CPAN::Meta          2.150010
    Cwd                 3.78    
    ExtUtils::CBuilder  0.280236
    ExtUtils::Command   7.60    
    ExtUtils::Install   2.20    
    ExtUtils::MakeMaker 7.60    
    ExtUtils::Manifest  1.73    
    ExtUtils::ParseXS   3.40    
    File::Spec          3.78    
    JSON                4.03    
    JSON::PP            4.06    
    Module::Build       0.4231  
    Module::Signature   0.87    
    Parse::CPAN::Meta   2.150010
    Test::Harness       3.42    
    Test::More          1.302183
    YAML                1.30    
    YAML::Syck          1.34    
    version             0.9928  


--

Summary of my perl5 (revision 5 version 30 subversion 1) configuration:
   
  Platform:
    osname=linux
    osvers=4.15.0-66-generic
    archname=x86_64-linux-thread-multi
    uname='linux ubuntu18 4.15.0-66-generic #75-ubuntu smp tue oct 1 05:24:09 utc 2019 x86_64 x86_64 x86_64 gnulinux '
    config_args='-ds -e -Dprefix=/opt/perl-5.30.1t -Dusethreads -Dcf_email=srezic@cpan.org'
    hint=recommended
    useposix=true
    d_sigaction=define
    useithreads=define
    usemultiplicity=define
    use64bitint=define
    use64bitall=define
    uselongdouble=undef
    usemymalloc=n
    default_inc_excludes_dot=define
    bincompat5005=undef
  Compiler:
    cc='cc'
    ccflags ='-D_REENTRANT -D_GNU_SOURCE -fwrapv -fno-strict-aliasing -pipe -fstack-protector-strong -I/usr/local/include -D_LARGEFILE_SOURCE -D_FILE_OFFSET_BITS=64'
    optimize='-O2'
    cppflags='-D_REENTRANT -D_GNU_SOURCE -fwrapv -fno-strict-aliasing -pipe -fstack-protector-strong -I/usr/local/include'
    ccversion=''
    gccversion='7.4.0'
    gccosandvers=''
    intsize=4
    longsize=8
    ptrsize=8
    doublesize=8
    byteorder=12345678
    doublekind=3
    d_longlong=define
    longlongsize=8
    d_longdbl=define
    longdblsize=16
    longdblkind=3
    ivtype='long'
    ivsize=8
    nvtype='double'
    nvsize=8
    Off_t='off_t'
    lseeksize=8
    alignbytes=8
    prototype=define
  Linker and Libraries:
    ld='cc'
    ldflags =' -fstack-protector-strong -L/usr/local/lib'
    libpth=/usr/local/lib /usr/lib/gcc/x86_64-linux-gnu/7/include-fixed /usr/include/x86_64-linux-gnu /usr/lib /lib/x86_64-linux-gnu /lib/../lib /usr/lib/x86_64-linux-gnu /usr/lib/../lib /lib
    libs=-lpthread -lnsl -lgdbm -ldb -ldl -lm -lcrypt -lutil -lc
    perllibs=-lpthread -lnsl -ldl -lm -lcrypt -lutil -lc
    libc=libc-2.27.so
    so=so
    useshrplib=false
    libperl=libperl.a
    gnulibc_version='2.27'
  Dynamic Linking:
    dlsrc=dl_dlopen.xs
    dlext=so
    d_dlsymun=undef
    ccdlflags='-Wl,-E'
    cccdlflags='-fPIC'
    lddlflags='-shared -O2 -L/usr/local/lib -fstack-protector-strong'


Characteristics of this binary (from libperl): 
  Compile-time options:
    HAS_TIMES
    MULTIPLICITY
    PERLIO_LAYERS
    PERL_COPY_ON_WRITE
    PERL_DONT_CREATE_GVSV
    PERL_IMPLICIT_CONTEXT
    PERL_MALLOC_WRAP
    PERL_OP_PARENT
    PERL_PRESERVE_IVUV
    USE_64_BIT_ALL
    USE_64_BIT_INT
    USE_ITHREADS
    USE_LARGE_FILES
    USE_LOCALE
    USE_LOCALE_COLLATE
    USE_LOCALE_CTYPE
    USE_LOCALE_NUMERIC
    USE_LOCALE_TIME
    USE_PERLIO
    USE_PERL_ATOF
    USE_REENTRANT_API
    USE_THREAD_SAFE_LOCALE
  Built under linux
  Compiled at Nov 11 2019 20:34:53
  %ENV:
    PERL5LIB=""
    PERL5OPT=""
    PERL5_CPANPLUS_IS_RUNNING="25933"
    PERL5_CPAN_IS_RUNNING="25933"
    PERL5_CPAN_IS_RUNNING_IN_RECURSION="25128,25933"
    PERLDOC="-MPod::Perldoc::ToTextOverstrike"
    PERL_BATCH="yes"
    PERL_CANARY_STABILITY_NOPROMPT="1"
    PERL_CPAN_REPORTER_CONFIG="/var/tmp/cpansmoker-1023/2021022518/cpanreporter_000_config.ini"
    PERL_EXTUTILS_AUTOINSTALL="--defaultdeps"
    PERL_USE_UNSAFE_INC="1"
  @INC:
    /opt/perl-5.30.1t/lib/site_perl/5.30.1/x86_64-linux-thread-multi
    /opt/perl-5.30.1t/lib/site_perl/5.30.1
    /opt/perl-5.30.1t/lib/5.30.1/x86_64-linux-thread-multi
    /opt/perl-5.30.1t/lib/5.30.1
    .