Markdown-Perl v1.11 Perl 5 v5.40.0 MSWin32-x64-multi-thread

Status
Pass
From
twata
Dist
Markdown-Perl v1.11
Platform
Perl 5 v5.40.0 MSWin32-x64-multi-thread
Date
2025-06-21 01:28:11
ID
07816648-711f-1014-9996-b6c021c560df
This distribution has been tested as part of the CPAN Testers
project, supporting the Perl programming language.  See
http://wiki.cpantesters.org/ for more information or email
questions to cpan-testers-discuss@perl.org


--
Dear MATHIAS,

This is a computer-generated report for Markdown-Perl-1.11
on perl 5.40.0, created by App::cpanminus::reporter 0.18 (1.7047).

Thank you for uploading your work to CPAN.  Congratulations!
All tests were successful.

Sections of this report:

    * Tester comments
    * Program output
    * Prerequisites
    * Environment and other context

------------------------------
TESTER COMMENTS
------------------------------

Additional comments from tester:

none provided

------------------------------
PROGRAM OUTPUT
------------------------------

Output from '':

Building and testing Markdown-Perl-1.11
Access denied - LIB
File not found - -NAME
cp lib/Markdown/Perl/HTML.pm blib\lib\Markdown\Perl\HTML.pm
cp lib/Markdown/Perl/Inlines.pm blib\lib\Markdown\Perl\Inlines.pm
cp lib/Markdown/Perl/BlockParser.pm blib\lib\Markdown\Perl\BlockParser.pm
cp lib/Markdown/Perl/Util.pm blib\lib\Markdown\Perl\Util.pm
cp lib/App/pmarkdown.pm blib\lib\App\pmarkdown.pm
cp lib/Markdown/Perl.pm blib\lib\Markdown\Perl.pm
cp lib/Markdown/Perl/Options.pm blib\lib\Markdown\Perl\Options.pm
cp lib/Markdown/Perl/InlineTree.pm blib\lib\Markdown\Perl\InlineTree.pm
"C:\strawberry-perl-5.40.0.1-64bit-portable\perl\bin\perl.exe" -MExtUtils::Command -e cp -- script/pmarkdown blib\script\pmarkdown
pl2bat.bat blib\script\pmarkdown
Access denied - LIB
File not found - -NAME
"C:\strawberry-perl-5.40.0.1-64bit-portable\perl\bin\perl.exe" "-MExtUtils::Command::MM" "-MTest::Harness" "-e" "undef *Test::Harness::Switches; test_harness(0, 'blib\lib', 'blib\arch')" t/*.t
t/000-load.t ................................... ok
t/001-cpanfile.t ............................... skipped: Extended test. Run manually or set $ENV{EXTENDED_TESTING} to a true value to run.
t/001-podsyntax.t .............................. skipped: Extended test. Run manually or set $ENV{EXTENDED_TESTING} to a true value to run.
t/100-util.t ................................... ok
t/101-inline-tree.t ............................ ok
t/102-html.t ................................... ok
t/200-basic-leaf-blocks.t ...................... ok
t/201-basic-container-blocks.t ................. ok
t/202-basic-inline-rendering.t ................. ok
t/203-options.t ................................ ok
t/300-containers.t ............................. ok
t/301-inlines.t ................................ ok
t/302-reference-links.t ........................ ok
t/303-lists.t .................................. ok
YAML Metadata (Markdown frontmatter) is invalid at C:\home\boxman\.cpanm\work\1750469206.11056\Markdown-Perl-1.11\blib\lib/Markdown/Perl.pm line 116.
t/304-file_metadata.t .......................... ok
t/305-block-directives.t ....................... ok
t/400-opt-allow_spaces_in_links.t .............. ok
t/400-opt-allow_task_list_markers.t ............ ok
t/400-opt-disallowed_html_tags.t ............... ok
t/400-opt-fenced_code_blocks_must_be_closed.t .. ok
t/400-opt-inline_delimiters.t .................. ok
t/400-opt-inline_delimiters_max_run_length.t ... ok
t/400-opt-lists_can_interrupt_paragraph.t ...... ok
t/400-opt-multi_lines_setext_headings.t ........ ok
t/400-opt-render_naked_paragraphs.t ............ ok
t/400-opt-two_spaces_hard_line_breaks.t ........ ok
t/400-opt-use_fenced_code_blocks.t ............. ok
t/500-hooks-resolve_link_ref.t ................. ok
t/500-hooks-yaml_metadata.t .................... ok
t/800-bugs.t ................................... ok
t/801-fuzzing.t ................................ ok
t/900-cmark-test-suite.t ....................... ok
t/901-github-test-suite.t ...................... ok
t/902-markdown-test-suite.t .................... skipped: MMD-Test-Suite must be checked out.
t/903-mmd-test-suite.t ......................... skipped: MMD-Test-Suite must be checked out.
t/904-pmarkdown.t .............................. skipped: The Syntax.md file is not part of this distribution
All tests successful.
Files=36, Tests=2167, 31 wallclock secs ( 0.86 usr +  0.11 sys =  0.97 CPU)
Result: PASS

------------------------------
PREREQUISITES
------------------------------

Prerequisite modules loaded:

    No requirements found

------------------------------
ENVIRONMENT AND OTHER CONTEXT
------------------------------

Environment variables:

    COMSPEC = C:\WINDOWS\system32\cmd.exe
    LC_ALL = C
    NUMBER_OF_PROCESSORS = 4
    PATH = C:\strawberry-perl-5.40.0.1-64bit-portable\perl\site\bin;C:\strawberry-perl-5.40.0.1-64bit-portable\perl\bin;C:\strawberry-perl-5.40.0.1-64bit-portable\c\bin;C:\WINDOWS\system32;C:\WINDOWS;C:\WINDOWS\System32\Wbem;C:\WINDOWS\System32\WindowsPowerShell\v1.0
    PROCESSOR_IDENTIFIER = Intel64 Family 6 Model 58 Stepping 9, GenuineIntel
    TEMP = C:\Users\USER\AppData\Local\Temp
    TERM = dumb

Perl special variables (and OS-specific diagnostics, for MSWin32):

    EGID = 0
    EUID = 0
    EXECUTABLE_NAME = C:\strawberry-perl-5.40.0.1-64bit-portable\perl\bin\perl.exe
    GID = 0
    UID = 0
    Win32::FsType = NTFS
    Win32::GetOSName = Win8.1
    Win32::GetOSVersion = , 6, 3, 9600, 2, 0, 0, 256, 1
    Win32::IsAdminUser = 0

Perl module toolchain versions installed:

    Module              Have    
    ------------------- --------
    CPAN                2.36    
    CPAN::Meta          2.150010
    Cwd                 3.90    
    ExtUtils::CBuilder  0.280240
    ExtUtils::Command   7.76    
    ExtUtils::Install   2.22    
    ExtUtils::MakeMaker 7.76    
    ExtUtils::Manifest  1.75    
    ExtUtils::ParseXS   3.57    
    File::Spec          3.90    
    JSON                4.10    
    JSON::PP            4.16    
    Module::Build       0.4234  
    Module::Signature   n/a     
    Parse::CPAN::Meta   2.150010
    Test::Harness       3.52    
    Test::More          1.302214
    YAML                1.31    
    YAML::Syck          1.34    
    version             0.9933  


--

Summary of my perl5 (revision 5 version 40 subversion 0) configuration:
   
  Platform:
    osname=MSWin32
    osvers=10.0.22621.3880
    archname=MSWin32-x64-multi-thread
    uname='Win32 strawberry-perl 5.40.0.1 # 02:45:15 Sat August 10 2024 x64'
    config_args='undef'
    hint=recommended
    useposix=true
    d_sigaction=undef
    useithreads=define
    usemultiplicity=define
    use64bitint=define
    use64bitall=undef
    uselongdouble=undef
    usemymalloc=n
    default_inc_excludes_dot=define
  Compiler:
    cc='gcc'
    ccflags ='-std=c99 -DWIN32 -DWIN64 -DPERL_TEXTMODE_SCRIPTS -DMULTIPLICITY -DPERL_IMPLICIT_SYS -DUSE_PERLIO -D__USE_MINGW_ANSI_STDIO -fwrapv -fno-strict-aliasing -mms-bitfields'
    optimize='-Os -falign-functions -falign-jumps -falign-labels -falign-loops -freorder-blocks -freorder-blocks-algorithm=stc -freorder-blocks-and-partition'
    cppflags='-DWIN32'
    ccversion=''
    gccversion='13.2.0'
    gccosandvers=''
    intsize=4
    longsize=4
    ptrsize=8
    doublesize=8
    byteorder=12345678
    doublekind=3
    d_longlong=define
    longlongsize=8
    d_longdbl=define
    longdblsize=16
    longdblkind=3
    ivtype='long long'
    ivsize=8
    nvtype='double'
    nvsize=8
    Off_t='long long'
    lseeksize=8
    alignbytes=8
    prototype=define
  Linker and Libraries:
    ld='g++.exe'
    ldflags ='-s -L"C:\strawberry-perl-5.40.0.1-64bit-portable\perl\lib\CORE" -L"C:\strawberry-perl-5.40.0.1-64bit-portable\c\lib"'
    libpth=C:\strawberry-perl-5.40.0.1-64bit-portable\c\lib C:\strawberry-perl-5.40.0.1-64bit-portable\c\x86_64-w64-mingw32\lib C:\strawberry-perl-5.40.0.1-64bit-portable\c\lib\gcc\x86_64-w64-mingw32\13.1.0
    libs= -lmoldname -lkernel32 -luser32 -lgdi32 -lwinspool -lcomdlg32 -ladvapi32 -lshell32 -lole32 -loleaut32 -lnetapi32 -luuid -lws2_32 -lmpr -lwinmm -lversion -lodbc32 -lodbccp32 -lcomctl32
    perllibs= -lmoldname -lkernel32 -luser32 -lgdi32 -lwinspool -lcomdlg32 -ladvapi32 -lshell32 -lole32 -loleaut32 -lnetapi32 -luuid -lws2_32 -lmpr -lwinmm -lversion -lodbc32 -lodbccp32 -lcomctl32
    libc=-lucrt
    so=dll
    useshrplib=true
    libperl=libperl540.a
    gnulibc_version=''
  Dynamic Linking:
    dlsrc=dl_win32.xs
    dlext=xs.dll
    d_dlsymun=undef
    ccdlflags=' '
    cccdlflags=' '
    lddlflags='-mdll -s -L"C:\strawberry-perl-5.40.0.1-64bit-portable\perl\lib\CORE" -L"C:\strawberry-perl-5.40.0.1-64bit-portable\c\lib"'


Characteristics of this binary (from libperl): 
  Compile-time options:
    HAS_LONG_DOUBLE
    HAS_TIMES
    HAVE_INTERP_INTERN
    MULTIPLICITY
    PERLIO_LAYERS
    PERL_COPY_ON_WRITE
    PERL_DONT_CREATE_GVSV
    PERL_HASH_FUNC_SIPHASH13
    PERL_HASH_USE_SBOX32
    PERL_IMPLICIT_SYS
    PERL_MALLOC_WRAP
    PERL_OP_PARENT
    PERL_PRESERVE_IVUV
    PERL_USE_SAFE_PUTENV
    USE_64_BIT_INT
    USE_ITHREADS
    USE_LARGE_FILES
    USE_LOCALE
    USE_LOCALE_COLLATE
    USE_LOCALE_CTYPE
    USE_LOCALE_NUMERIC
    USE_LOCALE_TIME
    USE_PERLIO
    USE_PERL_ATOF
    USE_THREAD_SAFE_LOCALE
  Built under MSWin32
  Compiled at Aug 10 2024 12:45:35
  @INC:
    C:/strawberry-perl-5.40.0.1-64bit-portable/perl/site/lib/MSWin32-x64-multi-thread
    C:/strawberry-perl-5.40.0.1-64bit-portable/perl/site/lib
    C:/strawberry-perl-5.40.0.1-64bit-portable/perl/vendor/lib
    C:/strawberry-perl-5.40.0.1-64bit-portable/perl/lib