Report for Rose-DB-Object-0.815

Back
From: metabase:user:314402c4-2aae-11df-837a-5e0a49663a4f
Subject: PASS Rose-DB-Object-0.815 v5.22.2 GNU/Linux
Date: 2017-07-02T16:53:52Z

This distribution has been tested as part of the CPAN Testers
project, supporting the Perl programming language.  See
http://wiki.cpantesters.org/ for more information or email
questions to cpan-testers-discuss@perl.org


--
Dear John Siracusa,

This is a computer-generated report for Rose-DB-Object-0.815
on perl 5.22.2, created by CPAN-Reporter-1.2018.

Thank you for uploading your work to CPAN.  Congratulations!
All tests were successful.

Sections of this report:

    * Tester comments
    * Program output
    * Prerequisites
    * Environment and other context

------------------------------
TESTER COMMENTS
------------------------------

Additional comments from tester:

none provided

------------------------------
PROGRAM OUTPUT
------------------------------

Output from 'make test':

PERL_DL_NONLAZY=1 "/opt/perl-5.22.2/bin/perl" "-MExtUtils::Command::MM" "-MTest::Harness" "-e" "undef *Test::Harness::Switches; test_harness(0, 'blib/lib', 'blib/arch')" t/*.t

##
## DBI             1.636
## DBD::Pg         3.6.2
## DBD::mysql      4.042
## DBD::SQLite     1.54
## JSON            2.94
##
## WARNING: Almost all the tests in this module distribution need to connect
## to a database in order to run.  The tests need full privileges on this
## database: the ability to create and drop tables, insert, update, and delete
## rows, create schemas, sequences, functions, triggers, the works.
## 
## By default, the tests will try to connect to the database named "test"
## running on "localhost" using the default superuser username for each
## database type and an empty password.
## 
## If you have setup your database in a secure manner, these connection
## attempts will fail, and the tests will be skipped.  If you want to override
## these values, set the following environment variables before running tests.
## (The current values are shown in parentheses.)
## 
## PostgreSQL:
## 
##     RDBO_PG_DSN      (dbi:Pg:dbname=test;host=localhost)
##     RDBO_PG_USER     (postgres)
##     RDBO_PG_PASS     (<none>)
## 
## MySQL:
## 
##     RDBO_MYSQL_DSN   (dbi:mysql:database=test;host=localhost)
##     RDBO_MYSQL_USER  (root)
##     RDBO_MYSQL_PASS  (<none>)
##
## Oracle:
## 
##     RDBO_ORACLE_DSN  (dbi:Oracle:dbname=test)
##     RDBO_ORACLE_USER (<none>)
##     RDBO_ORACLE_PASS (<none>)
##
## Informix:
## 
##     RDBO_INFORMIX_DSN   (dbi:Informix:test@test)
##     RDBO_INFORMIX_USER  (<none>)
##     RDBO_INFORMIX_PASS  (<none>)
## 
## SQLite: To disable the SQLite tests, set this environment varible
##
##     RDBO_NO_SQLITE  (<undef>)
##
## Press return to continue (or wait 60 seconds)
t/00-warning.t ..................... ok
t/as-tree.t ........................ ok
t/auto-setup.t ..................... ok
t/bind-param.t ..................... ok
t/column-triggers.t ................ ok
t/column-values.t .................. ok
t/db-migration.t ................... ok
t/db-object-auto.t ................. ok
t/db-object-cached.t ............... ok
t/db-object-changes-only-1.t ....... ok
t/db-object-changes-only-2.t ....... ok
t/db-object-convention.t ........... ok
t/db-object-foreign-key-auto.t ..... ok
t/db-object-foreign-key.t .......... ok
t/db-object-helpers.t .............. ok
t/db-object-loader-2.t ............. ok
t/db-object-loader-3.t ............. ok
t/db-object-loader-4.t ............. ok
t/db-object-loader-5.t ............. ok
t/db-object-loader-6.t ............. ok
t/db-object-loader-7.t ............. ok
t/db-object-loader-8.t ............. ok
t/db-object-loader-9.t ............. ok
t/db-object-loader.t ............... ok
t/db-object-manager-bulk-ops.t ..... ok
t/db-object-manager.t .............. ok
t/db-object-mapper.t ............... ok
t/db-object-metadata.t ............. ok
t/db-object-relationship-auto-2.t .. ok
t/db-object-relationship-auto.t .... ok
t/db-object-relationship.t ......... ok
t/db-object-std-cached.t ........... ok
t/db-object-std.t .................. ok
t/db-object.t ...................... ok
t/deep-joins.t ..................... ok
t/inheritance.t .................... ok
t/lazy-columns.t ................... ok
t/leaks.t .......................... ok
t/make-modules.t ................... ok
t/makemethods-db.t ................. ok
t/makemethods.t .................... ok
t/multi-many-the-hard-way.t ........ ok
t/multi-pk-sequences.t ............. ok
t/nested-joins.t ................... ok
t/one-to-many-reset.t .............. ok
t/pk-fk-columns.t .................. ok
t/pod.t ............................ ok
t/query-builder.t .................. ok
t/rt-cpan-45836.t .................. ok
t/save-cascade.t ................... ok
t/schema-override.t ................ ok
t/spot-check-01.t .................. ok
t/spot-check-02.t .................. ok
t/spot-check-03.t .................. ok
t/spot-check-04.t .................. ok
t/spot-check-05.t .................. ok
t/spot-check-06.t .................. ok
t/spot-check-07.t .................. ok
t/spot-check-08.t .................. ok
t/spot-check-09.t .................. ok
t/spot-check-10.t .................. ok
t/spot-check-11.t .................. ok
t/spot-check-12.t .................. ok
t/spot-check-13.t .................. ok
t/spot-check-14.t .................. ok
t/undef-overrides-default.t ........ ok
t/unique-key-prefs.t ............... ok
All tests successful.
Files=67, Tests=15335, 48 wallclock secs ( 0.57 usr  0.30 sys + 22.61 cusr  5.59 csys = 29.07 CPU)
Result: PASS

------------------------------
PREREQUISITES
------------------------------

Prerequisite modules loaded:

requires:

    Module               Need     Have    
    -------------------- -------- --------
    Bit::Vector          0        7.4     
    Clone                0.29     0.39    
    Cwd                  0        3.56_01 
    Data::Dumper         2.121    2.158   
    DateTime             0        1.43    
    DBI                  1.40     1.636   
    File::Path           0        2.14    
    File::Spec           0        3.56_01 
    List::MoreUtils      0        0.419   
    Math::BigInt         1.77     1.999811
    perl                 5.006000 5.022002
    Rose::DateTime::Util 0.532    0.540   
    Rose::DB             0.763    0.778   
    Rose::Object         0.854    0.860   
    Scalar::Util         0        1.48    
    Test::More           0        1.302086
    Time::Clock          1.00     1.03    

build_requires:

    Module               Need     Have    
    -------------------- -------- --------
    ExtUtils::MakeMaker  0        7.30    

configure_requires:

    Module               Need     Have    
    -------------------- -------- --------
    ExtUtils::MakeMaker  0        7.30    


------------------------------
ENVIRONMENT AND OTHER CONTEXT
------------------------------

Environment variables:

    LANG = en_US.UTF-8
    PATH = /usr/local/bin:/usr/bin:/bin:/usr/local/sbin:/usr/sbin:/sbin:/home/cpansand/bin/linux-gnu:/home/cpansand/bin/sh:/home/cpansand/bin:/usr/games:/home/cpansand/devel:/home/eserte/src/srezic-misc/scripts
    PERL5LIB = /home/cpansand/.cpan/build/2017070215/Rose-DB-0.778-0o2tDz/blib/arch:/home/cpansand/.cpan/build/2017070215/Rose-DB-0.778-0o2tDz/blib/lib:/home/cpansand/.cpan/build/2017070215/DateTime-Format-MySQL-0.06-Ti0LRJ/blib/arch:/home/cpansand/.cpan/build/2017070215/DateTime-Format-MySQL-0.06-Ti0LRJ/blib/lib:/home/cpansand/.cpan/build/2017070215/SQL-ReservedWords-0.8-sJr1fe/blib/arch:/home/cpansand/.cpan/build/2017070215/SQL-ReservedWords-0.8-sJr1fe/blib/lib:/home/cpansand/.cpan/build/2017070215/Bit-Vector-7.4-C1FFP9/blib/arch:/home/cpansand/.cpan/build/2017070215/Bit-Vector-7.4-C1FFP9/blib/lib:/home/cpansand/.cpan/build/2017070215/DateTime-Format-Oracle-0.06-neo6Zk/blib/arch:/home/cpansand/.cpan/build/2017070215/DateTime-Format-Oracle-0.06-neo6Zk/blib/lib:/home/cpansand/.cpan/build/2017070215/Convert-NLS_DATE_FORMAT-0.06-BaYors/blib/arch:/home/cpansand/.cpan/build/2017070215/Convert-NLS_DATE_FORMAT-0.06-BaYors/blib/lib:/home/cpansand/.cpan/build/2017070215/Time-Clock-1.03-i9fK6i/blib/arch:/home/cpansand/.cpan/build/2017070215/Time-Clock-1.03-i9fK6i/blib/lib:/home/cpansand/.cpan/build/2017070215/Rose-DateTime-0.540-Pxt1NV/blib/arch:/home/cpansand/.cpan/build/2017070215/Rose-DateTime-0.540-Pxt1NV/blib/lib:/home/cpansand/.cpan/build/2017070215/Rose-Object-0.860-VxAOrZ/blib/arch:/home/cpansand/.cpan/build/2017070215/Rose-Object-0.860-VxAOrZ/blib/lib:/home/cpansand/.cpan/build/2017070215/BGPmon-CPM-Prefix-Finder-3y4Q0q/blib/arch:/home/cpansand/.cpan/build/2017070215/BGPmon-CPM-Prefix-Finder-3y4Q0q/blib/lib
    PERL5OPT = 
    PERL5_CPANPLUS_IS_RUNNING = 1203
    PERL5_CPAN_IS_RUNNING = 1203
    PERL5_CPAN_IS_RUNNING_IN_RECURSION = 1988,1203
    PERLDOC = -MPod::Perldoc::ToTextOverstrike
    PERL_BATCH = yes
    PERL_CANARY_STABILITY_NOPROMPT = 1
    PERL_CPAN_REPORTER_CONFIG = /var/tmp/cpansmoker-1023/2017070215/cpanreporter_001_config.ini
    PERL_EXTUTILS_AUTOINSTALL = --defaultdeps
    PERL_MM_USE_DEFAULT = 1
    SHELL = /bin/zsh
    TERM = screen
    TMPDIR = /var/tmp/cpansmoker-1023/2017070215

Perl special variables (and OS-specific diagnostics, for MSWin32):

    $^X = /opt/perl-5.22.2/bin/perl
    $UID/$EUID = 1023 / 1023
    $GID = 1023 1023
    $EGID = 1023 1023

Perl module toolchain versions installed:

    Module              Have    
    ------------------- --------
    CPAN                2.11    
    CPAN::Meta          2.150001
    Cwd                 3.56_01 
    ExtUtils::CBuilder  0.280221
    ExtUtils::Command   7.30    
    ExtUtils::Install   2.06    
    ExtUtils::MakeMaker 7.30    
    ExtUtils::Manifest  1.70    
    ExtUtils::ParseXS   3.28    
    File::Spec          3.56_01 
    JSON                2.94    
    JSON::PP            2.94    
    Module::Build       0.4224  
    Module::Signature   n/a     
    Parse::CPAN::Meta   1.4414  
    Test::Harness       3.35    
    Test::More          1.302086
    YAML                1.23    
    YAML::Syck          1.30    
    version             0.9909  


--

Summary of my perl5 (revision 5 version 22 subversion 2) configuration:
   
  Platform:
    osname=linux, osvers=2.6.32-696.3.1.el6.x86_64, archname=x86_64-linux
    uname='linux centos6 2.6.32-696.3.1.el6.x86_64 #1 smp tue may 30 19:52:55 utc 2017 x86_64 x86_64 x86_64 gnulinux '
    config_args='-ds -e -Dprefix=/opt/perl-5.22.2 -Dcf_email=srezic@cpan.org'
    hint=recommended, useposix=true, d_sigaction=define
    useithreads=undef, usemultiplicity=undef
    use64bitint=define, use64bitall=define, uselongdouble=undef
    usemymalloc=n, bincompat5005=undef
  Compiler:
    cc='cc', ccflags ='-fwrapv -fno-strict-aliasing -pipe -fstack-protector -I/usr/local/include -D_LARGEFILE_SOURCE -D_FILE_OFFSET_BITS=64 -D_FORTIFY_SOURCE=2',
    optimize='-O2',
    cppflags='-fwrapv -fno-strict-aliasing -pipe -fstack-protector -I/usr/local/include'
    ccversion='', gccversion='4.4.7 20120313 (Red Hat 4.4.7-18)', gccosandvers=''
    intsize=4, longsize=8, ptrsize=8, doublesize=8, byteorder=12345678, doublekind=3
    d_longlong=define, longlongsize=8, d_longdbl=define, longdblsize=16, longdblkind=3
    ivtype='long', ivsize=8, nvtype='double', nvsize=8, Off_t='off_t', lseeksize=8
    alignbytes=8, prototype=define
  Linker and Libraries:
    ld='cc', ldflags =' -fstack-protector -L/usr/local/lib'
    libpth=/usr/local/lib /usr/lib /lib/../lib64 /usr/lib/../lib64 /lib /lib64 /usr/lib64 /usr/local/lib64
    libs=-lpthread -lnsl -lgdbm -ldb -ldl -lm -lcrypt -lutil -lc
    perllibs=-lpthread -lnsl -ldl -lm -lcrypt -lutil -lc
    libc=libc-2.12.so, so=so, useshrplib=false, libperl=libperl.a
    gnulibc_version='2.12'
  Dynamic Linking:
    dlsrc=dl_dlopen.xs, dlext=so, d_dlsymun=undef, ccdlflags='-Wl,-E'
    cccdlflags='-fPIC', lddlflags='-shared -O2 -L/usr/local/lib -fstack-protector'


Characteristics of this binary (from libperl): 
  Compile-time options: HAS_TIMES PERLIO_LAYERS PERL_DONT_CREATE_GVSV
                        PERL_HASH_FUNC_ONE_AT_A_TIME_HARD PERL_MALLOC_WRAP
                        PERL_NEW_COPY_ON_WRITE PERL_PRESERVE_IVUV
                        USE_64_BIT_ALL USE_64_BIT_INT USE_LARGE_FILES
                        USE_LOCALE USE_LOCALE_COLLATE USE_LOCALE_CTYPE
                        USE_LOCALE_NUMERIC USE_LOCALE_TIME USE_PERLIO
                        USE_PERL_ATOF
  Built under linux
  Compiled at Jun 21 2017 19:08:23
  %ENV:
    PERL5LIB="/home/cpansand/.cpan/build/2017070215/Rose-DB-0.778-0o2tDz/blib/arch:/home/cpansand/.cpan/build/2017070215/Rose-DB-0.778-0o2tDz/blib/lib:/home/cpansand/.cpan/build/2017070215/DateTime-Format-MySQL-0.06-Ti0LRJ/blib/arch:/home/cpansand/.cpan/build/2017070215/DateTime-Format-MySQL-0.06-Ti0LRJ/blib/lib:/home/cpansand/.cpan/build/2017070215/SQL-ReservedWords-0.8-sJr1fe/blib/arch:/home/cpansand/.cpan/build/2017070215/SQL-ReservedWords-0.8-sJr1fe/blib/lib:/home/cpansand/.cpan/build/2017070215/Bit-Vector-7.4-C1FFP9/blib/arch:/home/cpansand/.cpan/build/2017070215/Bit-Vector-7.4-C1FFP9/blib/lib:/home/cpansand/.cpan/build/2017070215/DateTime-Format-Oracle-0.06-neo6Zk/blib/arch:/home/cpansand/.cpan/build/2017070215/DateTime-Format-Oracle-0.06-neo6Zk/blib/lib:/home/cpansand/.cpan/build/2017070215/Convert-NLS_DATE_FORMAT-0.06-BaYors/blib/arch:/home/cpansand/.cpan/build/2017070215/Convert-NLS_DATE_FORMAT-0.06-BaYors/blib/lib:/home/cpansand/.cpan/build/2017070215/Time-Clock-1.03-i9fK6i/blib/arch:/home/cpansand/.cpan/build/2017070215/Time-Clock-1.03-i9fK6i/blib/lib:/home/cpansand/.cpan/build/2017070215/Rose-DateTime-0.540-Pxt1NV/blib/arch:/home/cpansand/.cpan/build/2017070215/Rose-DateTime-0.540-Pxt1NV/blib/lib:/home/cpansand/.cpan/build/2017070215/Rose-Object-0.860-VxAOrZ/blib/arch:/home/cpansand/.cpan/build/2017070215/Rose-Object-0.860-VxAOrZ/blib/lib:/home/cpansand/.cpan/build/2017070215/BGPmon-CPM-Prefix-Finder-3y4Q0q/blib/arch:/home/cpansand/.cpan/build/2017070215/BGPmon-CPM-Prefix-Finder-3y4Q0q/blib/lib"
    PERL5OPT=""
    PERL5_CPANPLUS_IS_RUNNING="1203"
    PERL5_CPAN_IS_RUNNING="1203"
    PERL5_CPAN_IS_RUNNING_IN_RECURSION="1988,1203"
    PERLDOC="-MPod::Perldoc::ToTextOverstrike"
    PERL_BATCH="yes"
    PERL_CANARY_STABILITY_NOPROMPT="1"
    PERL_CPAN_REPORTER_CONFIG="/var/tmp/cpansmoker-1023/2017070215/cpanreporter_001_config.ini"
    PERL_EXTUTILS_AUTOINSTALL="--defaultdeps"
    PERL_MM_USE_DEFAULT="1"
  @INC:
    /home/cpansand/.cpan/build/2017070215/Rose-DB-0.778-0o2tDz/blib/arch
    /home/cpansand/.cpan/build/2017070215/Rose-DB-0.778-0o2tDz/blib/lib
    /home/cpansand/.cpan/build/2017070215/DateTime-Format-MySQL-0.06-Ti0LRJ/blib/arch
    /home/cpansand/.cpan/build/2017070215/DateTime-Format-MySQL-0.06-Ti0LRJ/blib/lib
    /home/cpansand/.cpan/build/2017070215/SQL-ReservedWords-0.8-sJr1fe/blib/arch
    /home/cpansand/.cpan/build/2017070215/SQL-ReservedWords-0.8-sJr1fe/blib/lib
    /home/cpansand/.cpan/build/2017070215/Bit-Vector-7.4-C1FFP9/blib/arch
    /home/cpansand/.cpan/build/2017070215/Bit-Vector-7.4-C1FFP9/blib/lib
    /home/cpansand/.cpan/build/2017070215/DateTime-Format-Oracle-0.06-neo6Zk/blib/arch
    /home/cpansand/.cpan/build/2017070215/DateTime-Format-Oracle-0.06-neo6Zk/blib/lib
    /home/cpansand/.cpan/build/2017070215/Convert-NLS_DATE_FORMAT-0.06-BaYors/blib/arch
    /home/cpansand/.cpan/build/2017070215/Convert-NLS_DATE_FORMAT-0.06-BaYors/blib/lib
    /home/cpansand/.cpan/build/2017070215/Time-Clock-1.03-i9fK6i/blib/arch
    /home/cpansand/.cpan/build/2017070215/Time-Clock-1.03-i9fK6i/blib/lib
    /home/cpansand/.cpan/build/2017070215/Rose-DateTime-0.540-Pxt1NV/blib/arch
    /home/cpansand/.cpan/build/2017070215/Rose-DateTime-0.540-Pxt1NV/blib/lib
    /home/cpansand/.cpan/build/2017070215/Rose-Object-0.860-VxAOrZ/blib/arch
    /home/cpansand/.cpan/build/2017070215/Rose-Object-0.860-VxAOrZ/blib/lib
    /home/cpansand/.cpan/build/2017070215/BGPmon-CPM-Prefix-Finder-3y4Q0q/blib/arch
    /home/cpansand/.cpan/build/2017070215/BGPmon-CPM-Prefix-Finder-3y4Q0q/blib/lib
    /opt/perl-5.22.2/lib/site_perl/5.22.2/x86_64-linux
    /opt/perl-5.22.2/lib/site_perl/5.22.2
    /opt/perl-5.22.2/lib/5.22.2/x86_64-linux
    /opt/perl-5.22.2/lib/5.22.2
    .