Back
From: metabase:user:314402c4-2aae-11df-837a-5e0a49663a4f
Subject: PASS HTML-Shakan-2.00 v5.20.1 FreeBSD
Date: 2015-06-05T05:45:10Z
This distribution has been tested as part of the CPAN Testers
project, supporting the Perl programming language. See
http://wiki.cpantesters.org/ for more information or email
questions to cpan-testers-discuss@perl.org
--
Dear Masayuki Matsuki,
This is a computer-generated report for HTML-Shakan-2.00
on perl 5.20.1, created by CPAN-Reporter-1.2011.
Thank you for uploading your work to CPAN. Congratulations!
All tests were successful.
Sections of this report:
* Tester comments
* Program output
* Prerequisites
* Environment and other context
------------------------------
TESTER COMMENTS
------------------------------
Additional comments from tester:
none provided
------------------------------
PROGRAM OUTPUT
------------------------------
Output from './Build test':
t/00_compile.t ............................. ok
CGI::param called in list context from package HTML::Shakan line 253, this can lead to vulnerabilities. See the warning in "Fetching the value or values of a single named parameter" at /usr/perl5.20.1Dp/lib/site_perl/5.20.1/CGI.pm line 437.
t/010_core/001_render.t .................... ok
# FVL: 0.38
CGI::param called in list context from package HTML::Shakan line 253, this can lead to vulnerabilities. See the warning in "Fetching the value or values of a single named parameter" at /usr/perl5.20.1Dp/lib/site_perl/5.20.1/CGI.pm line 437.
CGI::param called in list context from package HTML::Shakan line 253, this can lead to vulnerabilities. See the warning in "Fetching the value or values of a single named parameter" at /usr/perl5.20.1Dp/lib/site_perl/5.20.1/CGI.pm line 437.
CGI::param called in list context from package HTML::Shakan line 253, this can lead to vulnerabilities. See the warning in "Fetching the value or values of a single named parameter" at /usr/perl5.20.1Dp/lib/site_perl/5.20.1/CGI.pm line 437.
CGI::param called in list context from package HTML::Shakan line 253, this can lead to vulnerabilities. See the warning in "Fetching the value or values of a single named parameter" at /usr/perl5.20.1Dp/lib/site_perl/5.20.1/CGI.pm line 437.
CGI::param called in list context from package HTML::Shakan line 253, this can lead to vulnerabilities. See the warning in "Fetching the value or values of a single named parameter" at /usr/perl5.20.1Dp/lib/site_perl/5.20.1/CGI.pm line 437.
CGI::param called in list context from package HTML::Shakan line 253, this can lead to vulnerabilities. See the warning in "Fetching the value or values of a single named parameter" at /usr/perl5.20.1Dp/lib/site_perl/5.20.1/CGI.pm line 437.
CGI::param called in list context from package HTML::Shakan line 253, this can lead to vulnerabilities. See the warning in "Fetching the value or values of a single named parameter" at /usr/perl5.20.1Dp/lib/site_perl/5.20.1/CGI.pm line 437.
CGI::param called in list context from package HTML::Shakan line 253, this can lead to vulnerabilities. See the warning in "Fetching the value or values of a single named parameter" at /usr/perl5.20.1Dp/lib/site_perl/5.20.1/CGI.pm line 437.
CGI::param called in list context from package HTML::Shakan line 253, this can lead to vulnerabilities. See the warning in "Fetching the value or values of a single named parameter" at /usr/perl5.20.1Dp/lib/site_perl/5.20.1/CGI.pm line 437.
CGI::param called in list context from package HTML::Shakan line 253, this can lead to vulnerabilities. See the warning in "Fetching the value or values of a single named parameter" at /usr/perl5.20.1Dp/lib/site_perl/5.20.1/CGI.pm line 437.
CGI::param called in list context from package HTML::Shakan line 253, this can lead to vulnerabilities. See the warning in "Fetching the value or values of a single named parameter" at /usr/perl5.20.1Dp/lib/site_perl/5.20.1/CGI.pm line 437.
CGI::param called in list context from package HTML::Shakan line 253, this can lead to vulnerabilities. See the warning in "Fetching the value or values of a single named parameter" at /usr/perl5.20.1Dp/lib/site_perl/5.20.1/CGI.pm line 437.
CGI::param called in list context from package HTML::Shakan line 253, this can lead to vulnerabilities. See the warning in "Fetching the value or values of a single named parameter" at /usr/perl5.20.1Dp/lib/site_perl/5.20.1/CGI.pm line 437.
CGI::param called in list context from package HTML::Shakan line 253, this can lead to vulnerabilities. See the warning in "Fetching the value or values of a single named parameter" at /usr/perl5.20.1Dp/lib/site_perl/5.20.1/CGI.pm line 437.
CGI::param called in list context from package HTML::Shakan line 253, this can lead to vulnerabilities. See the warning in "Fetching the value or values of a single named parameter" at /usr/perl5.20.1Dp/lib/site_perl/5.20.1/CGI.pm line 437.
CGI::param called in list context from package HTML::Shakan line 253, this can lead to vulnerabilities. See the warning in "Fetching the value or values of a single named parameter" at /usr/perl5.20.1Dp/lib/site_perl/5.20.1/CGI.pm line 437.
CGI::param called in list context from package HTML::Shakan line 253, this can lead to vulnerabilities. See the warning in "Fetching the value or values of a single named parameter" at /usr/perl5.20.1Dp/lib/site_perl/5.20.1/CGI.pm line 437.
CGI::param called in list context from package HTML::Shakan line 253, this can lead to vulnerabilities. See the warning in "Fetching the value or values of a single named parameter" at /usr/perl5.20.1Dp/lib/site_perl/5.20.1/CGI.pm line 437.
CGI::param called in list context from package HTML::Shakan line 253, this can lead to vulnerabilities. See the warning in "Fetching the value or values of a single named parameter" at /usr/perl5.20.1Dp/lib/site_perl/5.20.1/CGI.pm line 437.
CGI::param called in list context from package HTML::Shakan line 253, this can lead to vulnerabilities. See the warning in "Fetching the value or values of a single named parameter" at /usr/perl5.20.1Dp/lib/site_perl/5.20.1/CGI.pm line 437.
CGI::param called in list context from package HTML::Shakan line 253, this can lead to vulnerabilities. See the warning in "Fetching the value or values of a single named parameter" at /usr/perl5.20.1Dp/lib/site_perl/5.20.1/CGI.pm line 437.
t/010_core/002_validator.t ................. ok
CGI::param called in list context from package HTML::Shakan line 169, this can lead to vulnerabilities. See the warning in "Fetching the value or values of a single named parameter" at /usr/perl5.20.1Dp/lib/site_perl/5.20.1/CGI.pm line 437.
CGI::param called in list context from package HTML::Shakan line 169, this can lead to vulnerabilities. See the warning in "Fetching the value or values of a single named parameter" at /usr/perl5.20.1Dp/lib/site_perl/5.20.1/CGI.pm line 437.
CGI::param called in list context from package HTML::Shakan line 169, this can lead to vulnerabilities. See the warning in "Fetching the value or values of a single named parameter" at /usr/perl5.20.1Dp/lib/site_perl/5.20.1/CGI.pm line 437.
CGI::param called in list context from package HTML::Shakan line 169, this can lead to vulnerabilities. See the warning in "Fetching the value or values of a single named parameter" at /usr/perl5.20.1Dp/lib/site_perl/5.20.1/CGI.pm line 437.
CGI::param called in list context from package HTML::Shakan line 169, this can lead to vulnerabilities. See the warning in "Fetching the value or values of a single named parameter" at /usr/perl5.20.1Dp/lib/site_perl/5.20.1/CGI.pm line 437.
t/010_core/003_widgets.t ................... ok
t/010_core/004_filter.t .................... ok
t/010_core/005_bind_filter.t ............... skipped: Test requires module 'Lingua::JA::Regular::Unicode' but it's not found
CGI::param called in list context from package HTML::Shakan line 253, this can lead to vulnerabilities. See the warning in "Fetching the value or values of a single named parameter" at /usr/perl5.20.1Dp/lib/site_perl/5.20.1/CGI.pm line 437.
CGI::param called in list context from package HTML::Shakan line 169, this can lead to vulnerabilities. See the warning in "Fetching the value or values of a single named parameter" at /usr/perl5.20.1Dp/lib/site_perl/5.20.1/CGI.pm line 437.
CGI::param called in list context from package HTML::Shakan line 253, this can lead to vulnerabilities. See the warning in "Fetching the value or values of a single named parameter" at /usr/perl5.20.1Dp/lib/site_perl/5.20.1/CGI.pm line 437.
CGI::param called in list context from package HTML::Shakan line 169, this can lead to vulnerabilities. See the warning in "Fetching the value or values of a single named parameter" at /usr/perl5.20.1Dp/lib/site_perl/5.20.1/CGI.pm line 437.
CGI::param called in list context from package HTML::Shakan line 253, this can lead to vulnerabilities. See the warning in "Fetching the value or values of a single named parameter" at /usr/perl5.20.1Dp/lib/site_perl/5.20.1/CGI.pm line 437.
CGI::param called in list context from package HTML::Shakan line 169, this can lead to vulnerabilities. See the warning in "Fetching the value or values of a single named parameter" at /usr/perl5.20.1Dp/lib/site_perl/5.20.1/CGI.pm line 437.
t/010_core/006_fillin_form.t ............... ok
CGI::param called in list context from package HTML::Shakan line 253, this can lead to vulnerabilities. See the warning in "Fetching the value or values of a single named parameter" at /usr/perl5.20.1Dp/lib/site_perl/5.20.1/CGI.pm line 437.
CGI::param called in list context from package HTML::Shakan line 169, this can lead to vulnerabilities. See the warning in "Fetching the value or values of a single named parameter" at /usr/perl5.20.1Dp/lib/site_perl/5.20.1/CGI.pm line 437.
CGI::param called in list context from package HTML::Shakan line 169, this can lead to vulnerabilities. See the warning in "Fetching the value or values of a single named parameter" at /usr/perl5.20.1Dp/lib/site_perl/5.20.1/CGI.pm line 437.
CGI::param called in list context from package HTML::Shakan line 169, this can lead to vulnerabilities. See the warning in "Fetching the value or values of a single named parameter" at /usr/perl5.20.1Dp/lib/site_perl/5.20.1/CGI.pm line 437.
t/010_core/007_fillin_date.t ............... ok
CGI::param called in list context from package HTML::Shakan line 253, this can lead to vulnerabilities. See the warning in "Fetching the value or values of a single named parameter" at /usr/perl5.20.1Dp/lib/site_perl/5.20.1/CGI.pm line 437.
CGI::param called in list context from package HTML::Shakan line 253, this can lead to vulnerabilities. See the warning in "Fetching the value or values of a single named parameter" at /usr/perl5.20.1Dp/lib/site_perl/5.20.1/CGI.pm line 437.
t/010_core/008_declare.t ................... ok
CGI::param called in list context from package HTML::Shakan line 253, this can lead to vulnerabilities. See the warning in "Fetching the value or values of a single named parameter" at /usr/perl5.20.1Dp/lib/site_perl/5.20.1/CGI.pm line 437.
t/010_core/009_validator_message.t ......... ok
CGI::param called in list context from package HTML::Shakan line 253, this can lead to vulnerabilities. See the warning in "Fetching the value or values of a single named parameter" at /usr/perl5.20.1Dp/lib/site_perl/5.20.1/CGI.pm line 437.
CGI::param called in list context from package HTML::Shakan line 253, this can lead to vulnerabilities. See the warning in "Fetching the value or values of a single named parameter" at /usr/perl5.20.1Dp/lib/site_perl/5.20.1/CGI.pm line 437.
CGI::param called in list context from package HTML::Shakan line 253, this can lead to vulnerabilities. See the warning in "Fetching the value or values of a single named parameter" at /usr/perl5.20.1Dp/lib/site_perl/5.20.1/CGI.pm line 437.
CGI::param called in list context from package HTML::Shakan line 253, this can lead to vulnerabilities. See the warning in "Fetching the value or values of a single named parameter" at /usr/perl5.20.1Dp/lib/site_perl/5.20.1/CGI.pm line 437.
CGI::param called in list context from package HTML::Shakan line 253, this can lead to vulnerabilities. See the warning in "Fetching the value or values of a single named parameter" at /usr/perl5.20.1Dp/lib/site_perl/5.20.1/CGI.pm line 437.
CGI::param called in list context from package HTML::Shakan line 253, this can lead to vulnerabilities. See the warning in "Fetching the value or values of a single named parameter" at /usr/perl5.20.1Dp/lib/site_perl/5.20.1/CGI.pm line 437.
t/010_core/010_submitted.t ................. ok
CGI::param called in list context from package HTML::Shakan line 253, this can lead to vulnerabilities. See the warning in "Fetching the value or values of a single named parameter" at /usr/perl5.20.1Dp/lib/site_perl/5.20.1/CGI.pm line 437.
CGI::param called in list context from package HTML::Shakan line 253, this can lead to vulnerabilities. See the warning in "Fetching the value or values of a single named parameter" at /usr/perl5.20.1Dp/lib/site_perl/5.20.1/CGI.pm line 437.
CGI::param called in list context from package HTML::Shakan line 253, this can lead to vulnerabilities. See the warning in "Fetching the value or values of a single named parameter" at /usr/perl5.20.1Dp/lib/site_perl/5.20.1/CGI.pm line 437.
CGI::param called in list context from package HTML::Shakan line 253, this can lead to vulnerabilities. See the warning in "Fetching the value or values of a single named parameter" at /usr/perl5.20.1Dp/lib/site_perl/5.20.1/CGI.pm line 437.
t/010_core/011_custom_validation_form.t .... ok
CGI::param called in list context from package HTML::Shakan line 253, this can lead to vulnerabilities. See the warning in "Fetching the value or values of a single named parameter" at /usr/perl5.20.1Dp/lib/site_perl/5.20.1/CGI.pm line 437.
CGI::param called in list context from package HTML::Shakan line 253, this can lead to vulnerabilities. See the warning in "Fetching the value or values of a single named parameter" at /usr/perl5.20.1Dp/lib/site_perl/5.20.1/CGI.pm line 437.
t/010_core/012_custom_validation_field.t ... ok
CGI::param called in list context from package HTML::Shakan line 253, this can lead to vulnerabilities. See the warning in "Fetching the value or values of a single named parameter" at /usr/perl5.20.1Dp/lib/site_perl/5.20.1/CGI.pm line 437.
CGI::param called in list context from package HTML::Shakan line 253, this can lead to vulnerabilities. See the warning in "Fetching the value or values of a single named parameter" at /usr/perl5.20.1Dp/lib/site_perl/5.20.1/CGI.pm line 437.
CGI::param called in list context from package HTML::Shakan line 253, this can lead to vulnerabilities. See the warning in "Fetching the value or values of a single named parameter" at /usr/perl5.20.1Dp/lib/site_perl/5.20.1/CGI.pm line 437.
t/010_core/013_render_field.t .............. ok
CGI::param called in list context from package HTML::Shakan line 253, this can lead to vulnerabilities. See the warning in "Fetching the value or values of a single named parameter" at /usr/perl5.20.1Dp/lib/site_perl/5.20.1/CGI.pm line 437.
t/010_core/014_multi_value.t ............... ok
t/020_inflator/001_datetime.t .............. skipped: Test requires module 'DateTime::Format::HTTP' but it's not found
t/020_inflator/002_dt_join.t ............... skipped: Test requires module 'DateTime::Format::HTTP' but it's not found
# FVL: 0.38
CGI::param called in list context from package HTML::Shakan line 253, this can lead to vulnerabilities. See the warning in "Fetching the value or values of a single named parameter" at /usr/perl5.20.1Dp/lib/site_perl/5.20.1/CGI.pm line 437.
CGI::param called in list context from package HTML::Shakan line 253, this can lead to vulnerabilities. See the warning in "Fetching the value or values of a single named parameter" at /usr/perl5.20.1Dp/lib/site_perl/5.20.1/CGI.pm line 437.
CGI::param called in list context from package HTML::Shakan line 253, this can lead to vulnerabilities. See the warning in "Fetching the value or values of a single named parameter" at /usr/perl5.20.1Dp/lib/site_perl/5.20.1/CGI.pm line 437.
t/030_field/001_file.t ..................... ok
# FVL: 0.38
CGI::param called in list context from package HTML::Shakan line 253, this can lead to vulnerabilities. See the warning in "Fetching the value or values of a single named parameter" at /usr/perl5.20.1Dp/lib/site_perl/5.20.1/CGI.pm line 437.
CGI::param called in list context from package HTML::Shakan line 253, this can lead to vulnerabilities. See the warning in "Fetching the value or values of a single named parameter" at /usr/perl5.20.1Dp/lib/site_perl/5.20.1/CGI.pm line 437.
t/030_field/002_image.t .................... ok
CGI::param called in list context from package HTML::Shakan line 253, this can lead to vulnerabilities. See the warning in "Fetching the value or values of a single named parameter" at /usr/perl5.20.1Dp/lib/site_perl/5.20.1/CGI.pm line 437.
CGI::param called in list context from package HTML::Shakan line 253, this can lead to vulnerabilities. See the warning in "Fetching the value or values of a single named parameter" at /usr/perl5.20.1Dp/lib/site_perl/5.20.1/CGI.pm line 437.
CGI::param called in list context from package HTML::Shakan line 253, this can lead to vulnerabilities. See the warning in "Fetching the value or values of a single named parameter" at /usr/perl5.20.1Dp/lib/site_perl/5.20.1/CGI.pm line 437.
CGI::param called in list context from package HTML::Shakan line 253, this can lead to vulnerabilities. See the warning in "Fetching the value or values of a single named parameter" at /usr/perl5.20.1Dp/lib/site_perl/5.20.1/CGI.pm line 437.
t/030_field/003_duplication.t .............. ok
t/040_model/001_datamodel.t ................ skipped: Test requires module 'Data::Model' but it's not found
t/040_model/002_skinny.t ................... skipped: Test requires module 'DBIx::Skinny' but it's not found
CGI::param called in list context from package HTML::Shakan line 253, this can lead to vulnerabilities. See the warning in "Fetching the value or values of a single named parameter" at /usr/perl5.20.1Dp/lib/site_perl/5.20.1/CGI.pm line 437.
CGI::param called in list context from package HTML::Shakan line 253, this can lead to vulnerabilities. See the warning in "Fetching the value or values of a single named parameter" at /usr/perl5.20.1Dp/lib/site_perl/5.20.1/CGI.pm line 437.
CGI::param called in list context from package HTML::Shakan line 253, this can lead to vulnerabilities. See the warning in "Fetching the value or values of a single named parameter" at /usr/perl5.20.1Dp/lib/site_perl/5.20.1/CGI.pm line 437.
CGI::param called in list context from package HTML::Shakan line 253, this can lead to vulnerabilities. See the warning in "Fetching the value or values of a single named parameter" at /usr/perl5.20.1Dp/lib/site_perl/5.20.1/CGI.pm line 437.
t/999_regression/001_destructive_widget.t .. ok
t/upload_submitted.t ....................... ok
All tests successful.
Files=24, Tests=83, 55 wallclock secs ( 0.41 usr 0.22 sys + 22.80 cusr 7.75 csys = 31.18 CPU)
Result: PASS
------------------------------
PREREQUISITES
------------------------------
Prerequisite modules loaded:
requires:
Module Need Have
------------------- -------- --------
Email::Valid::Loose 0.05 0.05
FormValidator::Lite 0.24 0.38
Hash::MultiValue 0 0.15
HTML::Escape 0 1.09
List::MoreUtils 0.22 0.404
List::Util 1.32 1.38
Mouse 0.9 2.4.1
parent 0 0.228
perl 5.008001 5.020001
build_requires:
Module Need Have
------------------- -------- --------
CGI 0 4.13
ExtUtils::CBuilder 0 0.280217
Test::More 0.98 1.001014
Test::Requires 0.06 0.08
configure_requires:
Module Need Have
------------------- -------- --------
CPAN::Meta 0 2.143240
CPAN::Meta::Prereqs 0 2.143240
Module::Build 0.38 0.4211
------------------------------
ENVIRONMENT AND OTHER CONTEXT
------------------------------
Environment variables:
DBIC_NO_WARN_BAD_PERL = 1
LC_ALL = de_DE.ISO8859-1
PATH = /usr/local/bin:/usr/bin:/bin:/usr/local/sbin:/usr/sbin:/sbin:/home/cpansand/bin/freebsd10.0:/home/cpansand/bin/sh:/home/cpansand/bin:/usr/games:/home/cpansand/devel:/home/eserte/src/srezic-misc/scripts
PERL5LIB = /home/cpansand/.cpan/build/Exporter-AutoClean-0.01-KuCNvF/blib/arch:/home/cpansand/.cpan/build/Exporter-AutoClean-0.01-KuCNvF/blib/lib:/home/cpansand/.cpan/build/Path-AttrRouter-0.04-_WmCFK/blib/arch:/home/cpansand/.cpan/build/Path-AttrRouter-0.04-_WmCFK/blib/lib:/home/cpansand/.cpan/build/Data-Util-0.63-GQiEym/blib/arch:/home/cpansand/.cpan/build/Data-Util-0.63-GQiEym/blib/lib:/home/cpansand/.cpan/build/Plack-Request-WithEncoding-0.12-Sqssau/blib/arch:/home/cpansand/.cpan/build/Plack-Request-WithEncoding-0.12-Sqssau/blib/lib:/home/cpansand/.cpan/build/Object-Container-0.14-do8l_x/blib/arch:/home/cpansand/.cpan/build/Object-Container-0.14-do8l_x/blib/lib:/home/cpansand/.cpan/build/HTML-Escape-1.09-mOcM4W/blib/arch:/home/cpansand/.cpan/build/HTML-Escape-1.09-mOcM4W/blib/lib:/home/cpansand/.cpan/build/Module-Build-Pluggable-PPPort-0.04-tndy2A/blib/arch:/home/cpansand/.cpan/build/Module-Build-Pluggable-PPPort-0.04-tndy2A/blib/lib:/home/cpansand/.cpan/build/FormValidator-Lite-0.38-ZnW2HW/blib/arch:/home/cpansand/.cpan/build/FormValidator-Lite-0.38-ZnW2HW/blib/lib:/home/cpansand/.cpan/build/Email-Valid-Loose-0.05-9ZBtR2/blib/arch:/home/cpansand/.cpan/build/Email-Valid-Loose-0.05-9ZBtR2/blib/lib:/home/cpansand/.cpan/build/Text-TestBase-0.12-UKMXAA/blib/arch:/home/cpansand/.cpan/build/Text-TestBase-0.12-UKMXAA/blib/lib
PERL5OPT =
PERL5_CPANPLUS_IS_RUNNING = 69257
PERL5_CPAN_IS_RUNNING = 69257
PERL5_CPAN_IS_RUNNING_IN_RECURSION = 66297,69257
PERLDOC = -MPod::Perldoc::ToTextOverstrike
PERL_BATCH = yes
PERL_CPAN_REPORTER_CONFIG = /var/tmp/cpansmoker-1023/cpanreporter_000_config.ini
PERL_EXTUTILS_AUTOINSTALL = --defaultdeps
PERL_HTML_DISPLAY_CLASS = HTML::Display::Mozilla
SHELL = /usr/local/bin/zsh
TERM = screen
TMPDIR = /var/tmp/cpansmoker-1023
Perl special variables (and OS-specific diagnostics, for MSWin32):
$^X = /usr/perl5.20.1Dp/bin/perl5.20.1
$UID/$EUID = 1023 / 1023
$GID = 1023 1023
$EGID = 1023 1023
Perl module toolchain versions installed:
Module Have
------------------- --------
CPAN 2.05
CPAN::Meta 2.143240
Cwd 3.48
ExtUtils::CBuilder 0.280217
ExtUtils::Command 1.18
ExtUtils::Install 1.67
ExtUtils::MakeMaker 7.04
ExtUtils::Manifest 1.70
ExtUtils::ParseXS 3.24
File::Spec 3.48
JSON 2.90
JSON::PP 2.27203
Module::Build 0.4211
Module::Signature n/a
Parse::CPAN::Meta 1.4414
Test::Harness 3.30
Test::More 1.001014
YAML 1.14
YAML::Syck 1.29
version 0.9909
--
Summary of my perl5 (revision 5 version 20 subversion 1) configuration:
Platform:
osname=freebsd, osvers=10.1-release, archname=amd64-freebsd-ld
uname='freebsd cvrsnica-freebsd-101.herceg.de 10.1-release freebsd 10.1-release #0 r274401: tue nov 11 21:02:49 utc 2014 root@releng1.nyi.freebsd.org:usrobjusrsrcsysgeneric amd64 '
config_args='-ds -e -Dprefix=/usr/perl5.20.1Dp -Duselongdouble'
hint=recommended, useposix=true, d_sigaction=define
useithreads=undef, usemultiplicity=undef
use64bitint=define, use64bitall=define, uselongdouble=define
usemymalloc=n, bincompat5005=undef
Compiler:
cc='cc', ccflags ='-DHAS_FPSETMASK -DHAS_FLOATINGPOINT_H -fno-strict-aliasing -pipe -fstack-protector -I/usr/local/include',
optimize='-O',
cppflags='-DHAS_FPSETMASK -DHAS_FLOATINGPOINT_H -fno-strict-aliasing -pipe -fstack-protector -I/usr/local/include'
ccversion='', gccversion='4.2.1 Compatible FreeBSD Clang 3.4.1 (tags/RELEASE_34/dot1-final 208032)', gccosandvers=''
intsize=4, longsize=8, ptrsize=8, doublesize=8, byteorder=12345678
d_longlong=define, longlongsize=8, d_longdbl=define, longdblsize=16
ivtype='long', ivsize=8, nvtype='long double', nvsize=16, Off_t='off_t', lseeksize=8
alignbytes=16, prototype=define
Linker and Libraries:
ld='cc', ldflags ='-pthread -Wl,-E -fstack-protector -L/usr/local/lib'
libpth=/usr/lib /usr/local/lib /usr/include/clang/3.4.1 /usr/lib
libs=-lgdbm -lm -lcrypt -lutil -lc
perllibs=-lm -lcrypt -lutil -lc
libc=, so=so, useshrplib=false, libperl=libperl.a
gnulibc_version=''
Dynamic Linking:
dlsrc=dl_dlopen.xs, dlext=so, d_dlsymun=undef, ccdlflags=' '
cccdlflags='-DPIC -fPIC', lddlflags='-shared -L/usr/local/lib -fstack-protector'
Characteristics of this binary (from libperl):
Compile-time options: HAS_TIMES PERLIO_LAYERS PERL_DONT_CREATE_GVSV
PERL_HASH_FUNC_ONE_AT_A_TIME_HARD PERL_MALLOC_WRAP
PERL_NEW_COPY_ON_WRITE PERL_PRESERVE_IVUV
USE_64_BIT_ALL USE_64_BIT_INT USE_LARGE_FILES
USE_LOCALE USE_LOCALE_COLLATE USE_LOCALE_CTYPE
USE_LOCALE_NUMERIC USE_LONG_DOUBLE USE_PERLIO
USE_PERL_ATOF
Built under freebsd
Compiled at Feb 13 2015 08:17:27
%ENV:
PERL5LIB="/home/cpansand/.cpan/build/Exporter-AutoClean-0.01-KuCNvF/blib/arch:/home/cpansand/.cpan/build/Exporter-AutoClean-0.01-KuCNvF/blib/lib:/home/cpansand/.cpan/build/Path-AttrRouter-0.04-_WmCFK/blib/arch:/home/cpansand/.cpan/build/Path-AttrRouter-0.04-_WmCFK/blib/lib:/home/cpansand/.cpan/build/Data-Util-0.63-GQiEym/blib/arch:/home/cpansand/.cpan/build/Data-Util-0.63-GQiEym/blib/lib:/home/cpansand/.cpan/build/Plack-Request-WithEncoding-0.12-Sqssau/blib/arch:/home/cpansand/.cpan/build/Plack-Request-WithEncoding-0.12-Sqssau/blib/lib:/home/cpansand/.cpan/build/Object-Container-0.14-do8l_x/blib/arch:/home/cpansand/.cpan/build/Object-Container-0.14-do8l_x/blib/lib:/home/cpansand/.cpan/build/HTML-Escape-1.09-mOcM4W/blib/arch:/home/cpansand/.cpan/build/HTML-Escape-1.09-mOcM4W/blib/lib:/home/cpansand/.cpan/build/Module-Build-Pluggable-PPPort-0.04-tndy2A/blib/arch:/home/cpansand/.cpan/build/Module-Build-Pluggable-PPPort-0.04-tndy2A/blib/lib:/home/cpansand/.cpan/build/FormValidator-Lite-0.38-ZnW2HW/blib/arch:/home/cpansand/.cpan/build/FormValidator-Lite-0.38-ZnW2HW/blib/lib:/home/cpansand/.cpan/build/Email-Valid-Loose-0.05-9ZBtR2/blib/arch:/home/cpansand/.cpan/build/Email-Valid-Loose-0.05-9ZBtR2/blib/lib:/home/cpansand/.cpan/build/Text-TestBase-0.12-UKMXAA/blib/arch:/home/cpansand/.cpan/build/Text-TestBase-0.12-UKMXAA/blib/lib"
PERL5OPT=""
PERL5_CPANPLUS_IS_RUNNING="69257"
PERL5_CPAN_IS_RUNNING="69257"
PERL5_CPAN_IS_RUNNING_IN_RECURSION="66297,69257"
PERLDOC="-MPod::Perldoc::ToTextOverstrike"
PERL_BATCH="yes"
PERL_CPAN_REPORTER_CONFIG="/var/tmp/cpansmoker-1023/cpanreporter_000_config.ini"
PERL_EXTUTILS_AUTOINSTALL="--defaultdeps"
PERL_HTML_DISPLAY_CLASS="HTML::Display::Mozilla"
@INC:
/home/cpansand/.cpan/build/Exporter-AutoClean-0.01-KuCNvF/blib/arch
/home/cpansand/.cpan/build/Exporter-AutoClean-0.01-KuCNvF/blib/lib
/home/cpansand/.cpan/build/Path-AttrRouter-0.04-_WmCFK/blib/arch
/home/cpansand/.cpan/build/Path-AttrRouter-0.04-_WmCFK/blib/lib
/home/cpansand/.cpan/build/Data-Util-0.63-GQiEym/blib/arch
/home/cpansand/.cpan/build/Data-Util-0.63-GQiEym/blib/lib
/home/cpansand/.cpan/build/Plack-Request-WithEncoding-0.12-Sqssau/blib/arch
/home/cpansand/.cpan/build/Plack-Request-WithEncoding-0.12-Sqssau/blib/lib
/home/cpansand/.cpan/build/Object-Container-0.14-do8l_x/blib/arch
/home/cpansand/.cpan/build/Object-Container-0.14-do8l_x/blib/lib
/home/cpansand/.cpan/build/HTML-Escape-1.09-mOcM4W/blib/arch
/home/cpansand/.cpan/build/HTML-Escape-1.09-mOcM4W/blib/lib
/home/cpansand/.cpan/build/Module-Build-Pluggable-PPPort-0.04-tndy2A/blib/arch
/home/cpansand/.cpan/build/Module-Build-Pluggable-PPPort-0.04-tndy2A/blib/lib
/home/cpansand/.cpan/build/FormValidator-Lite-0.38-ZnW2HW/blib/arch
/home/cpansand/.cpan/build/FormValidator-Lite-0.38-ZnW2HW/blib/lib
/home/cpansand/.cpan/build/Email-Valid-Loose-0.05-9ZBtR2/blib/arch
/home/cpansand/.cpan/build/Email-Valid-Loose-0.05-9ZBtR2/blib/lib
/home/cpansand/.cpan/build/Text-TestBase-0.12-UKMXAA/blib/arch
/home/cpansand/.cpan/build/Text-TestBase-0.12-UKMXAA/blib/lib
/usr/perl5.20.1Dp/lib/site_perl/5.20.1/amd64-freebsd-ld
/usr/perl5.20.1Dp/lib/site_perl/5.20.1
/usr/perl5.20.1Dp/lib/5.20.1/amd64-freebsd-ld
/usr/perl5.20.1Dp/lib/5.20.1
.