MooseX-WithCache v0.01002 Perl 5 v5.10.1 i686-linux
- Status
- Pass
- From
- Serguei Trouchelle (STRO)
- Dist
-
MooseX-WithCache v0.01002
- Platform
- Perl 5 v5.10.1 i686-linux
- Date
- 2010-07-20 16:01:16
- ID
- 0732f5a2-9418-11df-8f2e-c3d94a543d09
This distribution has been tested as part of the CPAN Testers
project, supporting the Perl programming language. See
http://wiki.cpantesters.org/ for more information or email
questions to cpan-testers-discuss@perl.org
--
Dear Daisuke Maki,
This is a computer-generated report for MooseX-WithCache-0.01002
on perl 5.10.1, created by CPAN-Reporter-1.1711.
Thank you for uploading your work to CPAN. Congratulations!
All tests were successful.
Sections of this report:
* Tester comments
* Program output
* Prerequisites
* Environment and other context
------------------------------
TESTER COMMENTS
------------------------------
Additional comments from tester:
this report is from an automated smoke testing program
and was not reviewed by a human for accuracy
------------------------------
PROGRAM OUTPUT
------------------------------
Output from '/usr/bin/make test':
PERL_DL_NONLAZY=1 /home/stro/perl/perl5101m/bin/perl "-MExtUtils::Command::MM" "-e" "test_harness(0, 'inc', 'blib/lib', 'blib/arch')" t/*.t t/*/*.t
t/00_compile.t ............... ok
t/02_memcached.t ............. skipped: no memcached server found
must specify either 'datastore' hashref or 'global' flag at /home/stro/perl/perl5101m/lib/site_perl/5.10.1/CHI/Driver/Memory.pm line 34
CHI::Driver::Memory::BUILD('Class::MOP::Class::__ANON__::SERIAL::3=HASH(0x8ae7f10)', 'HASH(0x8792378)') called at /home/stro/perl/perl5101m/lib/site_perl/5.10.1/i686-linux-multi/Class/MOP/Method.pm line 123
Class::MOP::Method::execute('Moose::Meta::Method=HASH(0x8ad7c70)', 'Class::MOP::Class::__ANON__::SERIAL::3=HASH(0x8ae7f10)', 'HASH(0x8792378)') called at /home/stro/perl/perl5101m/lib/site_perl/5.10.1/i686-linux-multi/Moose/Object.pm line 50
Moose::Object::BUILDALL('Class::MOP::Class::__ANON__::SERIAL::3=HASH(0x8ae7f10)', 'HASH(0x8792378)') called at /home/stro/perl/perl5101m/lib/site_perl/5.10.1/i686-linux-multi/Moose/Meta/Class.pm line 278
Moose::Meta::Class::new_object('Moose::Meta::Class=HASH(0x8792368)', 'HASH(0x8792378)') called at /home/stro/perl/perl5101m/lib/site_perl/5.10.1/i686-linux-multi/Moose/Object.pm line 25
Moose::Object::new('Class::MOP::Class::__ANON__::SERIAL::3', 'chi_root_class', 'CHI', 'driver_class', 'CHI::Driver::Memory') called at generated method (unknown origin) line 3
CHI::Driver::Memory::new('Class::MOP::Class::__ANON__::SERIAL::3', 'chi_root_class', 'CHI', 'driver_class', 'CHI::Driver::Memory') called at /home/stro/perl/perl5101m/lib/site_perl/5.10.1/CHI.pm line 76
CHI::new('CHI', 'driver', 'Memory') called at t/03_chi.t line 29
t/03_chi.t ................... ok
t/04_fastmmap.t .............. ok
t/deprecated/00_compile.t .... ok
t/deprecated/02_memcached.t .. skipped: no memcached server found
must specify either 'datastore' hashref or 'global' flag at /home/stro/perl/perl5101m/lib/site_perl/5.10.1/CHI/Driver/Memory.pm line 34
CHI::Driver::Memory::BUILD('Class::MOP::Class::__ANON__::SERIAL::3=HASH(0x8ae8968)', 'HASH(0x882b898)') called at /home/stro/perl/perl5101m/lib/site_perl/5.10.1/i686-linux-multi/Class/MOP/Method.pm line 123
Class::MOP::Method::execute('Moose::Meta::Method=HASH(0x8ad9e40)', 'Class::MOP::Class::__ANON__::SERIAL::3=HASH(0x8ae8968)', 'HASH(0x882b898)') called at /home/stro/perl/perl5101m/lib/site_perl/5.10.1/i686-linux-multi/Moose/Object.pm line 50
Moose::Object::BUILDALL('Class::MOP::Class::__ANON__::SERIAL::3=HASH(0x8ae8968)', 'HASH(0x882b898)') called at /home/stro/perl/perl5101m/lib/site_perl/5.10.1/i686-linux-multi/Moose/Meta/Class.pm line 278
Moose::Meta::Class::new_object('Moose::Meta::Class=HASH(0x8802718)', 'HASH(0x882b898)') called at /home/stro/perl/perl5101m/lib/site_perl/5.10.1/i686-linux-multi/Moose/Object.pm line 25
Moose::Object::new('Class::MOP::Class::__ANON__::SERIAL::3', 'chi_root_class', 'CHI', 'driver_class', 'CHI::Driver::Memory') called at generated method (unknown origin) line 3
CHI::Driver::Memory::new('Class::MOP::Class::__ANON__::SERIAL::3', 'chi_root_class', 'CHI', 'driver_class', 'CHI::Driver::Memory') called at /home/stro/perl/perl5101m/lib/site_perl/5.10.1/CHI.pm line 76
CHI::new('CHI', 'driver', 'Memory') called at t/deprecated/03_chi.t line 30
t/deprecated/03_chi.t ........ ok
t/deprecated/04_fastmmap.t ... ok
All tests successful.
Files=8, Tests=62, 8 wallclock secs ( 0.04 usr 0.09 sys + 2.34 cusr 1.09 csys = 3.56 CPU)
Result: PASS
------------------------------
PREREQUISITES
------------------------------
Prerequisite modules loaded:
requires:
Module Need Have
--------------------------- ---- -----
Cache::Memcached 0 1.29
Data::Dumper 0 2.126
Digest::MD5 0 2.40
ExtUtils::MakeMaker 6.42 6.56
IO::Socket::INET 0 1.31
Moose 0.59 1.08
MooseX::Role::Parameterized 0 0.19
Test::Exception 0 0.29
Test::More 0 0.94
configure_requires:
Module Need Have
--------------------------- ---- -----
ExtUtils::MakeMaker 6.42 6.56
------------------------------
ENVIRONMENT AND OTHER CONTEXT
------------------------------
Environment variables:
AUTOMATED_TESTING = 1
LANG = en_US.UTF-8
PATH = /usr/local/bin:/usr/bin:/bin:/usr/games
PERL5LIB =
PERL5OPT =
PERL5_CPANPLUS_IS_RUNNING = 13858
PERL5_CPAN_IS_RUNNING = 13858
PERL5_CPAN_IS_RUNNING_IN_RECURSION = 7014,13858
PERL_CR_SMOKER_CURRENT = MooseX-WithCache-0.01002
PERL_EXTUTILS_AUTOINSTALL = --defaultdeps
PERL_MM_USE_DEFAULT = 1
SHELL = /bin/bash
TERM = xterm
Perl special variables (and OS-specific diagnostics, for MSWin32):
$^X = /home/stro/perl/perl5101m/bin/perl
$UID/$EUID = 1000 / 1000
$GID = 1000 20 24 25 29 44 46 1000
$EGID = 1000 20 24 25 29 44 46 1000
Perl module toolchain versions installed:
Module Have
------------------- ------
CPAN 1.9402
Cwd 3.31
ExtUtils::CBuilder 0.2703
ExtUtils::Command 1.16
ExtUtils::Install 1.54
ExtUtils::MakeMaker 6.56
ExtUtils::Manifest 1.56
ExtUtils::ParseXS 2.2206
File::Spec 3.31
Module::Build 0.3607
Module::Signature n/a
Test::Harness 3.21
Test::More 0.94
YAML 0.71
YAML::Syck 1.10
version 0.82
--
Summary of my perl5 (revision 5 version 10 subversion 1) configuration:
Platform:
osname=linux, osvers=2.6.26-2-686, archname=i686-linux-multi
uname='linux debian5 2.6.26-2-686 #1 smp wed may 12 21:56:10 utc 2010 i686 gnulinux '
config_args=''
hint=recommended, useposix=true, d_sigaction=define
useithreads=undef, usemultiplicity=define
useperlio=define, d_sfio=undef, uselargefiles=define, usesocks=undef
use64bitint=undef, use64bitall=undef, uselongdouble=undef
usemymalloc=n, bincompat5005=undef
Compiler:
cc='cc', ccflags ='-fno-strict-aliasing -pipe -fstack-protector -I/usr/local/include -D_LARGEFILE_SOURCE -D_FILE_OFFSET_BITS=64',
optimize='-O2',
cppflags='-fno-strict-aliasing -pipe -fstack-protector -I/usr/local/include'
ccversion='', gccversion='4.3.2', gccosandvers=''
intsize=4, longsize=4, ptrsize=4, doublesize=8, byteorder=1234
d_longlong=define, longlongsize=8, d_longdbl=define, longdblsize=12
ivtype='long', ivsize=4, nvtype='double', nvsize=8, Off_t='off_t', lseeksize=8
alignbytes=4, prototype=define
Linker and Libraries:
ld='cc', ldflags =' -fstack-protector -L/usr/local/lib'
libpth=/usr/local/lib /lib /usr/lib
libs=-lnsl -ldb -ldl -lm -lcrypt -lutil -lc
perllibs=-lnsl -ldl -lm -lcrypt -lutil -lc
libc=/lib/libc-2.7.so, so=so, useshrplib=false, libperl=libperl.a
gnulibc_version='2.7'
Dynamic Linking:
dlsrc=dl_dlopen.xs, dlext=so, d_dlsymun=undef, ccdlflags='-Wl,-E'
cccdlflags='-fPIC', lddlflags='-shared -O2 -L/usr/local/lib -fstack-protector'
Characteristics of this binary (from libperl):
Compile-time options: MULTIPLICITY PERL_DONT_CREATE_GVSV
PERL_IMPLICIT_CONTEXT PERL_MALLOC_WRAP
USE_LARGE_FILES USE_PERLIO
Built under linux
Compiled at Jun 16 2010 14:55:13
%ENV:
PERL5LIB=""
PERL5OPT=""
PERL5_CPANPLUS_IS_RUNNING="13858"
PERL5_CPAN_IS_RUNNING="13858"
PERL5_CPAN_IS_RUNNING_IN_RECURSION="7014,13858"
PERL_CR_SMOKER_CURRENT="MooseX-WithCache-0.01002"
PERL_EXTUTILS_AUTOINSTALL="--defaultdeps"
PERL_MM_USE_DEFAULT="1"
@INC:
/home/stro/perl/perl5101m/lib/5.10.1/i686-linux-multi
/home/stro/perl/perl5101m/lib/5.10.1
/home/stro/perl/perl5101m/lib/site_perl/5.10.1/i686-linux-multi
/home/stro/perl/perl5101m/lib/site_perl/5.10.1
.