Test-LeakTrace v0.17 Perl 5 v5.30.2 x86_64-linux
- Status
- Pass
- From
- Slaven Rezić
- Dist
-
Test-LeakTrace v0.17
- Platform
- Perl 5 v5.30.2 x86_64-linux
- Date
- 2021-01-06T22:03:37
- ID
- 072a4c52-506b-11eb-8bba-a37d1f24ea8f
This distribution has been tested as part of the CPAN Testers
project, supporting the Perl programming language. See
http://wiki.cpantesters.org/ for more information or email
questions to cpan-testers-discuss@perl.org
--
Dear Lee Johnson,
This is a computer-generated report for Test-LeakTrace-0.17
on perl 5.30.2, created by CPAN-Reporter-1.2018.
Thank you for uploading your work to CPAN. Congratulations!
All tests were successful.
Sections of this report:
* Tester comments
* Program output
* Prerequisites
* Environment and other context
------------------------------
TESTER COMMENTS
------------------------------
Additional comments from tester:
none provided
------------------------------
PROGRAM OUTPUT
------------------------------
Output from '/usr/bin/make test':
"/opt/perl-5.30.2/bin/perl" -MExtUtils::Command::MM -e 'cp_nonempty' -- LeakTrace.bs blib/arch/auto/Test/LeakTrace/LeakTrace.bs 644
PERL_DL_NONLAZY=1 "/opt/perl-5.30.2/bin/perl" "-MExtUtils::Command::MM" "-MTest::Harness" "-e" "undef *Test::Harness::Switches; test_harness(0, 'blib/lib', 'blib/arch')" t/*.t
# Testing Test::LeakTrace/0.17
t/00_compile.t ..... ok
t/01_info.t ........ ok
t/02_refs.t ........ ok
t/03_count.t ....... ok
t/04_test_funcs.t .. ok
leaked REF(0x1c0e780) from /opt/perl-5.30.2/lib/site_perl/5.30.2/Test2/Util/HashBase.pm line 153.
leaked SCALAR(0x228fd30) from /opt/perl-5.30.2/lib/site_perl/5.30.2/Test2/API/Context.pm line 223.
leaked REF(0x228f5b0) from /opt/perl-5.30.2/lib/site_perl/5.30.2/Test2/Util/HashBase.pm line 153.
leaked GLOB(0x2354410) from /opt/perl-5.30.2/lib/site_perl/5.30.2/Test2/Hub.pm line 280.
leaked GLOB(0x2353fd8) from /opt/perl-5.30.2/lib/site_perl/5.30.2/Test/Builder.pm line 64.
leaked GLOB(0x2366830) from /opt/perl-5.30.2/lib/site_perl/5.30.2/Test2/API/Context.pm line 232.
leaked GLOB(0x23667d0) from /opt/perl-5.30.2/lib/site_perl/5.30.2/Test2/Formatter/TAP.pm line 195.
leaked GLOB(0x23667b8) from /opt/perl-5.30.2/lib/site_perl/5.30.2/Test2/Event/V2.pm line 69.
leaked SCALAR(0x23667a0) from /opt/perl-5.30.2/lib/site_perl/5.30.2/Test/Builder.pm line 64.
leaked GLOB(0x2366740) from /opt/perl-5.30.2/lib/site_perl/5.30.2/Test2/Hub.pm line 293.
leaked ARRAY(0x2366680) from /opt/perl-5.30.2/lib/site_perl/5.30.2/Test2/Event/V2.pm line 42.
leaked SCALAR(0x2366638) from /opt/perl-5.30.2/lib/site_perl/5.30.2/Test2/Event/V2.pm line 42.
leaked SCALAR(0x2366620) from /opt/perl-5.30.2/lib/site_perl/5.30.2/Test2/Event/V2.pm line 42.
leaked SCALAR(0x2366608) from /opt/perl-5.30.2/lib/site_perl/5.30.2/Test2/Event/V2.pm line 42.
leaked SCALAR(0x23665f0) from /opt/perl-5.30.2/lib/site_perl/5.30.2/Test2/Event/V2.pm line 42.
leaked SCALAR(0x23665d8) from /opt/perl-5.30.2/lib/site_perl/5.30.2/Test2/Event/V2.pm line 42.
leaked SCALAR(0x23665c0) from /opt/perl-5.30.2/lib/site_perl/5.30.2/Test2/Event/V2.pm line 42.
leaked SCALAR(0x23665a8) from /opt/perl-5.30.2/lib/site_perl/5.30.2/Test2/Event/V2.pm line 42.
leaked SCALAR(0x2366590) from /opt/perl-5.30.2/lib/site_perl/5.30.2/Test2/Event/V2.pm line 42.
leaked SCALAR(0x2366578) from /opt/perl-5.30.2/lib/site_perl/5.30.2/Test2/Event/V2.pm line 42.
leaked SCALAR(0x2366560) from /opt/perl-5.30.2/lib/site_perl/5.30.2/Test2/Event/V2.pm line 42.
leaked HASH(0x2366548) from /opt/perl-5.30.2/lib/site_perl/5.30.2/Test2/Event/V2.pm line 42.
leaked ARRAY(0x2366530) from /opt/perl-5.30.2/lib/site_perl/5.30.2/Test2/Event/V2.pm line 42.
leaked SCALAR(0x2366518) from /opt/perl-5.30.2/lib/site_perl/5.30.2/Test2/Event/V2.pm line 42.
leaked SCALAR(0x2366500) from /opt/perl-5.30.2/lib/site_perl/5.30.2/Test2/Event/V2.pm line 42.
leaked SCALAR(0x23664e8) from /opt/perl-5.30.2/lib/site_perl/5.30.2/Test2/Event/V2.pm line 42.
leaked SCALAR(0x23664d0) from /opt/perl-5.30.2/lib/site_perl/5.30.2/Test2/Event/V2.pm line 42.
leaked SCALAR(0x23664b8) from /opt/perl-5.30.2/lib/site_perl/5.30.2/Test2/Event/V2.pm line 42.
leaked SCALAR(0x23664a0) from /opt/perl-5.30.2/lib/site_perl/5.30.2/Test2/Event/V2.pm line 42.
leaked SCALAR(0x2366488) from /opt/perl-5.30.2/lib/site_perl/5.30.2/Test2/Event/V2.pm line 42.
leaked SCALAR(0x2366470) from /opt/perl-5.30.2/lib/site_perl/5.30.2/Test2/Event/V2.pm line 42.
leaked SCALAR(0x2366458) from /opt/perl-5.30.2/lib/site_perl/5.30.2/Test2/Event/V2.pm line 42.
leaked SCALAR(0x2366440) from /opt/perl-5.30.2/lib/site_perl/5.30.2/Test2/Event/V2.pm line 42.
leaked SCALAR(0x2366428) from /opt/perl-5.30.2/lib/site_perl/5.30.2/Test2/Event/V2.pm line 42.
leaked ARRAY(0x2366410) from /opt/perl-5.30.2/lib/site_perl/5.30.2/Test2/Event/V2.pm line 42.
leaked REF(0x23663c8) from /opt/perl-5.30.2/lib/site_perl/5.30.2/Test2/Util/HashBase.pm line 153.
t/05_script.t ...... ok
t/06_threads.t ..... skipped: require threads
t/07_eval.t ........ ok
t/08_leaktrace.t ... ok
t/09_info_more.t ... ok
t/10_bad_use.t ..... ok
t/11_logfp.t ....... ok
t/12_padstale.t .... ok
t/13_do.t .......... ok
All tests successful.
Files=14, Tests=126, 1 wallclock secs ( 0.05 usr 0.02 sys + 0.69 cusr 0.10 csys = 0.86 CPU)
Result: PASS
------------------------------
PREREQUISITES
------------------------------
Prerequisite modules loaded:
requires:
Module Need Have
------------------- ---- --------
Exporter 5.57 5.73
build_requires:
Module Need Have
------------------- ---- --------
ExtUtils::MakeMaker 0 7.58
Test::More 0.62 1.302182
configure_requires:
Module Need Have
------------------- ---- --------
ExtUtils::MakeMaker 0 7.58
------------------------------
ENVIRONMENT AND OTHER CONTEXT
------------------------------
Environment variables:
LANG = en_US.UTF-8
PATH = /usr/local/bin:/usr/bin:/bin:/usr/local/sbin:/usr/sbin:/sbin:/home/cpansand/bin/linux-gnu:/home/cpansand/bin/sh:/home/cpansand/bin:/usr/games:/home/cpansand/devel:/home/eserte/src/srezic-misc/scripts
PERL5LIB = /home/cpansand/.cpan/build/2021010623/Atomic-Pipe-0.019-0/blib/arch:/home/cpansand/.cpan/build/2021010623/Atomic-Pipe-0.019-0/blib/lib:/home/cpansand/.cpan/build/2021010623/Template-Plugin-StripComments-1.02-0/blib/arch:/home/cpansand/.cpan/build/2021010623/Template-Plugin-StripComments-1.02-0/blib/lib:/home/cpansand/.cpan/build/2021010623/Template-Plugin-NoFollow-1.03-0/blib/arch:/home/cpansand/.cpan/build/2021010623/Template-Plugin-NoFollow-1.03-0/blib/lib:/home/cpansand/.cpan/build/2021010623/Mail-SPF-v2.9.0-0/blib/arch:/home/cpansand/.cpan/build/2021010623/Mail-SPF-v2.9.0-0/blib/lib:/home/cpansand/.cpan/build/2021010623/Dist-Zilla-Plugin-GitHub-RequireGreenBuild-0.01-0/blib/arch:/home/cpansand/.cpan/build/2021010623/Dist-Zilla-Plugin-GitHub-RequireGreenBuild-0.01-0/blib/lib
PERL5OPT =
PERL5_CPANPLUS_IS_RUNNING = 1987718
PERL5_CPAN_IS_RUNNING = 1987718
PERL5_CPAN_IS_RUNNING_IN_RECURSION = 1984496,1987718
PERLDOC = -MPod::Perldoc::ToTextOverstrike
PERL_BATCH = yes
PERL_CANARY_STABILITY_NOPROMPT = 1
PERL_CPAN_REPORTER_CONFIG = /var/tmp/cpansmoker-1023/2021010622/cpanreporter_001_config.ini
PERL_EXTUTILS_AUTOINSTALL = --defaultdeps
PERL_USE_UNSAFE_INC = 1
SHELL = /usr/bin/zsh
TERM = screen
TMPDIR = /var/tmp/cpansmoker-1023/2021010622
Perl special variables (and OS-specific diagnostics, for MSWin32):
$^X = /opt/perl-5.30.2/bin/perl
$UID/$EUID = 1023 / 1023
$GID = 1023 1023
$EGID = 1023 1023
Perl module toolchain versions installed:
Module Have
------------------- --------
CPAN 2.22
CPAN::Meta 2.150010
Cwd 3.78
ExtUtils::CBuilder 0.280231
ExtUtils::Command 7.58
ExtUtils::Install 2.20
ExtUtils::MakeMaker 7.58
ExtUtils::Manifest 1.72
ExtUtils::ParseXS 3.40
File::Spec 3.78
JSON 4.02
JSON::PP 4.05
Module::Build 0.4231
Module::Signature 0.83
Parse::CPAN::Meta 2.150010
Test::Harness 3.42
Test::More 1.302182
YAML 1.30
YAML::Syck 1.32
version 0.9927
--
Summary of my perl5 (revision 5 version 30 subversion 2) configuration:
Platform:
osname=linux
osvers=4.18.0-147.5.1.el8_1.x86_64
archname=x86_64-linux
uname='linux centos8-2gb-nbg1 4.18.0-147.5.1.el8_1.x86_64 #1 smp wed feb 5 02:00:39 utc 2020 x86_64 x86_64 x86_64 gnulinux '
config_args='-ds -e -Dprefix=/opt/perl-5.30.2 -Dcf_email=srezic@cpan.org'
hint=recommended
useposix=true
d_sigaction=define
useithreads=undef
usemultiplicity=undef
use64bitint=define
use64bitall=define
uselongdouble=undef
usemymalloc=n
default_inc_excludes_dot=define
bincompat5005=undef
Compiler:
cc='cc'
ccflags ='-fwrapv -fno-strict-aliasing -pipe -fstack-protector-strong -I/usr/local/include -D_LARGEFILE_SOURCE -D_FILE_OFFSET_BITS=64 -D_FORTIFY_SOURCE=2'
optimize='-O2'
cppflags='-fwrapv -fno-strict-aliasing -pipe -fstack-protector-strong -I/usr/local/include'
ccversion=''
gccversion='8.3.1 20190507 (Red Hat 8.3.1-4)'
gccosandvers=''
intsize=4
longsize=8
ptrsize=8
doublesize=8
byteorder=12345678
doublekind=3
d_longlong=define
longlongsize=8
d_longdbl=define
longdblsize=16
longdblkind=3
ivtype='long'
ivsize=8
nvtype='double'
nvsize=8
Off_t='off_t'
lseeksize=8
alignbytes=8
prototype=define
Linker and Libraries:
ld='cc'
ldflags =' -fstack-protector-strong -L/usr/local/lib'
libpth=/usr/local/lib /usr/lib /lib/../lib64 /usr/lib/../lib64 /lib /lib64 /usr/lib64 /usr/local/lib64
libs=-lpthread -ldb -ldl -lm -lcrypt -lutil -lc
perllibs=-lpthread -ldl -lm -lcrypt -lutil -lc
libc=libc-2.28.so
so=so
useshrplib=false
libperl=libperl.a
gnulibc_version='2.28'
Dynamic Linking:
dlsrc=dl_dlopen.xs
dlext=so
d_dlsymun=undef
ccdlflags='-Wl,-E'
cccdlflags='-fPIC'
lddlflags='-shared -O2 -L/usr/local/lib -fstack-protector-strong'
Characteristics of this binary (from libperl):
Compile-time options:
HAS_TIMES
PERLIO_LAYERS
PERL_COPY_ON_WRITE
PERL_DONT_CREATE_GVSV
PERL_MALLOC_WRAP
PERL_OP_PARENT
PERL_PRESERVE_IVUV
USE_64_BIT_ALL
USE_64_BIT_INT
USE_LARGE_FILES
USE_LOCALE
USE_LOCALE_COLLATE
USE_LOCALE_CTYPE
USE_LOCALE_NUMERIC
USE_LOCALE_TIME
USE_PERLIO
USE_PERL_ATOF
Built under linux
Compiled at Mar 14 2020 22:36:05
%ENV:
PERL5LIB="/home/cpansand/.cpan/build/2021010623/Atomic-Pipe-0.019-0/blib/arch:/home/cpansand/.cpan/build/2021010623/Atomic-Pipe-0.019-0/blib/lib:/home/cpansand/.cpan/build/2021010623/Template-Plugin-StripComments-1.02-0/blib/arch:/home/cpansand/.cpan/build/2021010623/Template-Plugin-StripComments-1.02-0/blib/lib:/home/cpansand/.cpan/build/2021010623/Template-Plugin-NoFollow-1.03-0/blib/arch:/home/cpansand/.cpan/build/2021010623/Template-Plugin-NoFollow-1.03-0/blib/lib:/home/cpansand/.cpan/build/2021010623/Mail-SPF-v2.9.0-0/blib/arch:/home/cpansand/.cpan/build/2021010623/Mail-SPF-v2.9.0-0/blib/lib:/home/cpansand/.cpan/build/2021010623/Dist-Zilla-Plugin-GitHub-RequireGreenBuild-0.01-0/blib/arch:/home/cpansand/.cpan/build/2021010623/Dist-Zilla-Plugin-GitHub-RequireGreenBuild-0.01-0/blib/lib"
PERL5OPT=""
PERL5_CPANPLUS_IS_RUNNING="1987718"
PERL5_CPAN_IS_RUNNING="1987718"
PERL5_CPAN_IS_RUNNING_IN_RECURSION="1984496,1987718"
PERLDOC="-MPod::Perldoc::ToTextOverstrike"
PERL_BATCH="yes"
PERL_CANARY_STABILITY_NOPROMPT="1"
PERL_CPAN_REPORTER_CONFIG="/var/tmp/cpansmoker-1023/2021010622/cpanreporter_001_config.ini"
PERL_EXTUTILS_AUTOINSTALL="--defaultdeps"
PERL_USE_UNSAFE_INC="1"
@INC:
/home/cpansand/.cpan/build/2021010623/Atomic-Pipe-0.019-0/blib/arch
/home/cpansand/.cpan/build/2021010623/Atomic-Pipe-0.019-0/blib/lib
/home/cpansand/.cpan/build/2021010623/Template-Plugin-StripComments-1.02-0/blib/arch
/home/cpansand/.cpan/build/2021010623/Template-Plugin-StripComments-1.02-0/blib/lib
/home/cpansand/.cpan/build/2021010623/Template-Plugin-NoFollow-1.03-0/blib/arch
/home/cpansand/.cpan/build/2021010623/Template-Plugin-NoFollow-1.03-0/blib/lib
/home/cpansand/.cpan/build/2021010623/Mail-SPF-v2.9.0-0/blib/arch
/home/cpansand/.cpan/build/2021010623/Mail-SPF-v2.9.0-0/blib/lib
/home/cpansand/.cpan/build/2021010623/Dist-Zilla-Plugin-GitHub-RequireGreenBuild-0.01-0/blib/arch
/home/cpansand/.cpan/build/2021010623/Dist-Zilla-Plugin-GitHub-RequireGreenBuild-0.01-0/blib/lib
/opt/perl-5.30.2/lib/site_perl/5.30.2/x86_64-linux
/opt/perl-5.30.2/lib/site_perl/5.30.2
/opt/perl-5.30.2/lib/5.30.2/x86_64-linux
/opt/perl-5.30.2/lib/5.30.2
.