ExtUtils-MakeMaker v7.71_05 Perl 5 v5.10.1 MSWin32-x86-multi-thread
- Status
- Pass
- From
- NONAME
- Dist
-
ExtUtils-MakeMaker v7.71_05
- Platform
- Perl 5 v5.10.1 MSWin32-x86-multi-thread
- Date
- 2025-03-01 12:30:49
- ID
- 06de842a-7040-1014-9bd2-ce89b03d33c9
This distribution has been tested as part of the CPAN Testers
project, supporting the Perl programming language. See
http://wiki.cpantesters.org/ for more information or email
questions to cpan-testers-discuss@perl.org
--
Dear BINGOS,
This is a computer-generated report for ExtUtils-MakeMaker-7.71_05
on perl 5.10.1, created by App::cpanminus::reporter 0.17 (1.7045).
Thank you for uploading your work to CPAN. Congratulations!
All tests were successful.
Sections of this report:
* Tester comments
* Program output
* Prerequisites
* Environment and other context
------------------------------
TESTER COMMENTS
------------------------------
Additional comments from tester:
none provided
------------------------------
PROGRAM OUTPUT
------------------------------
Output from '':
Building and testing ExtUtils-MakeMaker-7.71_05
cp lib/ExtUtils/MM_OS390.pm blib\lib\ExtUtils\MM_OS390.pm
cp lib/ExtUtils/MM_OS2.pm blib\lib\ExtUtils\MM_OS2.pm
cp lib/ExtUtils/MM_VOS.pm blib\lib\ExtUtils\MM_VOS.pm
cp lib/ExtUtils/Command.pm blib\lib\ExtUtils\Command.pm
cp lib/ExtUtils/MM_Unix.pm blib\lib\ExtUtils\MM_Unix.pm
cp lib/ExtUtils/MM.pm blib\lib\ExtUtils\MM.pm
cp lib/ExtUtils/MM_Win32.pm blib\lib\ExtUtils\MM_Win32.pm
cp lib/ExtUtils/MM_UWIN.pm blib\lib\ExtUtils\MM_UWIN.pm
cp lib/ExtUtils/MM_DOS.pm blib\lib\ExtUtils\MM_DOS.pm
cp lib/ExtUtils/MM_Cygwin.pm blib\lib\ExtUtils\MM_Cygwin.pm
cp lib/ExtUtils/MM_MacOS.pm blib\lib\ExtUtils\MM_MacOS.pm
cp lib/ExtUtils/MM_Win95.pm blib\lib\ExtUtils\MM_Win95.pm
cp lib/ExtUtils/MM_VMS.pm blib\lib\ExtUtils\MM_VMS.pm
cp lib/ExtUtils/MM_BeOS.pm blib\lib\ExtUtils\MM_BeOS.pm
cp lib/ExtUtils/Liblist.pm blib\lib\ExtUtils\Liblist.pm
cp lib/ExtUtils/MM_AIX.pm blib\lib\ExtUtils\MM_AIX.pm
cp lib/ExtUtils/MM_Darwin.pm blib\lib\ExtUtils\MM_Darwin.pm
cp lib/ExtUtils/Liblist/Kid.pm blib\lib\ExtUtils\Liblist\Kid.pm
cp lib/ExtUtils/MM_QNX.pm blib\lib\ExtUtils\MM_QNX.pm
cp lib/ExtUtils/Command/MM.pm blib\lib\ExtUtils\Command\MM.pm
cp lib/ExtUtils/MM_NW5.pm blib\lib\ExtUtils\MM_NW5.pm
cp lib/ExtUtils/MM_Any.pm blib\lib\ExtUtils\MM_Any.pm
cp lib/ExtUtils/MakeMaker.pm blib\lib\ExtUtils\MakeMaker.pm
cp lib/ExtUtils/MakeMaker/Tutorial.pod blib\lib\ExtUtils\MakeMaker\Tutorial.pod
cp lib/ExtUtils/Mkbootstrap.pm blib\lib\ExtUtils\Mkbootstrap.pm
cp lib/ExtUtils/MakeMaker/FAQ.pod blib\lib\ExtUtils\MakeMaker\FAQ.pod
cp lib/ExtUtils/Mksymlists.pm blib\lib\ExtUtils\Mksymlists.pm
cp lib/ExtUtils/MakeMaker/version/regex.pm blib\lib\ExtUtils\MakeMaker\version\regex.pm
cp lib/ExtUtils/MakeMaker/Config.pm blib\lib\ExtUtils\MakeMaker\Config.pm
cp lib/ExtUtils/testlib.pm blib\lib\ExtUtils\testlib.pm
cp lib/ExtUtils/MY.pm blib\lib\ExtUtils\MY.pm
cp lib/ExtUtils/MakeMaker/Locale.pm blib\lib\ExtUtils\MakeMaker\Locale.pm
cp lib/ExtUtils/MakeMaker/version.pm blib\lib\ExtUtils\MakeMaker\version.pm
cp lib/ExtUtils/MakeMaker/version/vpp.pm blib\lib\ExtUtils\MakeMaker\version\vpp.pm
C:\"Strawberry\perl\bin\perl.exe" "-Iblib\arch" "-Iblib\lib" -MExtUtils::Command -e cp -- bin/instmodsh blib\script\instmodsh
pl2bat.bat blib\script\instmodsh
C:\"Strawberry\perl\bin\perl.exe" "-Iblib\arch" "-Iblib\lib" "-MExtUtils::Command::MM" "-MTest::Harness" "-e" "undef *Test::Harness::Switches; test_harness(0, 'blib\lib', 'blib\arch')" t/*.t
t/00compile.t ............. ok
t/01perl_bugs.t ........... ok
t/02-xsdynamic.t .......... ok
t/03-xsstatic.t ........... skipped: Shared perl library
t/04-xs-rpath-darwin.t .... skipped: Not darwin platform
t/arch_check.t ............ ok
t/backwards.t ............. ok
t/basic.t ................. ok
t/build_man.t ............. ok
t/cd.t .................... ok
t/config.t ................ ok
t/cp.t .................... ok
t/dir_target.t ............ ok
t/echo.t .................. ok
t/eu_command.t ............ ok
t/FIRST_MAKEFILE.t ........ ok
t/fix_libs.t .............. ok
t/fixin.t ................. ok
t/hints.t ................. ok
t/INST.t .................. ok
t/INST_PREFIX.t ........... ok
t/INSTALL_BASE.t .......... ok
t/installed_file.t ........ ok
t/is_of_type.t ............ ok
t/Liblist.t ............... ok
t/Liblist_Kid.t ........... ok
t/make.t .................. ok
t/MakeMaker_Parameters.t .. ok
t/maketext_filter.t ....... ok
t/meta_convert.t .......... ok
t/metafile_data.t ......... ok
t/metafile_file.t ......... ok
t/min_perl_version.t ...... ok
t/miniperl.t .............. skipped: miniperl test only necessary for the perl core
t/Mkbootstrap.t ........... ok
t/MM_Any.t ................ ok
t/MM_BeOS.t ............... skipped: This is not BeOS
t/MM_Cygwin.t ............. skipped: This is not cygwin
t/MM_NW5.t ................ skipped: This is not NW5
t/MM_OS2.t ................ skipped: This is not OS/2
t/MM_Unix.t ............... skipped: Non-Unix platform
t/MM_VMS.t ................ skipped: This is not VMS
t/MM_Win32.t .............. ok
t/oneliner.t .............. ok
t/os_unsupported.t ........ ok
t/parse_abstract.t ........ ok
t/parse_version.t ......... ok
t/PL_FILES.t .............. ok
t/pm.t .................... ok
t/pm_to_blib.t ............ ok
t/pod2man.t ............... ok
t/postamble.t ............. ok
t/prefixify.t ............. ok
t/prereq.t ................ ok
t/prereq_print.t .......... ok
t/problems.t .............. ok
t/prompt.t ................ ok
t/rec_att_keys.t .......... ok
t/recurs.t ................ ok
t/revision.t .............. ok
t/several_authors.t ....... ok
t/split_command.t ......... ok
t/test_boilerplate.t ...... ok
t/testlib.t ............... ok
t/unicode.t ............... ok
t/VERSION_FROM.t .......... ok
t/vstrings.t .............. ok
t/WriteEmptyMakefile.t .... ok
t/writemakefile_args.t .... ok
All tests successful.
Files=69, Tests=1280, 335 wallclock secs ( 0.84 usr + 0.39 sys = 1.23 CPU)
Result: PASS
------------------------------
PREREQUISITES
------------------------------
Prerequisite modules loaded:
No requirements found
------------------------------
ENVIRONMENT AND OTHER CONTEXT
------------------------------
Environment variables:
COMSPEC = C:\windows\system32\cmd.exe
NUMBER_OF_PROCESSORS = 4
PATH = C:\home\tennis\perl5\bin;C:\windows\system32;C:\windows;C:\windows\System32\Wbem;C:\windows\System32\WindowsPowerShell\v1.0\;C:\Strawberry\c\bin;C:\Strawberry\perl\site\bin;C:\Strawberry\perl\bin;C:\cmake-3.27.7\bin
PERL5LIB = C:\home\tennis\perl5\lib\perl5
PERL_LOCAL_LIB_ROOT = C:\home\tennis\perl5
PERL_MB_OPT = --install_base "C:\\home\\tennis\\perl5"
PERL_MM_OPT = INSTALL_BASE=C:\\home\\tennis\\perl5
PROCESSOR_IDENTIFIER = x86 Family 6 Model 37 Stepping 5, GenuineIntel
TEMP = C:\Users\user\AppData\Local\Temp
TERM = dumb
TUGI_PERLVER = 5.010001
Perl special variables (and OS-specific diagnostics, for MSWin32):
EGID = 0
EUID = 0
EXECUTABLE_NAME = C:\Strawberry\perl\bin\perl.exe
GID = 0
UID = 0
Win32::FsType = NTFS
Win32::GetOSName = Win7
Win32::GetOSVersion = Service Pack 1, 6, 1, 7601, 2, 1, 0, 256, 1
Win32::IsAdminUser = 0
Perl module toolchain versions installed:
Module Have
------------------- --------
CPAN 2.28
CPAN::Meta 2.150010
Cwd 3.75
ExtUtils::CBuilder 0.280236
ExtUtils::Command 7.71_05
ExtUtils::Install 2.22
ExtUtils::MakeMaker 7.71_05
ExtUtils::Manifest 1.75
ExtUtils::ParseXS 3.51
File::Spec 3.75
JSON 4.10
JSON::PP 4.17_01
Module::Build 0.4234
Module::Signature 0.89
Parse::CPAN::Meta 2.150010
Test::Harness 3.50
Test::More 1.302208
YAML 1.31
YAML::Syck 1.34
version 0.9933
--
Summary of my perl5 (revision 5 version 10 subversion 1) configuration:
Platform:
osname=MSWin32, osvers=5.1, archname=MSWin32-x86-multi-thread
uname='Win32 strawberryperl 5.10.1.5 #1 Sun May 15 09:44:53 2011 i386'
config_args='undef'
hint=recommended, useposix=true, d_sigaction=undef
useithreads=define, usemultiplicity=define
useperlio=define, d_sfio=undef, uselargefiles=define, usesocks=undef
use64bitint=undef, use64bitall=undef, uselongdouble=undef
usemymalloc=n, bincompat5005=undef
Compiler:
cc='gcc', ccflags =' -s -O2 -DWIN32 -DHAVE_DES_FCRYPT -DUSE_SITECUSTOMIZE -DPERL_IMPLICIT_CONTEXT -DPERL_IMPLICIT_SYS -fno-strict-aliasing -DPERL_MSVCRT_READFIX',
optimize='-s -O2',
cppflags='-DWIN32'
ccversion='', gccversion='3.4.5', gccosandvers=''
intsize=4, longsize=4, ptrsize=4, doublesize=8, byteorder=1234
d_longlong=undef, longlongsize=8, d_longdbl=define, longdblsize=12
ivtype='long', ivsize=4, nvtype='double', nvsize=8, Off_t='long long', lseeksize=8
alignbytes=8, prototype=define
Linker and Libraries:
ld='g++', ldflags ='-s -L"C:\strawberry\perl\lib\CORE" -L"C:\strawberry\c\lib"'
libpth=C:\strawberry\c\lib
libs= -lmoldname -lkernel32 -luser32 -lgdi32 -lwinspool -lcomdlg32 -ladvapi32 -lshell32 -lole32 -loleaut32 -lnetapi32 -luuid -lws2_32 -lmpr -lwinmm -lversion -lodbc32 -lodbccp32
perllibs= -lmoldname -lkernel32 -luser32 -lgdi32 -lwinspool -lcomdlg32 -ladvapi32 -lshell32 -lole32 -loleaut32 -lnetapi32 -luuid -lws2_32 -lmpr -lwinmm -lversion -lodbc32 -lodbccp32
libc=, so=dll, useshrplib=true, libperl=libperl510.a
gnulibc_version=''
Dynamic Linking:
dlsrc=dl_win32.xs, dlext=dll, d_dlsymun=undef, ccdlflags=' '
cccdlflags=' ', lddlflags='-mdll -s -L"C:\strawberry\perl\lib\CORE" -L"C:\strawberry\c\lib"'
Characteristics of this binary (from libperl):
Compile-time options: MULTIPLICITY PERL_DONT_CREATE_GVSV
PERL_IMPLICIT_CONTEXT PERL_IMPLICIT_SYS
PERL_MALLOC_WRAP PL_OP_SLAB_ALLOC USE_ITHREADS
USE_LARGE_FILES USE_PERLIO USE_SITECUSTOMIZE
Built under MSWin32
Compiled at May 15 2011 09:50:23
%ENV:
PERL5LIB="C:\home\tennis\perl5\lib\perl5"
PERL_LOCAL_LIB_ROOT="C:\home\tennis\perl5"
PERL_MB_OPT="--install_base "C:\\home\\tennis\\perl5""
PERL_MM_OPT="INSTALL_BASE=C:\\home\\tennis\\perl5"
@INC:
C:\home\tennis\perl5\lib\perl5/MSWin32-x86-multi-thread
C:\home\tennis\perl5\lib\perl5
C:/Strawberry/perl/lib
C:/Strawberry/perl/site/lib
C:\strawberry\perl\vendor\lib
.