Business-CyberSource v0.010008 Perl 5 v5.24.3 OpenBSD.amd64-openbsd

Status
Pass
From
Alceu Rodrigues de Freitas Junior
Dist
Business-CyberSource v0.010008
Platform
Perl 5 v5.24.3 OpenBSD.amd64-openbsd
Date
2018-02-18 14:43:04
ID
06ca26a0-14ba-11e8-bba5-e41543cc1d2e
This distribution has been tested as part of the CPAN Testers
project, supporting the Perl programming language.  See
http://wiki.cpantesters.org/ for more information or email
questions to cpan-testers-discuss@perl.org


--
Dear Allie Gator,

This is a computer-generated report for Business-CyberSource-0.010008
on perl 5.24.3, created by CPAN-Reporter-1.2018.

Thank you for uploading your work to CPAN.  Congratulations!
All tests were successful.

Sections of this report:

    * Tester comments
    * Program output
    * Prerequisites
    * Environment and other context

------------------------------
TESTER COMMENTS
------------------------------

Additional comments from tester:

this report is from an automated smoke testing program
and was not reviewed by a human for accuracy

------------------------------
PROGRAM OUTPUT
------------------------------

Output from '/usr/bin/make test':

Skip blib/lib/auto/share/dist/Business-CyberSource/test/CyberSourceTransaction_1_71.xsd (unchanged)
Skip blib/lib/auto/share/dist/Business-CyberSource/production/CyberSourceTransaction_1_71.xsd (unchanged)
Skip blib/lib/auto/share/dist/Business-CyberSource/production/CyberSourceTransaction_1_71.wsdl (unchanged)
Skip blib/lib/auto/share/dist/Business-CyberSource/test/CyberSourceTransaction_1_71.wsdl (unchanged)
PERL_DL_NONLAZY=1 "/home/goku/perl5/perlbrew/perls/perl-5.24.3/bin/perl" "-MExtUtils::Command::MM" "-MTest::Harness" "-e" "undef *Test::Harness::Switches; test_harness(0, 'blib/lib', 'blib/arch')" t/*.t
t/00-compile.t ............................. ok
# 
# Versions for all modules listed in MYMETA.json (including optional ones):
# 
# === Configure Requires ===
# 
#     Module                  Want    Have
#     ----------------------- ---- -------
#     ExtUtils::MakeMaker      any 7.31_08
#     File::ShareDir::Install 0.06    0.11
# 
# === Build Requires ===
# 
#     Module              Want    Have
#     ------------------- ---- -------
#     ExtUtils::MakeMaker  any 7.31_08
# 
# === Test Requires ===
# 
#     Module               Want     Have
#     -------------------- ---- --------
#     Business::CreditCard 0.32     0.36
#     DateTime              any     1.46
#     ExtUtils::MakeMaker   any  7.31_08
#     File::Spec            any  3.63_01
#     FindBin               any     1.51
#     IO::Handle            any     1.36
#     IPC::Open3            any     1.20
#     Test::Deep            any    1.127
#     Test::Fatal           any    0.014
#     Test::Method          any 0.001002
#     Test::Moose           any   2.2009
#     Test::More            any 1.302122
#     Test::Requires        any     0.10
#     blib                 1.01     1.06
#     lib                   any     0.63
# 
# === Test Recommends ===
# 
#     Module           Want     Have
#     ------------ -------- --------
#     Bread::Board     0.25     0.36
#     CPAN::Meta   2.120900 2.150010
# 
# === Runtime Requires ===
# 
#     Module                                           Want     Have
#     -------------------------------------------- -------- --------
#     Business::CreditCard                             0.32     0.36
#     DateTime::Format::W3CDTF                         0.06  0.07_01
#     File::ShareDir::ProjectDistDir                  1.000 1.000009
#     LWP::Protocol::https                              any     6.07
#     Module::Load                                      any     0.32
#     Module::Runtime                                   any    0.016
#     Moose                                             any   2.2009
#     Moose::Exception                                  any   2.2009
#     Moose::Exception::AttributeIsRequired             any   2.2009
#     Moose::Role                                       any   2.2009
#     Moose::Util                                       any   2.2009
#     Moose::Util::TypeConstraints                      any   2.2009
#     MooseX::AbstractFactory                           any 0.004003
#     MooseX::Aliases                                   any     0.11
#     MooseX::RemoteHelper                              any 0.001021
#     MooseX::RemoteHelper::CompositeSerialization      any 0.001021
#     MooseX::RemoteHelper::Types                       any 0.001021
#     MooseX::SetOnce                              0.200001 0.200002
#     MooseX::Types                                     any     0.50
#     MooseX::Types::Common::Numeric               0.001003 0.001014
#     MooseX::Types::Common::String                0.001005 0.001014
#     MooseX::Types::CreditCard                       0.002 0.002003
#     MooseX::Types::DateTime                           any     0.13
#     MooseX::Types::DateTime::W3C                      any 1.103360
#     MooseX::Types::Email                              any    0.007
#     MooseX::Types::Locale::Country                    any     0.05
#     MooseX::Types::Locale::Currency                   any 0.001005
#     MooseX::Types::Moose                              any     0.50
#     MooseX::Types::NetAddr::IP                        any     0.07
#     MooseY::RemoteHelper::MessagePart                 any 0.001021
#     MooseY::RemoteHelper::Role::Client                any 0.001021
#     Type::Params                                      any 1.002001
#     Type::Utils                                     0.040 1.002001
#     Types::Standard                                   any 1.002001
#     XML::Compile::SOAP11                              any     3.22
#     XML::Compile::SOAP::WSS                          1.04     1.14
#     XML::Compile::Transport::SOAPHTTP                 any     3.22
#     XML::Compile::WSDL11                              any     3.06
#     namespace::autoclean                              any     0.28
#     strict                                            any     1.11
#     warnings                                          any     1.36
# 
t/00-report-prereqs.t ...................... ok
t/auth-reversal.t .......................... ok
street deprecated check the perldoc for the actual attribute at /home/goku/perl5/perlbrew/perls/perl-5.24.3/lib/site_perl/5.24.3/OpenBSD.amd64-openbsd/Class/MOP/Method/Wrapped.pm line 164.
street deprecated check the perldoc for the actual attribute at /home/goku/perl5/perlbrew/perls/perl-5.24.3/lib/site_perl/5.24.3/OpenBSD.amd64-openbsd/Class/MOP/Method/Wrapped.pm line 164.
street deprecated check the perldoc for the actual attribute at /home/goku/perl5/perlbrew/perls/perl-5.24.3/lib/site_perl/5.24.3/OpenBSD.amd64-openbsd/Class/MOP/Method/Wrapped.pm line 164.
t/authorization.t .......................... ok
street deprecated check the perldoc for the actual attribute at /home/goku/perl5/perlbrew/perls/perl-5.24.3/lib/site_perl/5.24.3/OpenBSD.amd64-openbsd/Class/MOP/Method/Wrapped.pm line 164.
zip deprecated check the perldoc for the actual attribute at /home/goku/perl5/perlbrew/perls/perl-5.24.3/lib/site_perl/5.24.3/OpenBSD.amd64-openbsd/Class/MOP/Method/Wrapped.pm line 164.
street deprecated check the perldoc for the actual attribute at /home/goku/perl5/perlbrew/perls/perl-5.24.3/lib/site_perl/5.24.3/OpenBSD.amd64-openbsd/Class/MOP/Method/Wrapped.pm line 164.
street deprecated check the perldoc for the actual attribute at /home/goku/perl5/perlbrew/perls/perl-5.24.3/lib/site_perl/5.24.3/OpenBSD.amd64-openbsd/Class/MOP/Method/Wrapped.pm line 164.
t/billto-exceptions.t ...................... ok
t/billto.t ................................. ok
t/business-rules.t ......................... ok
t/capture.t ................................ ok
t/card.t ................................... ok
t/client.t ................................. ok
street deprecated check the perldoc for the actual attribute at /home/goku/perl5/perlbrew/perls/perl-5.24.3/lib/site_perl/5.24.3/OpenBSD.amd64-openbsd/Class/MOP/Method/Wrapped.pm line 164.
t/credit.t ................................. ok
t/dcc-autorization.t ....................... ok
t/dcc.t .................................... ok
t/error-exception.t ........................ ok
street deprecated check the perldoc for the actual attribute at /home/goku/perl5/perlbrew/perls/perl-5.24.3/lib/site_perl/5.24.3/OpenBSD.amd64-openbsd/Class/MOP/Method/Wrapped.pm line 164.
t/exceptions.t ............................. ok
t/factory-request.t ........................ ok
t/invoiceheader.t .......................... ok
t/item-serialization.t ..................... ok
t/items.t .................................. ok
t/othertax.t ............................... ok
t/purchase-totals.t ........................ ok
t/response-removed-methods-successfully.t .. ok
t/response-sale.t .......................... ok
t/response.t ............................... ok
t/rule-expired-card.t ...................... skipped: Unable to send with fake credentials. Set both PERL_BUSINESS_CYBERSOURCE_USERNAME and PERL_BUSINESS_CYBERSOURCE_PASSWORD in the environment
t/rule-request-id-is-zero.t ................ skipped: Unable to send with fake credentials. Set both PERL_BUSINESS_CYBERSOURCE_USERNAME and PERL_BUSINESS_CYBERSOURCE_PASSWORD in the environment
t/service.t ................................ ok
t/shipfrom.t ............................... ok
t/shipto-exceptions.t ...................... ok
t/shipto.t ................................. ok
All tests successful.
Files=30, Tests=313, 92 wallclock secs ( 0.10 usr  0.21 sys + 73.26 cusr 12.41 csys = 85.98 CPU)
Result: PASS

------------------------------
PREREQUISITES
------------------------------

Prerequisite modules loaded:

requires:

    Module                                       Need     Have    
    -------------------------------------------- -------- --------
    Business::CreditCard                         0.32     0.36    
    DateTime::Format::W3CDTF                     0.06     0.07_01 
    File::ShareDir::ProjectDistDir               1.000    1.000009
    LWP::Protocol::https                         0        6.07    
    Module::Load                                 0        0.32    
    Module::Runtime                              0        0.016   
    Moose                                        0        2.2009  
    Moose::Exception                             0        2.2009  
    Moose::Exception::AttributeIsRequired        0        2.2009  
    Moose::Role                                  0        2.2009  
    Moose::Util                                  0        2.2009  
    Moose::Util::TypeConstraints                 0        2.2009  
    MooseX::AbstractFactory                      0        0.004003
    MooseX::Aliases                              0        0.11    
    MooseX::RemoteHelper                         0        0.001021
    MooseX::RemoteHelper::CompositeSerialization 0        0.001021
    MooseX::RemoteHelper::Types                  0        0.001021
    MooseX::SetOnce                              0.200001 0.200002
    MooseX::Types                                0        0.50    
    MooseX::Types::Common::Numeric               0.001003 0.001014
    MooseX::Types::Common::String                0.001005 0.001014
    MooseX::Types::CreditCard                    0.002    0.002003
    MooseX::Types::DateTime                      0        0.13    
    MooseX::Types::DateTime::W3C                 0        1.103360
    MooseX::Types::Email                         0        0.007   
    MooseX::Types::Locale::Country               0        0.05    
    MooseX::Types::Locale::Currency              0        0.001005
    MooseX::Types::Moose                         0        0.50    
    MooseX::Types::NetAddr::IP                   0        0.07    
    MooseY::RemoteHelper::MessagePart            0        0.001021
    MooseY::RemoteHelper::Role::Client           0        0.001021
    namespace::autoclean                         0        0.28    
    perl                                         5.010    5.024003
    strict                                       0        1.11    
    Type::Params                                 0        1.002001
    Type::Utils                                  0.040    1.002001
    Types::Standard                              0        1.002001
    warnings                                     0        1.36    
    XML::Compile::SOAP11                         0        3.22    
    XML::Compile::SOAP::WSS                      1.04     1.14    
    XML::Compile::Transport::SOAPHTTP            0        3.22    
    XML::Compile::WSDL11                         0        3.06    

build_requires:

    Module                                       Need     Have    
    -------------------------------------------- -------- --------
    blib                                         1.01     1.06    
    Business::CreditCard                         0.32     0.36    
    DateTime                                     0        1.46    
    ExtUtils::MakeMaker                          0        7.31_08 
    File::Spec                                   0        3.63_01 
    FindBin                                      0        1.51    
    IO::Handle                                   0        1.36    
    IPC::Open3                                   0        1.20    
    lib                                          0        0.63    
    Test::Deep                                   0        1.127   
    Test::Fatal                                  0        0.014   
    Test::Method                                 0        0.001002
    Test::Moose                                  0        2.2009  
    Test::More                                   0        1.302122
    Test::Requires                               0        0.10    

configure_requires:

    Module                                       Need     Have    
    -------------------------------------------- -------- --------
    ExtUtils::MakeMaker                          0        7.31_08 
    File::ShareDir::Install                      0.06     0.11    

opt_build_requires:

    Module                                       Need     Have    
    -------------------------------------------- -------- --------
    Bread::Board                                 0.25     0.36    
    CPAN::Meta                                   2.120900 2.150010


------------------------------
ENVIRONMENT AND OTHER CONTEXT
------------------------------

Environment variables:

    AUTOMATED_TESTING = 1
    DBD_MYSQL_TESTDB = test
    DBD_MYSQL_TESTHOST = localhost
    DBD_MYSQL_TESTPASSWORD = 
    DBD_MYSQL_TESTPORT = 3306
    DBD_MYSQL_TESTUSER = goku
    EXTENDED_TESTING = 1
    PATH = /home/goku/perl5/perlbrew/bin:/home/goku/perl5/perlbrew/perls/perl-5.24.3/bin:/home/goku/bin:/usr/bin:/bin:/usr/sbin:/sbin:/usr/X11R6/bin:/usr/local/bin:/usr/local/sbin
    PERL5LIB = 
    PERL5OPT = 
    PERL5_CPANPLUS_IS_RUNNING = 25160
    PERL5_CPAN_IS_RUNNING = 25160
    PERL5_CPAN_IS_RUNNING_IN_RECURSION = 67773,25160
    PERLBREW_HOME = /home/goku/.perlbrew
    PERLBREW_MANPATH = /home/goku/perl5/perlbrew/perls/perl-5.24.3/man
    PERLBREW_PATH = /home/goku/perl5/perlbrew/bin:/home/goku/perl5/perlbrew/perls/perl-5.24.3/bin
    PERLBREW_PERL = perl-5.24.3
    PERLBREW_ROOT = /home/goku/perl5/perlbrew
    PERLBREW_SHELLRC_VERSION = 0.82
    PERLBREW_VERSION = 0.82
    PERL_CR_SMOKER_CURRENT = Business-CyberSource-0.010008
    PERL_EXTUTILS_AUTOINSTALL = --defaultdeps
    PERL_MM_USE_DEFAULT = 1
    PERL_USE_UNSAFE_INC = 1
    SHELL = /usr/local/bin/bash
    TERM = xterm

Perl special variables (and OS-specific diagnostics, for MSWin32):

    $^X = /home/goku/perl5/perlbrew/perls/perl-5.24.3/bin/perl
    $UID/$EUID = 1001 / 1001
    $GID = 998 998 1001
    $EGID = 998 998 1001

Perl module toolchain versions installed:

    Module              Have    
    ------------------- --------
    CPAN                2.20    
    CPAN::Meta          2.150010
    Cwd                 3.63_01 
    ExtUtils::CBuilder  0.280230
    ExtUtils::Command   7.31_08 
    ExtUtils::Install   2.14    
    ExtUtils::MakeMaker 7.31_08 
    ExtUtils::Manifest  1.70    
    ExtUtils::ParseXS   3.35    
    File::Spec          3.63_01 
    JSON                2.97001 
    JSON::PP            2.97001 
    Module::Build       0.42_26 
    Module::Signature   n/a     
    Parse::CPAN::Meta   2.150010
    Test::Harness       3.40_01 
    Test::More          1.302122
    YAML                1.24    
    YAML::Syck          1.30    
    version             0.9918  


--

Summary of my perl5 (revision 5 version 24 subversion 3) configuration:
   
  Platform:
    osname=openbsd, osvers=6.2, archname=OpenBSD.amd64-openbsd
    uname='openbsd cpan-smoker-openbsd 6.2 generic.mp#134 amd64 '
    config_args='-de -Dprefix=/home/goku/perl5/perlbrew/perls/perl-5.24.3 -Aeval:scriptdir=/home/goku/perl5/perlbrew/perls/perl-5.24.3/bin'
    hint=recommended, useposix=true, d_sigaction=define
    useithreads=undef, usemultiplicity=undef
    use64bitint=define, use64bitall=define, uselongdouble=undef
    usemymalloc=n, bincompat5005=undef
  Compiler:
    cc='cc', ccflags ='-fno-strict-aliasing -pipe -fstack-protector-strong -I/usr/local/include -D_FORTIFY_SOURCE=2',
    optimize='-O2',
    cppflags='-fno-strict-aliasing -pipe -fstack-protector-strong -I/usr/local/include'
    ccversion='', gccversion='4.2.1 Compatible OpenBSD Clang 4.0.0 (tags/RELEASE_400/final)', gccosandvers=''
    intsize=4, longsize=8, ptrsize=8, doublesize=8, byteorder=12345678, doublekind=3
    d_longlong=define, longlongsize=8, d_longdbl=define, longdblsize=16, longdblkind=3
    ivtype='long', ivsize=8, nvtype='double', nvsize=8, Off_t='off_t', lseeksize=8
    alignbytes=8, prototype=define
  Linker and Libraries:
    ld='cc', ldflags ='-Wl,-E  -fstack-protector-strong -L/usr/local/lib'
    libpth=/usr/lib /usr/local/lib
    libs=-lpthread -lm -lutil -lc
    perllibs=-lpthread -lm -lutil -lc
    libc=/usr/lib/libc.so.90.0, so=so, useshrplib=false, libperl=libperl.a
    gnulibc_version=''
  Dynamic Linking:
    dlsrc=dl_dlopen.xs, dlext=so, d_dlsymun=undef, ccdlflags=' '
    cccdlflags='-DPIC -fPIC ', lddlflags='-shared -fPIC  -L/usr/local/lib -fstack-protector-strong'


Characteristics of this binary (from libperl): 
  Compile-time options: HAS_TIMES PERLIO_LAYERS PERL_COPY_ON_WRITE
                        PERL_DONT_CREATE_GVSV
                        PERL_HASH_FUNC_ONE_AT_A_TIME_HARD PERL_MALLOC_WRAP
                        PERL_PRESERVE_IVUV USE_64_BIT_ALL USE_64_BIT_INT
                        USE_LARGE_FILES USE_LOCALE USE_LOCALE_COLLATE
                        USE_LOCALE_CTYPE USE_LOCALE_NUMERIC USE_LOCALE_TIME
                        USE_PERLIO USE_PERL_ATOF
  Locally applied patches:
	Devel::PatchPerl 1.48
  Built under openbsd
  Compiled at Feb 15 2018 18:16:36
  %ENV:
    PERL5LIB=""
    PERL5OPT=""
    PERL5_CPANPLUS_IS_RUNNING="25160"
    PERL5_CPAN_IS_RUNNING="25160"
    PERL5_CPAN_IS_RUNNING_IN_RECURSION="67773,25160"
    PERLBREW_HOME="/home/goku/.perlbrew"
    PERLBREW_MANPATH="/home/goku/perl5/perlbrew/perls/perl-5.24.3/man"
    PERLBREW_PATH="/home/goku/perl5/perlbrew/bin:/home/goku/perl5/perlbrew/perls/perl-5.24.3/bin"
    PERLBREW_PERL="perl-5.24.3"
    PERLBREW_ROOT="/home/goku/perl5/perlbrew"
    PERLBREW_SHELLRC_VERSION="0.82"
    PERLBREW_VERSION="0.82"
    PERL_CR_SMOKER_CURRENT="Business-CyberSource-0.010008"
    PERL_EXTUTILS_AUTOINSTALL="--defaultdeps"
    PERL_MM_USE_DEFAULT="1"
    PERL_USE_UNSAFE_INC="1"
  @INC:
    /home/goku/perl5/perlbrew/perls/perl-5.24.3/lib/site_perl/5.24.3/OpenBSD.amd64-openbsd
    /home/goku/perl5/perlbrew/perls/perl-5.24.3/lib/site_perl/5.24.3
    /home/goku/perl5/perlbrew/perls/perl-5.24.3/lib/5.24.3/OpenBSD.amd64-openbsd
    /home/goku/perl5/perlbrew/perls/perl-5.24.3/lib/5.24.3
    .