Archive-Tar-Wrapper v0.33 Perl 5 v5.27.5 darwin-2level

Status
Pass
From
John SJ Anderson
Dist
Archive-Tar-Wrapper v0.33
Platform
Perl 5 v5.27.5 darwin-2level
Date
2018-07-11 00:11:57
ID
0673d0e8-849f-11e8-a7d8-a1cd2e8cdb92
This distribution has been tested as part of the CPAN Testers
project, supporting the Perl programming language.  See
http://wiki.cpantesters.org/ for more information or email
questions to cpan-testers-discuss@perl.org


--
Dear ARFREITAS,

This is a computer-generated report for Archive-Tar-Wrapper-0.33
on perl 5.27.5, created by App::cpanminus::reporter 0.17 (1.7044).

Thank you for uploading your work to CPAN.  Congratulations!
All tests were successful.

Sections of this report:

    * Tester comments
    * Program output
    * Prerequisites
    * Environment and other context

------------------------------
TESTER COMMENTS
------------------------------

Additional comments from tester:

none provided

------------------------------
PROGRAM OUTPUT
------------------------------

Output from '':

Building and testing Archive-Tar-Wrapper-0.33
cp lib/Archive/Tar/Wrapper.pm blib/lib/Archive/Tar/Wrapper.pm
Manifying 1 pod document
PERL_DL_NONLAZY=1 "/opt/plenv/versions/5.27.5/bin/perl5.27.5" "-MExtUtils::Command::MM" "-MTest::Harness" "-e" "undef *Test::Harness::Switches; test_harness(0, 'blib/lib', 'blib/arch')" t/*.t
t/001Basic.t .............. ok
t/002Mult.t ............... ok
t/003Dirs.t ............... ok
t/004Utf8.t ............... ok
t/005Cwd.t ................ ok
t/006DirPerms.t ........... ok
t/007bzip.t ............... ok
# with grep: Ran 1102 iterations (72 outliers).
# with grep: Rounded run time per iteration: 0.001217 +/- 0.000001 (0.1%)
# with grep and compiled regex: Ran 1274 iterations (223 outliers).
# with grep and compiled regex: Rounded run time per iteration: 0.001664 +/- 0.000002 (0.1%)
# with eq: Ran 1102 iterations (91 outliers).
# with eq: Rounded run time per iteration: 0.001105 +/- 0.000001 (0.1%)
# with enhanced eq: Ran 1102 iterations (100 outliers).
# with enhanced eq: Rounded run time per iteration: 0.001085 +/- 0.000001 (0.1%)
# with enhanced eq mark2: Ran 1102 iterations (81 outliers).
# with enhanced eq mark2: Rounded run time per iteration: 0.001030 +/- 0.000001 (0.1%)
# with enhanced eq mark3: Ran 1102 iterations (83 outliers).
# with enhanced eq mark3: Rounded run time per iteration: 0.001036 +/- 0.000002 (0.2%)
# sort and shift: Ran 1102 iterations (97 outliers).
# sort and shift: Rounded run time per iteration: 0.001281 +/- 0.000002 (0.2%)
t/008performance.t ........ ok
# with grep: Ran 1403 iterations (396 outliers).
# with grep: Rounded run time per iteration: 0.000031 +/- 0.000000 (0.0%)
# with grep and compiled regex: Ran 1473 iterations (451 outliers).
# with grep and compiled regex: Rounded run time per iteration: 0.000035 +/- 0.000000 (0.0%)
# with eq: Ran 1214 iterations (213 outliers).
# with eq: Rounded run time per iteration: 0.000031 +/- 0.000000 (0.3%)
# with enhanced eq: Ran 1403 iterations (399 outliers).
# with enhanced eq: Rounded run time per iteration: 0.000028 +/- 0.000000 (0.1%)
# with enhanced eq mark2: Ran 1403 iterations (395 outliers).
# with enhanced eq mark2: Rounded run time per iteration: 0.000028 +/- 0.000000 (0.1%)
# with enhanced eq mark3: Ran 1214 iterations (172 outliers).
# with enhanced eq mark3: Rounded run time per iteration: 0.000030 +/- 0.000000 (0.2%)
# sort and shift: Ran 1274 iterations (227 outliers).
# sort and shift: Rounded run time per iteration: 0.000031 +/- 0.000000 (0.2%)
t/009performance-small.t .. ok
All tests successful.

Test Summary Report
-------------------
t/008performance.t      (Wstat: 0 Tests: 1 Failed: 0)
  TODO passed:   1
t/009performance-small.t (Wstat: 0 Tests: 1 Failed: 0)
  TODO passed:   1
Files=9, Tests=54, 33 wallclock secs ( 0.03 usr  0.02 sys + 24.33 cusr  8.28 csys = 32.66 CPU)
Result: PASS

------------------------------
PREREQUISITES
------------------------------

Prerequisite modules loaded:

    No requirements found

------------------------------
ENVIRONMENT AND OTHER CONTEXT
------------------------------

Environment variables:

    LANG = en_US.UTF-8
    LC_ALL = en_US.UTF-8
    PATH = /opt/plenv/versions/5.27.5/bin:/opt/plenv/libexec:/opt/plenv/plugins/perl-build/bin:/opt/nvm/versions/node/v8.9.4/bin:/opt/plenv/shims:/opt/plenv/bin:/opt/nvm/versions/node/v8.11.1/bin:/usr/local/bin:/usr/bin:/bin:/usr/sbin:/sbin:/usr/local/share/dotnet:/Library/Frameworks/Mono.framework/Versions/Current/Commands:/opt/plenv/shims:/opt/plenv/bin:/opt/nvm/versions/node/v8.11.1/bin:/Users/genehack/bin:/opt/vim/bin:/opt/tmux/bin:/opt/git/bin:/opt/emacs/bin:/opt/local/bin:/usr/local/opt/fzf/bin:/usr/local/opt/fzf/bin
    PERL_CPANM_OPT = --skip-installed --prompt
    SHELL = /bin/zsh
    TERM = screen-256color
    TMPDIR = /var/folders/ls/0z9hs2311kn45yqnfxk2m8vr0000gn/T/

Perl special variables (and OS-specific diagnostics, for MSWin32):

    EGID = 20 20 701 12 61 79 80 81 98 33 100 204 250 395 398 399
    EUID = 501
    EXECUTABLE_NAME = /opt/plenv/versions/5.27.5/bin/perl5.27.5
    GID = 20 20 701 12 61 79 80 81 98 33 100 204 250 395 398 399
    UID = 501

Perl module toolchain versions installed:

    Module              Have    
    ------------------- --------
    CPAN                2.18    
    CPAN::Meta          2.150010
    Cwd                 3.74    
    ExtUtils::CBuilder  0.280230
    ExtUtils::Command   7.34    
    ExtUtils::Install   2.14    
    ExtUtils::MakeMaker 7.34    
    ExtUtils::Manifest  1.71    
    ExtUtils::ParseXS   3.35    
    File::Spec          3.74    
    JSON                2.97001 
    JSON::PP            2.97001 
    Module::Build       0.4224  
    Module::Signature   n/a     
    Parse::CPAN::Meta   2.150010
    Test::Harness       3.42    
    Test::More          1.302136
    YAML                1.26    
    YAML::Syck          n/a     
    version             0.9924  


--

Summary of my perl5 (revision 5 version 27 subversion 5) configuration:
   
  Platform:
    osname=darwin
    osvers=16.7.0
    archname=darwin-2level
    uname='darwin phineas.local 16.7.0 darwin kernel version 16.7.0: thu jun 15 17:36:27 pdt 2017; root:xnu-3789.70.16~2release_x86_64 x86_64 '
    config_args='-Dprefix=/opt/plenv/versions/5.27.5 -de -Dusedevel -A'eval:scriptdir=/opt/plenv/versions/5.27.5/bin''
    hint=recommended
    useposix=true
    d_sigaction=define
    useithreads=undef
    usemultiplicity=undef
    use64bitint=define
    use64bitall=define
    uselongdouble=undef
    usemymalloc=n
    default_inc_excludes_dot=define
    bincompat5005=undef
  Compiler:
    cc='cc'
    ccflags ='-fno-common -DPERL_DARWIN -mmacosx-version-min=10.12 -fno-strict-aliasing -pipe -fstack-protector-strong -I/usr/local/include -DPERL_USE_SAFE_PUTENV'
    optimize='-O3'
    cppflags='-fno-common -DPERL_DARWIN -mmacosx-version-min=10.12 -fno-strict-aliasing -pipe -fstack-protector-strong -I/usr/local/include'
    ccversion=''
    gccversion='4.2.1 Compatible Apple LLVM 9.0.0 (clang-900.0.38)'
    gccosandvers=''
    intsize=4
    longsize=8
    ptrsize=8
    doublesize=8
    byteorder=12345678
    doublekind=3
    d_longlong=define
    longlongsize=8
    d_longdbl=define
    longdblsize=16
    longdblkind=3
    ivtype='long'
    ivsize=8
    nvtype='double'
    nvsize=8
    Off_t='off_t'
    lseeksize=8
    alignbytes=8
    prototype=define
  Linker and Libraries:
    ld='cc'
    ldflags =' -mmacosx-version-min=10.12 -fstack-protector-strong -L/usr/local/lib'
    libpth=/usr/local/lib /Library/Developer/CommandLineTools/usr/lib/clang/9.0.0/lib /Library/Developer/CommandLineTools/usr/lib /usr/lib
    libs=-lpthread -ldbm -ldl -lm -lutil -lc
    perllibs=-lpthread -ldl -lm -lutil -lc
    libc=
    so=dylib
    useshrplib=false
    libperl=libperl.a
    gnulibc_version=''
  Dynamic Linking:
    dlsrc=dl_dlopen.xs
    dlext=bundle
    d_dlsymun=undef
    ccdlflags=' '
    cccdlflags=' '
    lddlflags=' -mmacosx-version-min=10.12 -bundle -undefined dynamic_lookup -L/usr/local/lib -fstack-protector-strong'


Characteristics of this binary (from libperl): 
  Compile-time options:
    HAS_TIMES
    PERLIO_LAYERS
    PERL_COPY_ON_WRITE
    PERL_DONT_CREATE_GVSV
    PERL_MALLOC_WRAP
    PERL_OP_PARENT
    PERL_PRESERVE_IVUV
    PERL_USE_DEVEL
    PERL_USE_SAFE_PUTENV
    USE_64_BIT_ALL
    USE_64_BIT_INT
    USE_LARGE_FILES
    USE_LOCALE
    USE_LOCALE_COLLATE
    USE_LOCALE_CTYPE
    USE_LOCALE_NUMERIC
    USE_LOCALE_TIME
    USE_PERLIO
    USE_PERL_ATOF
  Locally applied patches:
    Devel::PatchPerl 1.48
  Built under darwin
  Compiled at Oct 25 2017 23:40:14
  %ENV:
    PERL_CPANM_OPT="--skip-installed --prompt"
  @INC:
    /opt/plenv/versions/5.27.5/lib/perl5/site_perl/5.27.5/darwin-2level
    /opt/plenv/versions/5.27.5/lib/perl5/site_perl/5.27.5
    /opt/plenv/versions/5.27.5/lib/perl5/5.27.5/darwin-2level
    /opt/plenv/versions/5.27.5/lib/perl5/5.27.5