Report for Net-Braintree-0.27.0

Back
From: metabase:user:30f4dfbe-2aae-11df-837a-5e0a49663a4f
Subject: PASS Net-Braintree-0.27.0 v5.14.2 GNU/Linux
Date: 2015-03-10T09:44:19Z

This distribution has been tested as part of the CPAN Testers
project, supporting the Perl programming language.  See
http://wiki.cpantesters.org/ for more information or email
questions to cpan-testers-discuss@perl.org


--
Dear Braintree Devs,

This is a computer-generated report for Net-Braintree-0.27.0
on perl 5.14.2, created by CPAN-Reporter-1.2011.

Thank you for uploading your work to CPAN.  Congratulations!
All tests were successful.

Sections of this report:

    * Tester comments
    * Program output
    * Prerequisites
    * Environment and other context

------------------------------
TESTER COMMENTS
------------------------------

Additional comments from tester:

this report is from an automated smoke testing program
and was not reviewed by a human for accuracy

------------------------------
PROGRAM OUTPUT
------------------------------

Output from '/usr/bin/make test':

PERL_DL_NONLAZY=1 "/home/njh/perl5/perlbrew/perls/perl-5.14.2/bin/perl" "-MExtUtils::Command::MM" "-MTest::Harness" "-e" "undef *Test::Harness::Switches; test_harness(0, 'inc', 'blib/lib', 'blib/arch'); " t/*t
# Testing Net::Braintree 0.27.0, Perl 5.014002, /home/njh/perl5/perlbrew/perls/perl-5.14.2/bin/perl
t/00-load.t ............................ ok
t/address.t ............................ ok
t/advanced_search.t .................... ok
t/boilerplate.t ........................ ok
t/client_token.t ....................... ok
t/configuration.t ...................... ok
t/credit_card.t ........................ ok
t/customer.t ........................... ok
t/digest.t ............................. ok
t/inflate_xml.t ........................ ok
t/manifest.t ........................... skipped: Author tests not required for installation
t/merchant_account.t ................... ok
t/pod.t ................................ ok
t/resource_collection.t ................ ok
t/result.t ............................. ok
t/subscription.t ....................... ok
t/transaction.t ........................ ok
t/transparent_redirect.t ............... ok
t/transparent_redirect_query_string.t .. ok
t/util.t ............................... ok
t/validation_error.t ................... ok
t/validation_error_collection.t ........ ok
t/validations_test.t ................... ok
t/webhook_notification.t ............... ok
t/xml.t ................................ ok
t/xml_builder.t ........................ ok
All tests successful.

Test Summary Report
-------------------
t/boilerplate.t                      (Wstat: 0 Tests: 3 Failed: 0)
  TODO passed:   2-3
Files=26, Tests=212, 10 wallclock secs ( 0.08 usr  0.03 sys +  8.70 cusr  0.43 csys =  9.24 CPU)
Result: PASS

------------------------------
PREREQUISITES
------------------------------

Prerequisite modules loaded:

requires:

    Module                      Need  Have    
    --------------------------- ----- --------
    Data::GUID                  0     0.047   
    DateTime                    0     1.03    
    DateTime::Format::Atom      0     v1.0.2  
    DateTime::Format::Strptime  0     1.54    
    Digest                      0     1.17    
    Digest::HMAC_SHA1           0     1.03    
    Digest::SHA1                0     2.13    
    Digest::SHA256              0     0.01    
    File::Spec                  0.80  3.47    
    Hash::Inflator              0     1.100820
    JSON                        0     2.61    
    local::lib                  0     2.000003
    LWP                         6.02  6.05    
    LWP::Protocol::https        0     6.04    
    MIME::Base64                0     3.14    
    Module::Install::TestTarget 0     0.19    
    Moose                       0     2.1005  
    Mozilla::CA                 0     20130114
    perl                        5.006 5.014002
    Test::More                  0     1.001014
    Test::Pod                   0     1.48    
    Test::Warn                  0     0.24    
    Try::Tiny                   0     0.18    
    URI::Query                  0     0.10    
    XML::LibXML                 0     2.0106  
    XML::Simple                 0     2.20    

build_requires:

    Module                      Need  Have    
    --------------------------- ----- --------
    ExtUtils::MakeMaker         6.42  7.04    
    Test::More                  0     1.001014
    Test::Pod                   0     1.48    
    Test::Warn                  0     0.24    
    Try::Tiny                   0     0.18    


------------------------------
ENVIRONMENT AND OTHER CONTEXT
------------------------------

Environment variables:

    AUTOMATED_TESTING = 1
    LANG = en_GB.UTF-8
    LANGUAGE = en_GB:en
    LD_LIBRARY_PATH = /usr/local/lib::
    PATH = /home/njh/perl5/perlbrew/bin:/home/njh/perl5/perlbrew/perls/perl-5.14.2/bin:/home/njh/perl5/perlbrew/bin:/usr/local/bin:/usr/bin:/bin:/usr/local/games:/usr/games:/home/njh/bin:/sbin
    PERL5LIB = /home/njh/.cpan/build/SHA256-0.01-88mcHD/blib/arch:/home/njh/.cpan/build/SHA256-0.01-88mcHD/blib/lib:/home/njh/.cpan/build/URI-Query-0.10-vNLhzT/blib/arch:/home/njh/.cpan/build/URI-Query-0.10-vNLhzT/blib/lib:/home/njh/.cpan/build/Hash-Inflator-1.100820-Fggbuk/blib/arch:/home/njh/.cpan/build/Hash-Inflator-1.100820-Fggbuk/blib/lib:/home/njh/.cpan/build/Module-Install-TestTarget-0.19-IOzYGZ/blib/arch:/home/njh/.cpan/build/Module-Install-TestTarget-0.19-IOzYGZ/blib/lib:/home/njh/.cpan/build/Module-Install-1.14-_LUuWb/blib/arch:/home/njh/.cpan/build/Module-Install-1.14-_LUuWb/blib/lib:/home/njh/.cpan/build/Parse-CPAN-Meta-1.4414-JWxgQT/blib/arch:/home/njh/.cpan/build/Parse-CPAN-Meta-1.4414-JWxgQT/blib/lib:/home/njh/.cpan/build/CPAN-Meta-YAML-0.012-mR3Nzu/blib/arch:/home/njh/.cpan/build/CPAN-Meta-YAML-0.012-mR3Nzu/blib/lib:/home/njh/.cpan/build/XML-Simple-2.20-TZCC7X/blib/arch:/home/njh/.cpan/build/XML-Simple-2.20-TZCC7X/blib/lib:/home/njh/.cpan/build/XML-SAX-Expat-0.51-ovuGba/blib/arch:/home/njh/.cpan/build/XML-SAX-Expat-0.51-ovuGba/blib/lib:/home/njh/.cpan/build/DateTime-Format-Atom-v1.0.2-USqc4r/blib/arch:/home/njh/.cpan/build/DateTime-Format-Atom-v1.0.2-USqc4r/blib/lib:/home/njh/.cpan/build/DateTime-Format-RFC3339-v1.0.5-jszSzT/blib/arch:/home/njh/.cpan/build/DateTime-Format-RFC3339-v1.0.5-jszSzT/blib/lib
    PERL5OPT = 
    PERL5_CPANPLUS_IS_RUNNING = 14107
    PERL5_CPAN_IS_RUNNING = 14107
    PERL5_MINISMOKEBOX = 0.58
    PERLBREW_BASHRC_VERSION = 0.71
    PERLBREW_HOME = /home/njh/.perlbrew
    PERLBREW_LIB = 
    PERLBREW_MANPATH = /home/njh/perl5/perlbrew/perls/perl-5.14.2/man
    PERLBREW_PATH = /home/njh/perl5/perlbrew/bin:/home/njh/perl5/perlbrew/perls/perl-5.14.2/bin
    PERLBREW_PERL = perl-5.14.2
    PERLBREW_ROOT = /home/njh/perl5/perlbrew
    PERLBREW_VERSION = 0.73
    PERL_EXTUTILS_AUTOINSTALL = --defaultdeps
    PERL_LOCAL_LIB_ROOT = 
    PERL_MM_USE_DEFAULT = 1
    SHELL = /bin/bash
    TMPDIR = /home/njh/tmp

Perl special variables (and OS-specific diagnostics, for MSWin32):

    $^X = /home/njh/perl5/perlbrew/perls/perl-5.14.2/bin/perl
    $UID/$EUID = 1000 / 1000
    $GID = 1000 4 24 25 29 30 44 46 108 112 1000
    $EGID = 1000 4 24 25 29 30 44 46 108 112 1000

Perl module toolchain versions installed:

    Module              Have    
    ------------------- --------
    CPAN                1.9800  
    CPAN::Meta          2.132830
    Cwd                 3.47    
    ExtUtils::CBuilder  0.280220
    ExtUtils::Command   1.18    
    ExtUtils::Install   1.56    
    ExtUtils::MakeMaker 7.04    
    ExtUtils::Manifest  1.65    
    ExtUtils::ParseXS   3.22    
    File::Spec          3.47    
    JSON                2.61    
    JSON::PP            2.27203 
    Module::Build       0.4206  
    Module::Signature   0.73    
    Parse::CPAN::Meta   1.4414  
    Test::Harness       3.35    
    Test::More          1.001014
    YAML                0.84    
    YAML::Syck          1.29    
    version             0.9904  


--

Summary of my perl5 (revision 5 version 14 subversion 2) configuration:
   
  Platform:
    osname=linux, osvers=3.2.0-4-amd64, archname=x86_64-linux-thread-multi
    uname='linux nigelhorne.force9.co.uk 3.2.0-4-amd64 #1 smp debian 3.2.32-1 x86_64 gnulinux '
    config_args='-de -Dprefix=/home/njh/perl5/perlbrew/perls/perl-5.14.2 -Duseithreads -Dusemultiplicity -Accflags=-O2 -W -Wformat=2 -Wswitch -Wshadow -Wwrite-strings -Wuninitialized -Wall -pipe -mtune=native -march=native -fomit-frame-pointer -msse2 -msse -mmmx -mfpmath=sse -pedantic -D_FORTIFY_SOURCE=2 -Wpointer-arith -Wstrict-prototypes -fstack-protector -Wstack-protector -Wextra -Wbad-function-cast -Wcast-align -Wcast-qual -Wdisabled-optimization -Wendif-labels -Wfloat-equal -Wformat-nonliteral -Winline -Wmissing-declarations -Wmissing-prototypes -Wnested-externs -Wpointer-arith -Wundef -Wformat-security -ftree-vectorize -fassociative-math -ftree-vectorizer-verbose=2 -Aeval:scriptdir=/home/njh/perl5/perlbrew/perls/perl-5.14.2/bin'
    hint=recommended, useposix=true, d_sigaction=define
    useithreads=define, usemultiplicity=define
    useperlio=define, d_sfio=undef, uselargefiles=define, usesocks=undef
    use64bitint=define, use64bitall=define, uselongdouble=undef
    usemymalloc=n, bincompat5005=undef
  Compiler:
    cc='cc', ccflags ='-D_REENTRANT -D_GNU_SOURCE -O2 -W -Wformat=2 -Wswitch -Wshadow -Wwrite-strings -Wuninitialized -Wall -pipe -mtune=native -march=native -fomit-frame-pointer -msse2 -msse -mmmx -mfpmath=sse -pedantic -D_FORTIFY_SOURCE=2 -Wpointer-arith -Wstrict-prototypes -fstack-protector -Wstack-protector -Wextra -Wbad-function-cast -Wcast-align -Wcast-qual -Wdisabled-optimization -Wendif-labels -Wfloat-equal -Wformat-nonliteral -Winline -Wmissing-declarations -Wmissing-prototypes -Wnested-externs -Wpointer-arith -Wundef -Wformat-security -ftree-vectorize -fassociative-math -ftree-vectorizer-verbose=2 -fno-strict-aliasing -I/usr/local/include -D_LARGEFILE_SOURCE -D_FILE_OFFSET_BITS=64',
    optimize='-O2',
    cppflags='-D_REENTRANT -D_GNU_SOURCE -O2 -W -Wformat=2 -Wswitch -Wshadow -Wwrite-strings -Wuninitialized -Wall -pipe -mtune=native -march=native -fomit-frame-pointer -msse2 -msse -mmmx -mfpmath=sse -pedantic -D_FORTIFY_SOURCE=2 -Wpointer-arith -Wstrict-prototypes -fstack-protector -Wstack-protector -Wextra -Wbad-function-cast -Wcast-align -Wcast-qual -Wdisabled-optimization -Wendif-labels -Wfloat-equal -Wformat-nonliteral -Winline -Wmissing-declarations -Wmissing-prototypes -Wnested-externs -Wpointer-arith -Wundef -Wformat-security -ftree-vectorize -fassociative-math -ftree-vectorizer-verbose=2 -fno-strict-aliasing -I/usr/local/include'
    ccversion='', gccversion='4.7.2', gccosandvers=''
    intsize=4, longsize=8, ptrsize=8, doublesize=8, byteorder=12345678
    d_longlong=define, longlongsize=8, d_longdbl=define, longdblsize=16
    ivtype='long', ivsize=8, nvtype='double', nvsize=8, Off_t='off_t', lseeksize=8
    alignbytes=8, prototype=define
  Linker and Libraries:
    ld='cc', ldflags =' -fstack-protector -L/usr/local/lib'
    libpth=/usr/local/lib /lib/x86_64-linux-gnu /lib/../lib /usr/lib/x86_64-linux-gnu /usr/lib/../lib /lib /usr/lib
    libs=-lnsl -lgdbm -ldb -ldl -lm -lcrypt -lutil -lpthread -lc -lgdbm_compat
    perllibs=-lnsl -ldl -lm -lcrypt -lutil -lpthread -lc
    libc=, so=so, useshrplib=false, libperl=libperl.a
    gnulibc_version='2.13'
  Dynamic Linking:
    dlsrc=dl_dlopen.xs, dlext=so, d_dlsymun=undef, ccdlflags='-Wl,-E'
    cccdlflags='-fPIC', lddlflags='-shared -O2 -L/usr/local/lib -fstack-protector'


Characteristics of this binary (from libperl): 
  Compile-time options: MULTIPLICITY PERL_DONT_CREATE_GVSV
                        PERL_IMPLICIT_CONTEXT PERL_MALLOC_WRAP
                        PERL_PRESERVE_IVUV USE_64_BIT_ALL USE_64_BIT_INT
                        USE_ITHREADS USE_LARGE_FILES USE_PERLIO USE_PERL_ATOF
                        USE_REENTRANT_API
  Built under linux
  Compiled at Mar 14 2013 13:54:53
  %ENV:
    PERL5LIB="/home/njh/.cpan/build/SHA256-0.01-88mcHD/blib/arch:/home/njh/.cpan/build/SHA256-0.01-88mcHD/blib/lib:/home/njh/.cpan/build/URI-Query-0.10-vNLhzT/blib/arch:/home/njh/.cpan/build/URI-Query-0.10-vNLhzT/blib/lib:/home/njh/.cpan/build/Hash-Inflator-1.100820-Fggbuk/blib/arch:/home/njh/.cpan/build/Hash-Inflator-1.100820-Fggbuk/blib/lib:/home/njh/.cpan/build/Module-Install-TestTarget-0.19-IOzYGZ/blib/arch:/home/njh/.cpan/build/Module-Install-TestTarget-0.19-IOzYGZ/blib/lib:/home/njh/.cpan/build/Module-Install-1.14-_LUuWb/blib/arch:/home/njh/.cpan/build/Module-Install-1.14-_LUuWb/blib/lib:/home/njh/.cpan/build/Parse-CPAN-Meta-1.4414-JWxgQT/blib/arch:/home/njh/.cpan/build/Parse-CPAN-Meta-1.4414-JWxgQT/blib/lib:/home/njh/.cpan/build/CPAN-Meta-YAML-0.012-mR3Nzu/blib/arch:/home/njh/.cpan/build/CPAN-Meta-YAML-0.012-mR3Nzu/blib/lib:/home/njh/.cpan/build/XML-Simple-2.20-TZCC7X/blib/arch:/home/njh/.cpan/build/XML-Simple-2.20-TZCC7X/blib/lib:/home/njh/.cpan/build/XML-SAX-Expat-0.51-ovuGba/blib/arch:/home/njh/.cpan/build/XML-SAX-Expat-0.51-ovuGba/blib/lib:/home/njh/.cpan/build/DateTime-Format-Atom-v1.0.2-USqc4r/blib/arch:/home/njh/.cpan/build/DateTime-Format-Atom-v1.0.2-USqc4r/blib/lib:/home/njh/.cpan/build/DateTime-Format-RFC3339-v1.0.5-jszSzT/blib/arch:/home/njh/.cpan/build/DateTime-Format-RFC3339-v1.0.5-jszSzT/blib/lib"
    PERL5OPT=""
    PERL5_CPANPLUS_IS_RUNNING="14107"
    PERL5_CPAN_IS_RUNNING="14107"
    PERL5_MINISMOKEBOX="0.58"
    PERLBREW_BASHRC_VERSION="0.71"
    PERLBREW_HOME="/home/njh/.perlbrew"
    PERLBREW_LIB=""
    PERLBREW_MANPATH="/home/njh/perl5/perlbrew/perls/perl-5.14.2/man"
    PERLBREW_PATH="/home/njh/perl5/perlbrew/bin:/home/njh/perl5/perlbrew/perls/perl-5.14.2/bin"
    PERLBREW_PERL="perl-5.14.2"
    PERLBREW_ROOT="/home/njh/perl5/perlbrew"
    PERLBREW_VERSION="0.73"
    PERL_EXTUTILS_AUTOINSTALL="--defaultdeps"
    PERL_LOCAL_LIB_ROOT=""
    PERL_MM_USE_DEFAULT="1"
  @INC:
    /home/njh/.cpan/build/SHA256-0.01-88mcHD/blib/arch
    /home/njh/.cpan/build/SHA256-0.01-88mcHD/blib/lib
    /home/njh/.cpan/build/URI-Query-0.10-vNLhzT/blib/arch
    /home/njh/.cpan/build/URI-Query-0.10-vNLhzT/blib/lib
    /home/njh/.cpan/build/Hash-Inflator-1.100820-Fggbuk/blib/arch
    /home/njh/.cpan/build/Hash-Inflator-1.100820-Fggbuk/blib/lib
    /home/njh/.cpan/build/Module-Install-TestTarget-0.19-IOzYGZ/blib/arch
    /home/njh/.cpan/build/Module-Install-TestTarget-0.19-IOzYGZ/blib/lib
    /home/njh/.cpan/build/Module-Install-1.14-_LUuWb/blib/arch
    /home/njh/.cpan/build/Module-Install-1.14-_LUuWb/blib/lib
    /home/njh/.cpan/build/Parse-CPAN-Meta-1.4414-JWxgQT/blib/arch
    /home/njh/.cpan/build/Parse-CPAN-Meta-1.4414-JWxgQT/blib/lib
    /home/njh/.cpan/build/CPAN-Meta-YAML-0.012-mR3Nzu/blib/arch
    /home/njh/.cpan/build/CPAN-Meta-YAML-0.012-mR3Nzu/blib/lib
    /home/njh/.cpan/build/XML-Simple-2.20-TZCC7X/blib/arch
    /home/njh/.cpan/build/XML-Simple-2.20-TZCC7X/blib/lib
    /home/njh/.cpan/build/XML-SAX-Expat-0.51-ovuGba/blib/arch
    /home/njh/.cpan/build/XML-SAX-Expat-0.51-ovuGba/blib/lib
    /home/njh/.cpan/build/DateTime-Format-Atom-v1.0.2-USqc4r/blib/arch
    /home/njh/.cpan/build/DateTime-Format-Atom-v1.0.2-USqc4r/blib/lib
    /home/njh/.cpan/build/DateTime-Format-RFC3339-v1.0.5-jszSzT/blib/arch
    /home/njh/.cpan/build/DateTime-Format-RFC3339-v1.0.5-jszSzT/blib/lib
    /home/njh/perl5/perlbrew/perls/perl-5.14.2/lib/site_perl/5.14.2/x86_64-linux-thread-multi
    /home/njh/perl5/perlbrew/perls/perl-5.14.2/lib/site_perl/5.14.2
    /home/njh/perl5/perlbrew/perls/perl-5.14.2/lib/5.14.2/x86_64-linux-thread-multi
    /home/njh/perl5/perlbrew/perls/perl-5.14.2/lib/5.14.2
    .