Report for Pod-Perldoc-3.28

Back
From: metabase:user:063cac4e-6056-11e7-968d-549b76a7b82b
Subject: PASS Pod-Perldoc-3.28 v5.22.3 Mac OS X
Date: 2017-07-04T01:28:03Z

This distribution has been tested as part of the CPAN Testers
project, supporting the Perl programming language.  See
http://wiki.cpantesters.org/ for more information or email
questions to cpan-testers-discuss@perl.org


--
Dear MALLEN,

This is a computer-generated report for Pod-Perldoc-3.28
on perl 5.22.3, created by App::cpanminus::reporter 0.17 (1.7043).

Thank you for uploading your work to CPAN.  Congratulations!
All tests were successful.

Sections of this report:

    * Tester comments
    * Program output
    * Prerequisites
    * Environment and other context

------------------------------
TESTER COMMENTS
------------------------------

Additional comments from tester:

none provided

------------------------------
PROGRAM OUTPUT
------------------------------

Output from '':

Building and testing Pod-Perldoc-3.28
cp lib/Pod/Perldoc/ToRtf.pm blib/lib/Pod/Perldoc/ToRtf.pm
cp lib/Pod/Perldoc/ToANSI.pm blib/lib/Pod/Perldoc/ToANSI.pm
cp lib/Pod/Perldoc/GetOptsOO.pm blib/lib/Pod/Perldoc/GetOptsOO.pm
cp perldoc.pod blib/lib/perldoc.pod
cp lib/Pod/Perldoc/ToPod.pm blib/lib/Pod/Perldoc/ToPod.pm
cp lib/Pod/Perldoc/ToChecker.pm blib/lib/Pod/Perldoc/ToChecker.pm
cp lib/Pod/Perldoc/ToText.pm blib/lib/Pod/Perldoc/ToText.pm
cp lib/Pod/Perldoc/ToMan.pm blib/lib/Pod/Perldoc/ToMan.pm
cp lib/Pod/Perldoc/BaseTo.pm blib/lib/Pod/Perldoc/BaseTo.pm
cp lib/Pod/Perldoc/ToXml.pm blib/lib/Pod/Perldoc/ToXml.pm
cp lib/Pod/Perldoc.pm blib/lib/Pod/Perldoc.pm
cp lib/Pod/Perldoc/ToTerm.pm blib/lib/Pod/Perldoc/ToTerm.pm
cp lib/Pod/Perldoc/ToTk.pm blib/lib/Pod/Perldoc/ToTk.pm
cp lib/Pod/Perldoc/ToNroff.pm blib/lib/Pod/Perldoc/ToNroff.pm
cp perldoc blib/script/perldoc
"/Users/marmanold/perl5/perlbrew/perls/perl-5.22.3/bin/perl" -MExtUtils::MY -e 'MY->fixin(shift)' -- blib/script/perldoc
Manifying 1 pod document
Manifying 14 pod documents
PERL_DL_NONLAZY=1 "/Users/marmanold/perl5/perlbrew/perls/perl-5.22.3/bin/perl" "-MExtUtils::Command::MM" "-MTest::Harness" "-e" "undef *Test::Harness::Switches; test_harness(0, 'blib/lib', 'blib/arch')" t/*.t t/*/*.t
t/00_load.t ............... ok
t/01_about_verbose.t ...... ok
t/02_module_pod_output.t .. ok
t/man/_get_columns.t ...... ok
t/pod.t ................... skipped: Pod tests not required for installation.
All tests successful.
Files=5, Tests=56,  0 wallclock secs ( 0.03 usr  0.01 sys +  0.45 cusr  0.06 csys =  0.55 CPU)
Result: PASS

------------------------------
PREREQUISITES
------------------------------

Prerequisite modules loaded:

    No requirements found

------------------------------
ENVIRONMENT AND OTHER CONTEXT
------------------------------

Environment variables:

    LANG = en_US.UTF-8
    PATH = /Users/marmanold/perl5/perlbrew/bin:/Users/marmanold/perl5/perlbrew/perls/perl-5.22.3/bin:/usr/bin:/bin:/usr/sbin:/sbin:/usr/local/bin:/usr/local/share/dotnet:/Library/Frameworks/Mono.framework/Versions/Current/Commands
    PERLBREW_BASHRC_VERSION = 0.78
    PERLBREW_HOME = /Users/marmanold/.perlbrew
    PERLBREW_MANPATH = /Users/marmanold/perl5/perlbrew/perls/perl-5.22.3/man
    PERLBREW_PATH = /Users/marmanold/perl5/perlbrew/bin:/Users/marmanold/perl5/perlbrew/perls/perl-5.22.3/bin
    PERLBREW_PERL = perl-5.22.3
    PERLBREW_ROOT = /Users/marmanold/perl5/perlbrew
    PERLBREW_VERSION = 0.78
    SHELL = /bin/bash
    TERM = xterm-256color
    TMPDIR = /var/folders/w2/t65qc_cs6dx5lq6nkc3qk6w00000gn/T/

Perl special variables (and OS-specific diagnostics, for MSWin32):

    EGID = 20 20 401 12 61 79 80 81 98 33 100 204 395 398 399
    EUID = 501
    EXECUTABLE_NAME = /Users/marmanold/perl5/perlbrew/perls/perl-5.22.3/bin/perl
    GID = 20 20 401 12 61 79 80 81 98 33 100 204 395 398 399
    UID = 501

Perl module toolchain versions installed:

    Module              Have    
    ------------------- --------
    CPAN                2.16    
    CPAN::Meta          2.150010
    Cwd                 3.62    
    ExtUtils::CBuilder  0.280224
    ExtUtils::Command   7.30    
    ExtUtils::Install   2.14    
    ExtUtils::MakeMaker 7.30    
    ExtUtils::Manifest  1.70    
    ExtUtils::ParseXS   3.30    
    File::Spec          3.62    
    JSON                n/a     
    JSON::PP            2.94    
    Module::Build       0.4224  
    Module::Signature   n/a     
    Parse::CPAN::Meta   2.150010
    Test::Harness       3.39    
    Test::More          1.302086
    YAML                n/a     
    YAML::Syck          n/a     
    version             0.9918  


--

Summary of my perl5 (revision 5 version 22 subversion 3) configuration:
   
  Platform:
    osname=darwin, osvers=16.5.0, archname=darwin-2level
    uname='darwin michaels-macbook-air.local 16.5.0 darwin kernel version 16.5.0: fri mar 3 16:52:33 pst 2017; root:xnu-3789.51.2~3release_x86_64 x86_64 '
    config_args='-de -Dprefix=/Users/marmanold/perl5/perlbrew/perls/perl-5.22.3 -Aeval:scriptdir=/Users/marmanold/perl5/perlbrew/perls/perl-5.22.3/bin'
    hint=recommended, useposix=true, d_sigaction=define
    useithreads=undef, usemultiplicity=undef
    use64bitint=define, use64bitall=define, uselongdouble=undef
    usemymalloc=n, bincompat5005=undef
  Compiler:
    cc='cc', ccflags ='-fno-common -DPERL_DARWIN -fno-strict-aliasing -pipe -fstack-protector-strong -I/usr/local/include',
    optimize='-O3',
    cppflags='-fno-common -DPERL_DARWIN -fno-strict-aliasing -pipe -fstack-protector-strong -I/usr/local/include'
    ccversion='', gccversion='4.2.1 Compatible Apple LLVM 8.1.0 (clang-802.0.38)', gccosandvers=''
    intsize=4, longsize=8, ptrsize=8, doublesize=8, byteorder=12345678, doublekind=3
    d_longlong=define, longlongsize=8, d_longdbl=define, longdblsize=16, longdblkind=3
    ivtype='long', ivsize=8, nvtype='double', nvsize=8, Off_t='off_t', lseeksize=8
    alignbytes=8, prototype=define
  Linker and Libraries:
    ld='env MACOSX_DEPLOYMENT_TARGET=10.3 cc', ldflags =' -fstack-protector-strong -L/usr/local/lib'
    libpth=/usr/local/lib /Library/Developer/CommandLineTools/usr/bin/../lib/clang/8.1.0/lib /Library/Developer/CommandLineTools/usr/lib /usr/lib
    libs=-lpthread -ldbm -ldl -lm -lutil -lc
    perllibs=-lpthread -ldl -lm -lutil -lc
    libc=, so=dylib, useshrplib=false, libperl=libperl.a
    gnulibc_version=''
  Dynamic Linking:
    dlsrc=dl_dlopen.xs, dlext=bundle, d_dlsymun=undef, ccdlflags=' '
    cccdlflags=' ', lddlflags=' -bundle -undefined dynamic_lookup -L/usr/local/lib -fstack-protector-strong'


Characteristics of this binary (from libperl): 
  Compile-time options: HAS_TIMES PERLIO_LAYERS PERL_DONT_CREATE_GVSV
                        PERL_HASH_FUNC_ONE_AT_A_TIME_HARD PERL_MALLOC_WRAP
                        PERL_NEW_COPY_ON_WRITE PERL_PRESERVE_IVUV
                        USE_64_BIT_ALL USE_64_BIT_INT USE_LARGE_FILES
                        USE_LOCALE USE_LOCALE_COLLATE USE_LOCALE_CTYPE
                        USE_LOCALE_NUMERIC USE_LOCALE_TIME USE_PERLIO
                        USE_PERL_ATOF
  Locally applied patches:
	Devel::PatchPerl 1.38
  Built under darwin
  Compiled at Apr 10 2017 16:42:25
  %ENV:
    PERLBREW_BASHRC_VERSION="0.78"
    PERLBREW_HOME="/Users/marmanold/.perlbrew"
    PERLBREW_MANPATH="/Users/marmanold/perl5/perlbrew/perls/perl-5.22.3/man"
    PERLBREW_PATH="/Users/marmanold/perl5/perlbrew/bin:/Users/marmanold/perl5/perlbrew/perls/perl-5.22.3/bin"
    PERLBREW_PERL="perl-5.22.3"
    PERLBREW_ROOT="/Users/marmanold/perl5/perlbrew"
    PERLBREW_VERSION="0.78"
  @INC:
    /Users/marmanold/perl5/perlbrew/perls/perl-5.22.3/lib/site_perl/5.22.3/darwin-2level
    /Users/marmanold/perl5/perlbrew/perls/perl-5.22.3/lib/site_perl/5.22.3
    /Users/marmanold/perl5/perlbrew/perls/perl-5.22.3/lib/5.22.3/darwin-2level
    /Users/marmanold/perl5/perlbrew/perls/perl-5.22.3/lib/5.22.3
    .