YAML v1.27 Perl 5 v5.12.4 amd64-freebsd

Status
Pass
From
Slaven Rezić (SREZIC)
Dist
YAML v1.27
Platform
Perl 5 v5.12.4 amd64-freebsd
Date
2018-11-15 08:11:14
ID
054da086-e8ae-11e8-8755-e026b0bc5c00
This distribution has been tested as part of the CPAN Testers
project, supporting the Perl programming language.  See
http://wiki.cpantesters.org/ for more information or email
questions to cpan-testers-discuss@perl.org


--
Dear Tina Muller,

This is a computer-generated report for YAML-1.27
on perl 5.12.4, created by CPAN-Reporter-1.2010.

Thank you for uploading your work to CPAN.  Congratulations!
All tests were successful.

Sections of this report:

    * Tester comments
    * Program output
    * Prerequisites
    * Environment and other context

------------------------------
TESTER COMMENTS
------------------------------

Additional comments from tester:

none provided

------------------------------
PROGRAM OUTPUT
------------------------------

Output from '/usr/bin/make test':

PERL_DL_NONLAZY=1 "/usr/local/bin/perl5.12.4" "-MExtUtils::Command::MM" "-MTest::Harness" "-e" "undef *Test::Harness::Switches; test_harness(0, 'blib/lib', 'blib/arch')" t/*.t
t/000-compile-modules.t ............ ok
t/2-scalars.t ...................... ok
t/author-pod-syntax.t .............. skipped: these tests are for testing by the author
t/basic-tests.t .................... ok
t/bugs-emailed.t ................... ok
t/bugs-rt.t ........................ ok
t/changes.t ........................ ok
t/dump-basics.t .................... ok
t/dump-blessed-glob.t .............. ok
t/dump-blessed.t ................... ok
t/dump-code.t ...................... ok
t/dump-file-utf8.t ................. ok
t/dump-file.t ...................... ok
t/dump-nested.t .................... ok
t/dump-opts.t ...................... ok
t/dump-perl-types-512.t ............ ok
t/dump-perl-types-514.t ............ skipped: test only for perls v5.13.5-11-gfb85c04 or later
t/dump-perl-types.t ................ ok
t/dump-stringify.t ................. ok
t/dump-stringy-numbers.t ........... ok
t/dump-synopsis.t .................. ok
t/dump-tests-512.t ................. ok
t/dump-tests-514.t ................. skipped: test only for perls v5.13.5-11-gfb85c04 or later
t/dump-tests.t ..................... ok
t/dump-works.t ..................... ok
t/errors.t ......................... ok
t/export.t ......................... ok
t/freeze-thaw.t .................... ok
t/global-api.t ..................... ok
t/inbox.t .......................... ok
t/io-handle.t ...................... ok
t/issue-149.t ...................... ok
t/issue-69.t ....................... ok
t/load-code.t ...................... ok
t/load-fails.t ..................... ok
t/load-passes.t .................... ok
t/load-slides.t .................... ok
t/load-spec.t ...................... ok
t/load-tests.t ..................... ok
t/load-works.t ..................... ok
t/marshall.t ....................... ok
t/no-load-blessed.t ................ ok
t/node-info.t ...................... ok
t/numify.t ......................... ok
t/preserve.t ....................... ok
t/pugs-objects.t ................... ok
t/references.t ..................... ok
t/regexp.t ......................... ok
t/roundtrip.t ...................... ok
t/rt-90593.t ....................... ok
t/svk.t ............................ ok
t/test.t ........................... ok
t/trailing-comments-content.t ...... ok
t/trailing-comments-non-content.t .. ok
All tests successful.
Files=54, Tests=541, 20 wallclock secs ( 0.28 usr  0.20 sys + 18.09 cusr  1.84 csys = 20.40 CPU)
Result: PASS

------------------------------
PREREQUISITES
------------------------------

Prerequisite modules loaded:

requires:

    Module              Need     Have    
    ------------------- -------- --------
    perl                5.008001 5.012004

build_requires:

    Module              Need     Have    
    ------------------- -------- --------
    Encode              0        2.39    
    ExtUtils::MakeMaker 0        7.34    
    Test::Deep          0        0.113   
    Test::More          0.88     0.99    
    Test::YAML          1.05     1.07    

configure_requires:

    Module              Need     Have    
    ------------------- -------- --------
    ExtUtils::MakeMaker 0        7.34    


------------------------------
ENVIRONMENT AND OTHER CONTEXT
------------------------------

Environment variables:

    LC_ALL = de_DE.UTF-8
    PATH = /usr/local/bin:/usr/bin:/bin:/usr/local/sbin:/usr/sbin:/sbin:/home/e/eserte/bin/freebsd9.1:/home/e/eserte/bin/sh:/home/e/eserte/bin:/home/e/eserte/bin/pistachio-perl/bin:/usr/games:/home/e/eserte/devel:/home/e/eserte/src/srezic-misc/scripts
    PERL5LIB = /usr/local/src/CPAN/build/2018111508/Test-YAML-1.07-mRwNlv/blib/arch:/usr/local/src/CPAN/build/2018111508/Test-YAML-1.07-mRwNlv/blib/lib:/usr/local/src/CPAN/build/2018111508/Test-Base-0.89-63aTDW/blib/arch:/usr/local/src/CPAN/build/2018111508/Test-Base-0.89-63aTDW/blib/lib:/usr/local/src/CPAN/build/2018111508/Spiffy-0.46-R2rJ3A/blib/arch:/usr/local/src/CPAN/build/2018111508/Spiffy-0.46-R2rJ3A/blib/lib:/usr/local/src/CPAN/build/2018111508/Text-Diff-1.45-y2XTVv/blib/arch:/usr/local/src/CPAN/build/2018111508/Text-Diff-1.45-y2XTVv/blib/lib:/usr/local/src/CPAN/build/2018111508/Algorithm-Diff-1.1903-CpFq0S/blib/arch:/usr/local/src/CPAN/build/2018111508/Algorithm-Diff-1.1903-CpFq0S/blib/lib:/usr/local/src/CPAN/build/2018111508/HTTP-Headers-Fast-0.21-2RSEgJ/blib/arch:/usr/local/src/CPAN/build/2018111508/HTTP-Headers-Fast-0.21-2RSEgJ/blib/lib:/usr/local/src/CPAN/build/2018111508/ExtUtils-MakeMaker-7.34-ktiFSO/blib/arch:/usr/local/src/CPAN/build/2018111508/ExtUtils-MakeMaker-7.34-ktiFSO/blib/lib
    PERL5OPT = 
    PERL5_CPANPLUS_IS_RUNNING = 62014
    PERL5_CPAN_IS_RUNNING = 62014
    PERL5_CPAN_IS_RUNNING_IN_RECURSION = 45133,62014
    PERLDOC = -MPod::Perldoc::ToTextOverstrike
    PERL_BATCH = yes
    PERL_CANARY_STABILITY_NOPROMPT = 1
    PERL_CPAN_REPORTER_CONFIG = /var/tmp/cpansmoker-1000/2018111507/cpanreporter_000_config.ini
    PERL_EXTUTILS_AUTOINSTALL = --defaultdeps
    SHELL = /usr/local/bin/zsh
    TERM = screen
    TMPDIR = /var/tmp/cpansmoker-1000/2018111507

Perl special variables (and OS-specific diagnostics, for MSWin32):

    $^X = /usr/local/bin/perl5.12.4
    $UID/$EUID = 1000 / 1000
    $GID = 1000 1000 0 5 1023 1024
    $EGID = 1000 1000 0 5 1023 1024

Perl module toolchain versions installed:

    Module              Have    
    ------------------- --------
    CPAN                1.94_56 
    CPAN::Meta          2.143240
    Cwd                 3.40    
    ExtUtils::CBuilder  0.27    
    ExtUtils::Command   7.34    
    ExtUtils::Install   2.06    
    ExtUtils::MakeMaker 7.34    
    ExtUtils::Manifest  1.70    
    ExtUtils::ParseXS   2.21    
    File::Spec          3.40    
    JSON                2.90    
    JSON::PP            2.27203 
    Module::Build       0.4007  
    Module::Signature   n/a     
    Parse::CPAN::Meta   1.4414  
    Test::Harness       3.34    
    Test::More          0.99    
    YAML                0.84    
    YAML::Syck          1.27    
    version             0.88    


--

Summary of my perl5 (revision 5 version 12 subversion 4) configuration:
   
  Platform:
    osname=freebsd, osvers=9.2-release, archname=amd64-freebsd
    uname='freebsd cvrsnica.herceg.de 9.2-release freebsd 9.2-release #0 r255898: thu sep 26 22:50:31 utc 2013 root@bake.isc.freebsd.org:usrobjusrsrcsysgeneric amd64 '
    config_args='-D useshrplib=true -Dprefix=/usr/perl5.12.4 -Dusemymalloc=n -D cc=ccache cc -Dgccansipedantic -de'
    hint=recommended, useposix=true, d_sigaction=define
    useithreads=undef, usemultiplicity=undef
    useperlio=define, d_sfio=undef, uselargefiles=define, usesocks=undef
    use64bitint=define, use64bitall=define, uselongdouble=undef
    usemymalloc=n, bincompat5005=undef
  Compiler:
    cc='ccache cc', ccflags ='-DHAS_FPSETMASK -DHAS_FLOATINGPOINT_H -fno-strict-aliasing -pipe -fstack-protector -I/usr/local/include',
    optimize='-O2 -pipe',
    cppflags='-DHAS_FPSETMASK -DHAS_FLOATINGPOINT_H -fno-strict-aliasing -pipe -fstack-protector -I/usr/local/include'
    ccversion='', gccversion='4.2.1 20070831 patched [FreeBSD]', gccosandvers=''
    intsize=4, longsize=8, ptrsize=8, doublesize=8, byteorder=12345678
    d_longlong=define, longlongsize=8, d_longdbl=define, longdblsize=16
    ivtype='long', ivsize=8, nvtype='double', nvsize=8, Off_t='off_t', lseeksize=8
    alignbytes=8, prototype=define
  Linker and Libraries:
    ld='ccache cc', ldflags ='-Wl,-E  -fstack-protector -L/usr/local/lib'
    libpth=/usr/lib /usr/local/lib
    libs=-lgdbm -lm -lcrypt -lutil -lc
    perllibs=-lm -lcrypt -lutil -lc
    libc=, so=so, useshrplib=true, libperl=libperl.so
    gnulibc_version=''
  Dynamic Linking:
    dlsrc=dl_dlopen.xs, dlext=so, d_dlsymun=undef, ccdlflags='  -Wl,-R/usr/perl5.12.4/lib/5.12.4/amd64-freebsd/CORE'
    cccdlflags='-DPIC -fPIC', lddlflags='-shared  -L/usr/local/lib -fstack-protector'


Characteristics of this binary (from libperl): 
  Compile-time options: PERL_DONT_CREATE_GVSV PERL_MALLOC_WRAP PERL_USE_DEVEL
                        USE_64_BIT_ALL USE_64_BIT_INT USE_LARGE_FILES
                        USE_PERLIO USE_PERL_ATOF
  Built under freebsd
  Compiled at Oct 30 2013 17:01:31
  %ENV:
    PERL5LIB="/usr/local/src/CPAN/build/2018111508/Test-YAML-1.07-mRwNlv/blib/arch:/usr/local/src/CPAN/build/2018111508/Test-YAML-1.07-mRwNlv/blib/lib:/usr/local/src/CPAN/build/2018111508/Test-Base-0.89-63aTDW/blib/arch:/usr/local/src/CPAN/build/2018111508/Test-Base-0.89-63aTDW/blib/lib:/usr/local/src/CPAN/build/2018111508/Spiffy-0.46-R2rJ3A/blib/arch:/usr/local/src/CPAN/build/2018111508/Spiffy-0.46-R2rJ3A/blib/lib:/usr/local/src/CPAN/build/2018111508/Text-Diff-1.45-y2XTVv/blib/arch:/usr/local/src/CPAN/build/2018111508/Text-Diff-1.45-y2XTVv/blib/lib:/usr/local/src/CPAN/build/2018111508/Algorithm-Diff-1.1903-CpFq0S/blib/arch:/usr/local/src/CPAN/build/2018111508/Algorithm-Diff-1.1903-CpFq0S/blib/lib:/usr/local/src/CPAN/build/2018111508/HTTP-Headers-Fast-0.21-2RSEgJ/blib/arch:/usr/local/src/CPAN/build/2018111508/HTTP-Headers-Fast-0.21-2RSEgJ/blib/lib:/usr/local/src/CPAN/build/2018111508/ExtUtils-MakeMaker-7.34-ktiFSO/blib/arch:/usr/local/src/CPAN/build/2018111508/ExtUtils-MakeMaker-7.34-ktiFSO/blib/lib"
    PERL5OPT=""
    PERL5_CPANPLUS_IS_RUNNING="62014"
    PERL5_CPAN_IS_RUNNING="62014"
    PERL5_CPAN_IS_RUNNING_IN_RECURSION="45133,62014"
    PERLDOC="-MPod::Perldoc::ToTextOverstrike"
    PERL_BATCH="yes"
    PERL_CANARY_STABILITY_NOPROMPT="1"
    PERL_CPAN_REPORTER_CONFIG="/var/tmp/cpansmoker-1000/2018111507/cpanreporter_000_config.ini"
    PERL_EXTUTILS_AUTOINSTALL="--defaultdeps"
  @INC:
    /usr/local/src/CPAN/build/2018111508/Test-YAML-1.07-mRwNlv/blib/arch
    /usr/local/src/CPAN/build/2018111508/Test-YAML-1.07-mRwNlv/blib/lib
    /usr/local/src/CPAN/build/2018111508/Test-Base-0.89-63aTDW/blib/arch
    /usr/local/src/CPAN/build/2018111508/Test-Base-0.89-63aTDW/blib/lib
    /usr/local/src/CPAN/build/2018111508/Spiffy-0.46-R2rJ3A/blib/arch
    /usr/local/src/CPAN/build/2018111508/Spiffy-0.46-R2rJ3A/blib/lib
    /usr/local/src/CPAN/build/2018111508/Text-Diff-1.45-y2XTVv/blib/arch
    /usr/local/src/CPAN/build/2018111508/Text-Diff-1.45-y2XTVv/blib/lib
    /usr/local/src/CPAN/build/2018111508/Algorithm-Diff-1.1903-CpFq0S/blib/arch
    /usr/local/src/CPAN/build/2018111508/Algorithm-Diff-1.1903-CpFq0S/blib/lib
    /usr/local/src/CPAN/build/2018111508/HTTP-Headers-Fast-0.21-2RSEgJ/blib/arch
    /usr/local/src/CPAN/build/2018111508/HTTP-Headers-Fast-0.21-2RSEgJ/blib/lib
    /usr/local/src/CPAN/build/2018111508/ExtUtils-MakeMaker-7.34-ktiFSO/blib/arch
    /usr/local/src/CPAN/build/2018111508/ExtUtils-MakeMaker-7.34-ktiFSO/blib/lib
    /usr/perl5.12.4/lib/site_perl/5.12.4/amd64-freebsd
    /usr/perl5.12.4/lib/site_perl/5.12.4
    /usr/perl5.12.4/lib/5.12.4/amd64-freebsd
    /usr/perl5.12.4/lib/5.12.4
    .