Imager v1.027 Perl 5 v5.41.13 MSWin32-x64-multi-thread

Status
Pass
From
twata
Dist
Imager v1.027
Platform
Perl 5 v5.41.13 MSWin32-x64-multi-thread
Date
2025-06-07 05:27:46
ID
0511c4b8-6e79-1014-bf01-cfc534352e93
This distribution has been tested as part of the CPAN Testers
project, supporting the Perl programming language.  See
http://wiki.cpantesters.org/ for more information or email
questions to cpan-testers-discuss@perl.org


--
Dear Tony Cook,

This is a computer-generated report for Imager-1.027
on perl 5.41.13, created by CPAN-Reporter-1.2020.

Thank you for uploading your work to CPAN.  Congratulations!
All tests were successful.

Sections of this report:

    * Tester comments
    * Program output
    * Prerequisites
    * Environment and other context

------------------------------
TESTER COMMENTS
------------------------------

Additional comments from tester:

none provided

------------------------------
PROGRAM OUTPUT
------------------------------

Output from '"C:\Program Files\Microsoft Visual Studio\2022\Community\VC\Tools\MSVC\14.33.31629\bin\Hostx64\x64\nmake.exe" test':


Microsoft (R) Program Maintenance Utility Version 14.33.31630.0
Copyright (C) Microsoft Corporation.  All rights reserved.

	"C:\perl64\5.41.13\bin\perl.exe" -MExtUtils::Command::MM -e cp_nonempty -- Imager.bs blib\arch\auto\Imager\Imager.bs 644
	nmake -f Makefile all -nologo LIBPERL_A="libperl.lib" LINKTYPE="dynamic" OPTIMIZE="-O1 -Zi -GL -fp:precise" PREFIX="C:\home\oat54113\perl5" INSTALL_BASE="C:\home\oat54113\perl5" PASTHRU_DEFINE="-DOS_MSWin32   " PASTHRU_INC="  "
	"C:\perl64\5.41.13\bin\perl.exe" -MExtUtils::Command::MM -e cp_nonempty -- CountColor.bs ..\blib\arch\auto\Imager\CountColor\CountColor.bs 644
	cd ..
	nmake -f Makefile all -nologo LIBPERL_A="libperl.lib" LINKTYPE="dynamic" OPTIMIZE="-O1 -Zi -GL -fp:precise" PREFIX="C:\home\oat54113\perl5" INSTALL_BASE="C:\home\oat54113\perl5" PASTHRU_DEFINE="-DOS_MSWin32   " PASTHRU_INC="  "
	"C:\perl64\5.41.13\bin\perl.exe" -MExtUtils::Command::MM -e cp_nonempty -- DynTest.bs ..\blib\arch\auto\Imager\Filter\DynTest\DynTest.bs 644
	cd ..
	nmake -f Makefile all -nologo LIBPERL_A="libperl.lib" LINKTYPE="dynamic" OPTIMIZE="-O1 -Zi -GL -fp:precise" PREFIX="C:\home\oat54113\perl5" INSTALL_BASE="C:\home\oat54113\perl5" PASTHRU_DEFINE="-DOS_MSWin32   " PASTHRU_INC="  "
	cd ..
	nmake -f Makefile all -nologo LIBPERL_A="libperl.lib" LINKTYPE="dynamic" OPTIMIZE="-O1 -Zi -GL -fp:precise" PREFIX="C:\home\oat54113\perl5" INSTALL_BASE="C:\home\oat54113\perl5" PASTHRU_DEFINE="-DOS_MSWin32   " PASTHRU_INC="  "
	"C:\perl64\5.41.13\bin\perl.exe" -MExtUtils::Command::MM -e cp_nonempty -- Flines.bs ..\blib\arch\auto\Imager\Filter\Flines\Flines.bs 644
	cd ..
	nmake -f Makefile all -nologo LIBPERL_A="libperl.lib" LINKTYPE="dynamic" OPTIMIZE="-O1 -Zi -GL -fp:precise" PREFIX="C:\home\oat54113\perl5" INSTALL_BASE="C:\home\oat54113\perl5" PASTHRU_DEFINE="-DOS_MSWin32   " PASTHRU_INC="  "
	cd ..
	nmake -f Makefile all -nologo LIBPERL_A="libperl.lib" LINKTYPE="dynamic" OPTIMIZE="-O1 -Zi -GL -fp:precise" PREFIX="C:\home\oat54113\perl5" INSTALL_BASE="C:\home\oat54113\perl5" PASTHRU_DEFINE="-DOS_MSWin32   " PASTHRU_INC="  "
	"C:\perl64\5.41.13\bin\perl.exe" -MExtUtils::Command::MM -e cp_nonempty -- ICO.bs ..\blib\arch\auto\Imager\File\ICO\ICO.bs 644
	cd ..
	nmake -f Makefile all -nologo LIBPERL_A="libperl.lib" LINKTYPE="dynamic" OPTIMIZE="-O1 -Zi -GL -fp:precise" PREFIX="C:\home\oat54113\perl5" INSTALL_BASE="C:\home\oat54113\perl5" PASTHRU_DEFINE="-DOS_MSWin32   " PASTHRU_INC="  "
	cd ..
	nmake -f Makefile all -nologo LIBPERL_A="libperl.lib" LINKTYPE="dynamic" OPTIMIZE="-O1 -Zi -GL -fp:precise" PREFIX="C:\home\oat54113\perl5" INSTALL_BASE="C:\home\oat54113\perl5" PASTHRU_DEFINE="-DOS_MSWin32   " PASTHRU_INC="  "
	"C:\perl64\5.41.13\bin\perl.exe" -MExtUtils::Command::MM -e cp_nonempty -- Mandelbrot.bs ..\blib\arch\auto\Imager\Filter\Mandelbrot\Mandelbrot.bs 644
	cd ..
	nmake -f Makefile all -nologo LIBPERL_A="libperl.lib" LINKTYPE="dynamic" OPTIMIZE="-O1 -Zi -GL -fp:precise" PREFIX="C:\home\oat54113\perl5" INSTALL_BASE="C:\home\oat54113\perl5" PASTHRU_DEFINE="-DOS_MSWin32   " PASTHRU_INC="  "
	cd ..
	nmake -f Makefile all -nologo LIBPERL_A="libperl.lib" LINKTYPE="dynamic" OPTIMIZE="-O1 -Zi -GL -fp:precise" PREFIX="C:\home\oat54113\perl5" INSTALL_BASE="C:\home\oat54113\perl5" PASTHRU_DEFINE="-DOS_MSWin32   " PASTHRU_INC="  "
	"C:\perl64\5.41.13\bin\perl.exe" -MExtUtils::Command::MM -e cp_nonempty -- SGI.bs ..\blib\arch\auto\Imager\File\SGI\SGI.bs 644
	cd ..
	nmake -f Makefile all -nologo LIBPERL_A="libperl.lib" LINKTYPE="dynamic" OPTIMIZE="-O1 -Zi -GL -fp:precise" PREFIX="C:\home\oat54113\perl5" INSTALL_BASE="C:\home\oat54113\perl5" PASTHRU_DEFINE="-DOS_MSWin32   " PASTHRU_INC="  "
	cd ..
	nmake -f Makefile all -nologo LIBPERL_A="libperl.lib" LINKTYPE="dynamic" OPTIMIZE="-O1 -Zi -GL -fp:precise" PREFIX="C:\home\oat54113\perl5" INSTALL_BASE="C:\home\oat54113\perl5" PASTHRU_DEFINE="-DOS_MSWin32   " PASTHRU_INC="  "
	"C:\perl64\5.41.13\bin\perl.exe" -MExtUtils::Command::MM -e cp_nonempty -- W32.bs ..\blib\arch\auto\Imager\Font\W32\W32.bs 644
	cd ..
	nmake test_dynamic -nologo LIBPERL_A="libperl.lib" LINKTYPE="dynamic" OPTIMIZE="-O1 -Zi -GL -fp:precise" PREFIX="C:\home\oat54113\perl5" INSTALL_BASE="C:\home\oat54113\perl5" PASTHRU_DEFINE="-DOS_MSWin32   " PASTHRU_INC="  "
	"C:\perl64\5.41.13\bin\perl.exe" -MExtUtils::Command::MM -e cp_nonempty -- CountColor.bs ..\blib\arch\auto\Imager\CountColor\CountColor.bs 644
	"C:\perl64\5.41.13\bin\perl.exe" "-MExtUtils::Command::MM" "-MTest::Harness" "-e" "undef *Test::Harness::Switches; test_harness(0, '..\blib\lib', '..\blib\arch')" t\*.t
t\t00countcolor.t .. ok
All tests successful.
Files=1, Tests=9,  1 wallclock secs ( 0.11 usr +  0.02 sys =  0.13 CPU)
Result: PASS
	cd ..
	nmake test_dynamic -nologo LIBPERL_A="libperl.lib" LINKTYPE="dynamic" OPTIMIZE="-O1 -Zi -GL -fp:precise" PREFIX="C:\home\oat54113\perl5" INSTALL_BASE="C:\home\oat54113\perl5" PASTHRU_DEFINE="-DOS_MSWin32   " PASTHRU_INC="  "
	"C:\perl64\5.41.13\bin\perl.exe" -MExtUtils::Command::MM -e cp_nonempty -- DynTest.bs ..\blib\arch\auto\Imager\Filter\DynTest\DynTest.bs 644
	"C:\perl64\5.41.13\bin\perl.exe" "-MExtUtils::Command::MM" "-MTest::Harness" "-e" "undef *Test::Harness::Switches; test_harness(0, '..\blib\lib', '..\blib\arch')" t\*.t
t\t00dyntest.t .. ok
All tests successful.
Files=1, Tests=4,  1 wallclock secs ( 0.13 usr +  0.02 sys =  0.14 CPU)
Result: PASS
	cd ..
	nmake test_dynamic -nologo LIBPERL_A="libperl.lib" LINKTYPE="dynamic" OPTIMIZE="-O1 -Zi -GL -fp:precise" PREFIX="C:\home\oat54113\perl5" INSTALL_BASE="C:\home\oat54113\perl5" PASTHRU_DEFINE="-DOS_MSWin32   " PASTHRU_INC="  "
	cd ..
	nmake test_dynamic -nologo LIBPERL_A="libperl.lib" LINKTYPE="dynamic" OPTIMIZE="-O1 -Zi -GL -fp:precise" PREFIX="C:\home\oat54113\perl5" INSTALL_BASE="C:\home\oat54113\perl5" PASTHRU_DEFINE="-DOS_MSWin32   " PASTHRU_INC="  "
	"C:\perl64\5.41.13\bin\perl.exe" -MExtUtils::Command::MM -e cp_nonempty -- Flines.bs ..\blib\arch\auto\Imager\Filter\Flines\Flines.bs 644
	"C:\perl64\5.41.13\bin\perl.exe" "-MExtUtils::Command::MM" "-MTest::Harness" "-e" "undef *Test::Harness::Switches; test_harness(0, '..\blib\lib', '..\blib\arch')" t\*.t
t\t00flines.t .. ok
All tests successful.
Files=1, Tests=3,  1 wallclock secs ( 0.09 usr +  0.02 sys =  0.11 CPU)
Result: PASS
	cd ..
	nmake test_dynamic -nologo LIBPERL_A="libperl.lib" LINKTYPE="dynamic" OPTIMIZE="-O1 -Zi -GL -fp:precise" PREFIX="C:\home\oat54113\perl5" INSTALL_BASE="C:\home\oat54113\perl5" PASTHRU_DEFINE="-DOS_MSWin32   " PASTHRU_INC="  "
	cd ..
	nmake test_dynamic -nologo LIBPERL_A="libperl.lib" LINKTYPE="dynamic" OPTIMIZE="-O1 -Zi -GL -fp:precise" PREFIX="C:\home\oat54113\perl5" INSTALL_BASE="C:\home\oat54113\perl5" PASTHRU_DEFINE="-DOS_MSWin32   " PASTHRU_INC="  "
	"C:\perl64\5.41.13\bin\perl.exe" -MExtUtils::Command::MM -e cp_nonempty -- ICO.bs ..\blib\arch\auto\Imager\File\ICO\ICO.bs 644
	"C:\perl64\5.41.13\bin\perl.exe" "-MExtUtils::Command::MM" "-MTest::Harness" "-e" "undef *Test::Harness::Switches; test_harness(0, '..\blib\lib', '..\blib\arch')" t\*.t
t\t10icon.t ......... ok
t\t20readone.t ...... ok
t\t21readmult.t ..... ok
t\t30cursor.t ....... ok
t\t40readcurone.t ... ok
t\t41curmultread.t .. ok
t\t50readfail.t ..... ok
t\t60writefail.t .... ok
t\t70icosing.t ...... ok
t\t71icomult.t ...... ok
t\t72cursing.t ...... ok
t\t73curmult.t ...... ok
All tests successful.
Files=12, Tests=253, 14 wallclock secs ( 0.22 usr +  0.06 sys =  0.28 CPU)
Result: PASS
	cd ..
	nmake test_dynamic -nologo LIBPERL_A="libperl.lib" LINKTYPE="dynamic" OPTIMIZE="-O1 -Zi -GL -fp:precise" PREFIX="C:\home\oat54113\perl5" INSTALL_BASE="C:\home\oat54113\perl5" PASTHRU_DEFINE="-DOS_MSWin32   " PASTHRU_INC="  "
	cd ..
	nmake test_dynamic -nologo LIBPERL_A="libperl.lib" LINKTYPE="dynamic" OPTIMIZE="-O1 -Zi -GL -fp:precise" PREFIX="C:\home\oat54113\perl5" INSTALL_BASE="C:\home\oat54113\perl5" PASTHRU_DEFINE="-DOS_MSWin32   " PASTHRU_INC="  "
	"C:\perl64\5.41.13\bin\perl.exe" -MExtUtils::Command::MM -e cp_nonempty -- Mandelbrot.bs ..\blib\arch\auto\Imager\Filter\Mandelbrot\Mandelbrot.bs 644
	"C:\perl64\5.41.13\bin\perl.exe" "-MExtUtils::Command::MM" "-MTest::Harness" "-e" "undef *Test::Harness::Switches; test_harness(0, '..\blib\lib', '..\blib\arch')" t\*.t
t\t00mandel.t .. ok
All tests successful.
Files=1, Tests=3,  1 wallclock secs ( 0.09 usr +  0.05 sys =  0.14 CPU)
Result: PASS
	cd ..
	nmake test_dynamic -nologo LIBPERL_A="libperl.lib" LINKTYPE="dynamic" OPTIMIZE="-O1 -Zi -GL -fp:precise" PREFIX="C:\home\oat54113\perl5" INSTALL_BASE="C:\home\oat54113\perl5" PASTHRU_DEFINE="-DOS_MSWin32   " PASTHRU_INC="  "
	cd ..
	nmake test_dynamic -nologo LIBPERL_A="libperl.lib" LINKTYPE="dynamic" OPTIMIZE="-O1 -Zi -GL -fp:precise" PREFIX="C:\home\oat54113\perl5" INSTALL_BASE="C:\home\oat54113\perl5" PASTHRU_DEFINE="-DOS_MSWin32   " PASTHRU_INC="  "
	"C:\perl64\5.41.13\bin\perl.exe" -MExtUtils::Command::MM -e cp_nonempty -- SGI.bs ..\blib\arch\auto\Imager\File\SGI\SGI.bs 644
	"C:\perl64\5.41.13\bin\perl.exe" "-MExtUtils::Command::MM" "-MTest::Harness" "-e" "undef *Test::Harness::Switches; test_harness(0, '..\blib\lib', '..\blib\arch')" t\*.t
t\00load.t ... ok
t\10read.t ... ok
t\20write.t .. ok
t\30limit.t .. ok
All tests successful.
Files=4, Tests=175,  8 wallclock secs ( 0.22 usr +  0.02 sys =  0.23 CPU)
Result: PASS
	cd ..
	nmake test_dynamic -nologo LIBPERL_A="libperl.lib" LINKTYPE="dynamic" OPTIMIZE="-O1 -Zi -GL -fp:precise" PREFIX="C:\home\oat54113\perl5" INSTALL_BASE="C:\home\oat54113\perl5" PASTHRU_DEFINE="-DOS_MSWin32   " PASTHRU_INC="  "
	cd ..
	nmake test_dynamic -nologo LIBPERL_A="libperl.lib" LINKTYPE="dynamic" OPTIMIZE="-O1 -Zi -GL -fp:precise" PREFIX="C:\home\oat54113\perl5" INSTALL_BASE="C:\home\oat54113\perl5" PASTHRU_DEFINE="-DOS_MSWin32   " PASTHRU_INC="  "
	"C:\perl64\5.41.13\bin\perl.exe" -MExtUtils::Command::MM -e cp_nonempty -- W32.bs ..\blib\arch\auto\Imager\Font\W32\W32.bs 644
	"C:\perl64\5.41.13\bin\perl.exe" "-MExtUtils::Command::MM" "-MTest::Harness" "-e" "undef *Test::Harness::Switches; test_harness(0, '..\blib\lib', '..\blib\arch')" t\*.t
t\t10win32.t .. ok
t\t90std.t .... ok
All tests successful.
Files=2, Tests=80,  2 wallclock secs ( 0.05 usr +  0.06 sys =  0.11 CPU)
Result: PASS
	cd ..
	"C:\perl64\5.41.13\bin\perl.exe" "-MExtUtils::Command::MM" "-MTest::Harness" "-e" "undef *Test::Harness::Switches; test_harness(0, 'blib\lib', 'blib\arch')" t\*.t t\*\*.t
t\000-load.t ......................... ok
t\100-base\010-introvert.t ........... ok
t\100-base\020-color.t ............... ok
t\100-base\030-countc.t .............. ok
t\100-base\800-tr18561.t ............. ok
t\100-base\801-tr18561b.t ............ ok
t\150-type\020-sixteen.t ............. ok
t\150-type\030-double.t .............. ok
t\150-type\040-palette.t ............. ok
t\150-type\100-masked.t .............. ok
t\200-file\010-iolayer.t ............. ok
t\200-file\100-files.t ............... ok
t\200-file\200-nosuch.t .............. ok
t\200-file\300-raw.t ................. ok
t\200-file\310-pnm.t ................. ok
t\200-file\320-bmp.t ................. ok
t\200-file\330-tga.t ................. ok
t\200-file\400-basic.t ............... ok
t\200-file\450-preload.t ............. ok
t\250-draw\010-draw.t ................ ok
t\250-draw\020-flood.t ............... ok
t\250-draw\030-paste.t ............... ok
t\250-draw\040-rubthru.t ............. ok
t\250-draw\050-polyaa.t .............. ok
t\250-draw\060-polypoly.t ............ ok
t\250-draw\100-fill.t ................ ok
t\250-draw\200-compose.t ............. ok
t\300-transform\010-scale.t .......... ok
t\300-transform\020-combine.t ........ ok
t\300-transform\030-copyflip.t ....... ok
t\300-transform\040-crop.t ........... ok
t\300-transform\050-convert.t ........ ok
t\300-transform\060-map.t ............ ok
t\300-transform\200-trimcolorlist.t .. ok
t\300-transform\210-trim.t ........... ok
t\300-transform\500-trans.t .......... skipped: No Affix::Infix2Postfix
t\300-transform\600-trans2.t ......... ok
t\300-transform\610-postfix.t ........ ok
t\300-transform\620-infix.t .......... ok
t\300-transform\630-assem.t .......... ok
t\350-font\010-font.t ................ ok
t\350-font\020-tt.t .................. ok
t\350-font\030-ttoo.t ................ ok
t\350-font\040-ttstd.t ............... skipped: No tt available
t\350-font\100-texttools.t ........... ok
t\400-filter\010-filters.t ........... ok
t\400-filter\020-autolevels.t ........ ok
t\450-api\100-inline.t ............... skipped: Inline required for testing API
t\450-api\110-inlinectx.t ............ skipped: Inline required for testing API
t\450-api\130-cpp.t .................. skipped: Inline::CPP required for testing C++ compatibility
t\850-thread\010-base.t .............. ok
t\850-thread\100-error.t ............. ok
t\850-thread\110-log.t ............... ok
t\900-util\010-test.t ................ ok
t\900-util\020-error.t ............... ok
t\900-util\030-log.t ................. ok
t\900-util\040-limit.t ............... ok
t\900-util\050-matrix.t .............. ok
t\900-util\060-extutil.t ............. ok
t\900-util\060-hlines.t .............. ok
t\950-kwalitee\010-pod.t ............. skipped: POD only tested under automated or author testing
t\950-kwalitee\020-samples.t ......... ok
t\950-kwalitee\030-podcover.t ........ ok
t\950-kwalitee\040-strict.t .......... ok
t\950-kwalitee\050-meta.t ............ skipped: Only if automated or author testing
t\950-kwalitee\060-podstruct.t ....... skipped: POD only tested under automated or author testing
t\950-kwalitee\070-mymeta.t .......... skipped: Only if automated or author testing
t\950-kwalitee\080-nousevars.t ....... ok
All tests successful.
Files=68, Tests=4792, 72 wallclock secs ( 1.17 usr +  0.14 sys =  1.31 CPU)
Result: PASS

------------------------------
PREREQUISITES
------------------------------

Prerequisite modules loaded:

requires:

    Module              Need Have    
    ------------------- ---- --------
    Exporter            5.57 5.79    
    Scalar::Util        1.00 1.68_01 
    Test::More          0.99 1.302214
    XSLoader            0    0.32    

build_requires:

    Module              Need Have    
    ------------------- ---- --------
    ExtUtils::MakeMaker 0    7.76    
    Test::More          0.99 1.302214

configure_requires:

    Module              Need Have    
    ------------------- ---- --------
    ExtUtils::MakeMaker 0    7.76    

opt_requires:

    Module              Need Have    
    ------------------- ---- --------
    Parse::RecDescent   0    1.967015


------------------------------
ENVIRONMENT AND OTHER CONTEXT
------------------------------

Environment variables:

    COMSPEC = C:\WINDOWS\system32\cmd.exe
    INCLUDE = C:\Program Files\Microsoft Visual Studio\2022\Community\VC\Tools\MSVC\14.33.31629\include;C:\Program Files\Microsoft Visual Studio\2022\Community\VC\Tools\MSVC\14.33.31629\ATLMFC\include;C:\Program Files\Microsoft Visual Studio\2022\Community\VC\Auxiliary\VS\include;C:\Program Files (x86)\Windows Kits\10\include\10.0.19041.0\ucrt;C:\Program Files (x86)\Windows Kits\10\\include\10.0.19041.0\\um;C:\Program Files (x86)\Windows Kits\10\\include\10.0.19041.0\\shared;C:\Program Files (x86)\Windows Kits\10\\include\10.0.19041.0\\winrt;C:\Program Files (x86)\Windows Kits\10\\include\10.0.19041.0\\cppwinrt;C:\ext\include;C:\perl64\local\include
    LC_ALL = C
    LIB = C:\Program Files\Microsoft Visual Studio\2022\Community\VC\Tools\MSVC\14.33.31629\ATLMFC\lib\x64;C:\Program Files\Microsoft Visual Studio\2022\Community\VC\Tools\MSVC\14.33.31629\lib\x64;C:\Program Files (x86)\Windows Kits\10\lib\10.0.19041.0\ucrt\x64;C:\Program Files (x86)\Windows Kits\10\\lib\10.0.19041.0\\um\x64;C:\ext\lib
    NONINTERACTIVE_TESTING = 1
    NUMBER_OF_PROCESSORS = 4
    PATH = C:\home\oat54113\perl5\bin;C:\patch-2.5.9-7-bin\bin;C:\perl64\5.41.13\bin;C:\build-openssl\bin;C:\ext\bin;C:\Program Files\Microsoft Visual Studio\2022\Community\VC\Tools\MSVC\14.33.31629\bin\HostX64\x64;C:\Program Files\Microsoft Visual Studio\2022\Community\Common7\IDE\VC\VCPackages;C:\Program Files\Microsoft Visual Studio\2022\Community\Common7\IDE\CommonExtensions\Microsoft\TestWindow;C:\Program Files\Microsoft Visual Studio\2022\Community\Common7\IDE\CommonExtensions\Microsoft\TeamFoundation\Team Explorer;C:\Program Files\Microsoft Visual Studio\2022\Community\MSBuild\Current\bin\Roslyn;C:\Program Files\Microsoft Visual Studio\2022\Community\Team Tools\Performance Tools\x64;C:\Program Files\Microsoft Visual Studio\2022\Community\Team Tools\Performance Tools;C:\Program Files (x86)\Windows Kits\10\bin\10.0.19041.0\\x64;C:\Program Files (x86)\Windows Kits\10\bin\\x64;C:\Program Files\Microsoft Visual Studio\2022\Community\\MSBuild\Current\Bin\amd64;C:\Windows\Microsoft.NET\Framework64\v4.0.30319;C:\Program Files\Microsoft Visual Studio\2022\Community\Common7\IDE\;C:\Program Files\Microsoft Visual Studio\2022\Community\Common7\Tools\;C:\Program Files (x86)\Windows Resource Kits\Tools\;C:\WINDOWS\system32;C:\WINDOWS;C:\WINDOWS\System32\Wbem;C:\WINDOWS\System32\WindowsPowerShell\v1.0\;C:\Program Files\Microsoft Visual Studio\2022\Community\Common7\IDE\CommonExtensions\Microsoft\CMake\CMake\bin;C:\Program Files\Microsoft Visual Studio\2022\Community\Common7\IDE\CommonExtensions\Microsoft\CMake\Ninja;C:\Program Files\Microsoft Visual Studio\2022\Community\Common7\IDE\VC\Linux\bin\ConnectionManagerExe
    PERL5LIB = C:\home\oat54113\perl5\lib\perl5
    PERL5OPT = 
    PERL5_CPANPLUS_IS_RUNNING = 12172
    PERL5_CPAN_IS_RUNNING = 12172
    PERL_LOCAL_LIB_ROOT = C:\home\oat54113\perl5
    PERL_MB_OPT = --install_base "C:\\home\\oat54113\\perl5"
    PERL_MM_OPT = INSTALL_BASE=C:\\home\\oat54113\\perl5
    PERL_MM_USE_DEFAULT = 1
    PERL_USE_UNSAFE_INC = 1
    PROCESSOR_IDENTIFIER = Intel64 Family 6 Model 58 Stepping 9, GenuineIntel
    TEMP = C:\Users\USER\AppData\Local\Temp
    TERM = dumb

Perl special variables (and OS-specific diagnostics, for MSWin32):

    $^X = C:\perl64\5.41.13\bin\perl.exe
    $UID/$EUID = 0 / 0
    $GID = 0
    $EGID = 0
    Win32::GetOSName = Win8.1
    Win32::GetOSVersion = , 6, 3, 9600, 2, 0, 0, 256, 1
    Win32::FsType = NTFS
    Win32::IsAdminUser = 0

Perl module toolchain versions installed:

    Module              Have    
    ------------------- --------
    CPAN                2.38    
    CPAN::Meta          2.150010
    Cwd                 3.94    
    ExtUtils::CBuilder  0.280241
    ExtUtils::Command   7.76    
    ExtUtils::Install   2.22    
    ExtUtils::MakeMaker 7.76    
    ExtUtils::Manifest  1.75    
    ExtUtils::ParseXS   3.57    
    File::Spec          3.94    
    JSON                4.10    
    JSON::PP            4.16    
    Module::Build       0.4234  
    Module::Signature   n/a     
    Parse::CPAN::Meta   2.150010
    Test2               1.302214
    Test::Harness       3.52    
    Test::More          1.302214
    YAML                1.31    
    YAML::Syck          n/a     
    version             0.9933  


--

Summary of my perl5 (revision 5 version 41 subversion 13) configuration:
   
  Platform:
    osname=MSWin32
    osvers=6.3.9600
    archname=MSWin32-x64-multi-thread
    uname=''
    config_args='undef'
    hint=recommended
    useposix=true
    d_sigaction=undef
    useithreads=define
    usemultiplicity=define
    use64bitint=define
    use64bitall=undef
    uselongdouble=undef
    usemymalloc=n
    default_inc_excludes_dot=define
  Compiler:
    cc='cl'
    ccflags ='-nologo -GF -W3 -MD -DWIN32 -D_CONSOLE -DNO_STRICT -DWIN64 -D_CRT_SECURE_NO_DEPRECATE  -D_CRT_NONSTDC_NO_DEPRECATE -D_WINSOCK_DEPRECATED_NO_WARNINGS  -DPERL_TEXTMODE_SCRIPTS -DMULTIPLICITY -DPERL_IMPLICIT_SYS'
    optimize='-O1 -Zi -GL -fp:precise'
    cppflags='-DWIN32'
    ccversion='19.33.31630'
    gccversion=''
    gccosandvers=''
    intsize=4
    longsize=4
    ptrsize=8
    doublesize=8
    byteorder=12345678
    doublekind=3
    d_longlong=undef
    longlongsize=8
    d_longdbl=define
    longdblsize=8
    longdblkind=0
    ivtype='__int64'
    ivsize=8
    nvtype='double'
    nvsize=8
    Off_t='__int64'
    lseeksize=8
    alignbytes=8
    prototype=define
  Linker and Libraries:
    ld='link'
    ldflags ='-nologo -nodefaultlib -debug -opt:ref,icf -ltcg  -libpath:"c:\perl64\5.41.13\lib\CORE"  -machine:AMD64 -subsystem:console,"5.02"'
    libpth="C:\Program Files\Microsoft Visual Studio\2022\Community\VC\Tools\MSVC\14.33.31629\\lib\x64"
    libs=oldnames.lib kernel32.lib user32.lib gdi32.lib winspool.lib  comdlg32.lib advapi32.lib shell32.lib ole32.lib oleaut32.lib  netapi32.lib uuid.lib ws2_32.lib mpr.lib winmm.lib  version.lib odbc32.lib odbccp32.lib comctl32.lib msvcrt.lib vcruntime.lib ucrt.lib
    perllibs=oldnames.lib kernel32.lib user32.lib gdi32.lib winspool.lib  comdlg32.lib advapi32.lib shell32.lib ole32.lib oleaut32.lib  netapi32.lib uuid.lib ws2_32.lib mpr.lib winmm.lib  version.lib odbc32.lib odbccp32.lib comctl32.lib msvcrt.lib vcruntime.lib ucrt.lib
    libc=ucrt.lib
    so=dll
    useshrplib=true
    libperl=perl541.lib
    gnulibc_version=''
  Dynamic Linking:
    dlsrc=dl_win32.xs
    dlext=dll
    d_dlsymun=undef
    ccdlflags=' '
    cccdlflags=' '
    lddlflags='-dll -nologo -nodefaultlib -debug -opt:ref,icf -ltcg  -libpath:"c:\perl64\5.41.13\lib\CORE"  -machine:AMD64 -subsystem:console,"5.02"'


Characteristics of this binary (from libperl): 
  Compile-time options:
    HAS_LONG_DOUBLE
    HAS_TIMES
    HAVE_INTERP_INTERN
    MULTIPLICITY
    PERLIO_LAYERS
    PERL_COPY_ON_WRITE
    PERL_DONT_CREATE_GVSV
    PERL_HASH_FUNC_SIPHASH13
    PERL_HASH_USE_SBOX32
    PERL_IMPLICIT_SYS
    PERL_MALLOC_WRAP
    PERL_OP_PARENT
    PERL_PRESERVE_IVUV
    PERL_USE_SAFE_PUTENV
    USE_64_BIT_INT
    USE_ITHREADS
    USE_LARGE_FILES
    USE_LOCALE
    USE_LOCALE_COLLATE
    USE_LOCALE_CTYPE
    USE_LOCALE_NUMERIC
    USE_LOCALE_TIME
    USE_PERLIO
    USE_PERL_ATOF
    USE_THREAD_SAFE_LOCALE
  Built under MSWin32
  Compiled at May 30 2025 06:11:19
  %ENV:
    PERL5LIB="C:\home\oat54113\perl5\lib\perl5"
    PERL5_CPANPLUS_IS_RUNNING="12172"
    PERL5_CPAN_IS_RUNNING="12172"
    PERL_LOCAL_LIB_ROOT="C:\home\oat54113\perl5"
    PERL_MB_OPT="--install_base "C:\\home\\oat54113\\perl5""
    PERL_MM_OPT="INSTALL_BASE=C:\\home\\oat54113\\perl5"
    PERL_MM_USE_DEFAULT="1"
    PERL_USE_UNSAFE_INC="1"
  @INC:
    C:\home\oat54113\perl5\lib\perl5/MSWin32-x64-multi-thread
    C:\home\oat54113\perl5\lib\perl5
    C:/perl64/site/5.41.13/lib
    C:/perl64/5.41.13/lib
    .