RPerl v4.000000 Perl 5 v5.29.2 x86_64-linux-thread-multi

Status
Pass
From
Andreas J. König (ANDK)
Dist
RPerl v4.000000
Platform
Perl 5 v5.29.2 x86_64-linux-thread-multi
Date
2018-08-05 21:32:14
ID
04dd40fe-98f7-11e8-8893-2ae96c33807f
This distribution has been tested as part of the CPAN Testers
project, supporting the Perl programming language.  See
http://wiki.cpantesters.org/ for more information or email
questions to cpan-testers-discuss@perl.org


--
Dear William N. Braswell, Jr.,

This is a computer-generated report for RPerl-4.000000
on perl 5.29.2, created by CPAN-Reporter-1.2018.

Thank you for uploading your work to CPAN.  Congratulations!
All tests were successful.

Sections of this report:

    * Tester comments
    * Program output
    * Prerequisites
    * Environment and other context

------------------------------
TESTER COMMENTS
------------------------------

Additional comments from tester:

this report is from an automated smoke testing program
and was not reviewed by a human for accuracy

------------------------------
PROGRAM OUTPUT
------------------------------

Output from '/usr/bin/make test':

"/tmp/basesmoker-reloperl-nMzG/bin/perl" "-MExtUtils::Command::MM" "-MTest::Harness" "-e" "undef *Test::Harness::Switches; test_harness(0, 'blib/lib', 'blib/arch')" t/*.t
t/00_depend.t ............. ok
t/01_changes.t ............ ok
t/02_inline_c.t ........... ok
t/03_inline_cpp.t ......... ok
t/04_type_scalar.t ........ ok
t/05_type_array.t ......... ok
Unescaped left brace in regex is passed through in regex; marked by <-- HERE in m/(?ms)^{ <-- HERE (?=.*\n    'key_0' => \[ 0, 1, 2 \])(?=.*\n    'key_1' => \[ 5, 6, 7 \])(?=.*\n    'key_2' => \[ 0, -1, -2 \]).*}$/ at t/06_type_hash.t line 1049.
Unescaped left brace in regex is passed through in regex; marked by <-- HERE in m/(?ms)^{ <-- HERE (?=.*'key_0' => \[ 0, 1, 2 \])(?=.*'key_1' => \[ 5, 6, 7 \])(?=.*'key_2' => \[ 0, -1, -2 \]).*}PERLOPS_PERLTYPES$/ at t/06_type_hash.t line 1098.
Unescaped left brace in regex is passed through in regex; marked by <-- HERE in m/(?ms)^{ <-- HERE (?=.*\n    'key_0' => \[ 0.1, 1, 2.3 \])(?=.*\n    'key_1' => \[ 5.67, 6.78, 7.89 \])(?=.*\n    'key_2' => \[ 0.123, -1.234, -2.345 \]).*}$/ at t/06_type_hash.t line 1331.
Unescaped left brace in regex is passed through in regex; marked by <-- HERE in m/(?ms)^{ <-- HERE (?=.*'key_0' => \[ 0.1, 1, 2.3 \])(?=.*'key_1' => \[ 5.67, 6.78, 7.89 \])(?=.*'key_2' => \[ 0.123, -1.234, -2.345 \]).*}PERLOPS_PERLTYPES$/ at t/06_type_hash.t line 1380.
Unescaped left brace in regex is passed through in regex; marked by <-- HERE in m/(?ms)^{ <-- HERE (?=.*\n    'key_0' => \[ '0', '1', '2' \])(?=.*\n    'key_1' => \[ 'a', 'b', 'c' \])(?=.*\n    'key_2' => \[ 'h i', '', '\n' \]).*}$/ at t/06_type_hash.t line 1632.
Unescaped left brace in regex is passed through in regex; marked by <-- HERE in m/(?ms)^{ <-- HERE (?=.*'key_0' => \[ '0', '1', '2' \])(?=.*'key_1' => \[ 'a', 'b', 'c' \])(?=.*'key_2' => \[ 'h i', '', '\n' \]).*}PERLOPS_PERLTYPES$/ at t/06_type_hash.t line 1681.
Unescaped left brace in regex is passed through in regex; marked by <-- HERE in m/(?ms)^{ <-- HERE (?=.*\n    'key_0' => \[ 0, 1, 2 \])(?=.*\n    'key_1' => \[ 5, 6, 7 \])(?=.*\n    'key_2' => \[ 0, -1, -2 \]).*}$/ at t/06_type_hash.t line 1049.
Unescaped left brace in regex is passed through in regex; marked by <-- HERE in m/(?ms)^{ <-- HERE (?=.*'key_0' => \[ 0, 1, 2 \])(?=.*'key_1' => \[ 5, 6, 7 \])(?=.*'key_2' => \[ 0, -1, -2 \]).*}CPPOPS_PERLTYPES$/ at t/06_type_hash.t line 1098.
Unescaped left brace in regex is passed through in regex; marked by <-- HERE in m/(?ms)^{ <-- HERE (?=.*\n    'key_0' => \[ 0.1, 1, 2.3 \])(?=.*\n    'key_1' => \[ 5.67, 6.78, 7.89 \])(?=.*\n    'key_2' => \[ 0.123, -1.234, -2.345 \]).*}$/ at t/06_type_hash.t line 1331.
Unescaped left brace in regex is passed through in regex; marked by <-- HERE in m/(?ms)^{ <-- HERE (?=.*'key_0' => \[ 0.1, 1, 2.3 \])(?=.*'key_1' => \[ 5.67, 6.78, 7.89 \])(?=.*'key_2' => \[ 0.123, -1.234, -2.345 \]).*}CPPOPS_PERLTYPES$/ at t/06_type_hash.t line 1380.
Unescaped left brace in regex is passed through in regex; marked by <-- HERE in m/(?ms)^{ <-- HERE (?=.*\n    'key_0' => \[ '0', '1', '2' \])(?=.*\n    'key_1' => \[ 'a', 'b', 'c' \])(?=.*\n    'key_2' => \[ 'h i', '', '\n' \]).*}$/ at t/06_type_hash.t line 1632.
Unescaped left brace in regex is passed through in regex; marked by <-- HERE in m/(?ms)^{ <-- HERE (?=.*'key_0' => \[ '0', '1', '2' \])(?=.*'key_1' => \[ 'a', 'b', 'c' \])(?=.*'key_2' => \[ 'h i', '', '\n' \]).*}CPPOPS_PERLTYPES$/ at t/06_type_hash.t line 1681.
Unescaped left brace in regex is passed through in regex; marked by <-- HERE in m/(?ms)^{ <-- HERE (?=.*\n    'key_0' => \[ 0, 1, 2 \])(?=.*\n    'key_1' => \[ 5, 6, 7 \])(?=.*\n    'key_2' => \[ 0, -1, -2 \]).*}$/ at t/06_type_hash.t line 1049.
Unescaped left brace in regex is passed through in regex; marked by <-- HERE in m/(?ms)^{ <-- HERE (?=.*'key_0' => \[ 0, 1, 2 \])(?=.*'key_1' => \[ 5, 6, 7 \])(?=.*'key_2' => \[ 0, -1, -2 \]).*}CPPOPS_CPPTYPES$/ at t/06_type_hash.t line 1098.
Unescaped left brace in regex is passed through in regex; marked by <-- HERE in m/(?ms)^{ <-- HERE (?=.*\n    'key_0' => \[ 0.1, 1, 2.3 \])(?=.*\n    'key_1' => \[ 5.67, 6.78, 7.89 \])(?=.*\n    'key_2' => \[ 0.123, -1.234, -2.345 \]).*}$/ at t/06_type_hash.t line 1331.
Unescaped left brace in regex is passed through in regex; marked by <-- HERE in m/(?ms)^{ <-- HERE (?=.*'key_0' => \[ 0.1, 1, 2.3 \])(?=.*'key_1' => \[ 5.67, 6.78, 7.89 \])(?=.*'key_2' => \[ 0.123, -1.234, -2.345 \]).*}CPPOPS_CPPTYPES$/ at t/06_type_hash.t line 1380.
Unescaped left brace in regex is passed through in regex; marked by <-- HERE in m/(?ms)^{ <-- HERE (?=.*\n    'key_0' => \[ '0', '1', '2' \])(?=.*\n    'key_1' => \[ 'a', 'b', 'c' \])(?=.*\n    'key_2' => \[ 'h i', '', '\n' \]).*}$/ at t/06_type_hash.t line 1632.
Unescaped left brace in regex is passed through in regex; marked by <-- HERE in m/(?ms)^{ <-- HERE (?=.*'key_0' => \[ '0', '1', '2' \])(?=.*'key_1' => \[ 'a', 'b', 'c' \])(?=.*'key_2' => \[ 'h i', '', '\n' \]).*}CPPOPS_CPPTYPES$/ at t/06_type_hash.t line 1681.
t/06_type_hash.t .......... ok
t/07_type_gmp.t ........... ok
t/09_interpret_execute.t .. ok
t/12_parse.t .............. ok
t/13_generate.t ........... ok
All tests successful.
Files=11, Tests=4609, 2632 wallclock secs ( 0.63 usr  0.13 sys + 1867.94 cusr 571.73 csys = 2440.43 CPU)
Result: PASS

------------------------------
PREREQUISITES
------------------------------

Prerequisite modules loaded:

requires:

    Module                   Need     Have    
    ------------------------ -------- --------
    Alien::astyle            0.009    0.010000
    Alien::JPCRE2            0.012    0.012000
    Alien::PCRE2             0.015    0.015000
    App::Pod2CpanHtml        0.04     0.04    
    CPAN::Meta               2.150005 2.150010
    Date::Format             2.24     2.24    
    ExtUtils::MakeMaker      7.04     7.34    
    File::Which              1.21     1.22    
    Filter::Simple           0.91     0.95    
    Inline                   0.80     0.80    
    Inline::C                0.76     0.78    
    Inline::CPP              0.74     0.74    
    Inline::Filters          0.19     0.20    
    IPC::Run3                0.048    0.048   
    List::MoreUtils          0.33     0.428   
    Math::BigInt::GMP        1.46     1.6005  
    Math::GSL                0.39     0.39    
    Module::Refresh          0.17     0.17    
    Module::ScanDeps         1.19     1.24    
    MongoDB                  v1.8.0   v2.0.1  
    PadWalker                2.1      2.3     
    Parse::Eyapp             1.21     1.21    
    perl                     5.010000 5.029002
    Perl::Critic             1.121    1.132   
    Perl::Tidy               20140711 20180220
    Pod::PseudoPod           0.18     0.18    
    Test2::Suite             0.000069 0.000115
    Test::CPAN::Changes      0.400002 0.400002
    Test::Exception          0.43     0.43    
    Test::Number::Delta      1.06     1.06    
    Text::ASCIITable         0.20     0.22    
    Time::HiRes              1.9726   1.9760  

build_requires:

    Module                   Need     Have    
    ------------------------ -------- --------
    ExtUtils::MakeMaker      0        7.34    

configure_requires:

    Module                   Need     Have    
    ------------------------ -------- --------
    Alien::Base::ModuleBuild 1.02     1.04    
    Alien::GMP               1.08     1.14    
    Alien::GSL               1.01     1.01    
    IO::Socket::SSL          2.043    2.058   


------------------------------
ENVIRONMENT AND OTHER CONTEXT
------------------------------

Environment variables:

    AUTOMATED_TESTING = 1
    LANG = en_US.UTF-8
    PATH = /home/sand/bin:/usr/local/bin:/usr/bin:/bin:/usr/games:/usr/local/perl/bin:/usr/X11/bin:/sbin:/usr/sbin
    PERL5LIB = 
    PERL5OPT = 
    PERL5_CPANPLUS_IS_RUNNING = 4722
    PERL5_CPAN_IS_RUNNING = 4722
    PERL_CANARY_STABILITY_NOPROMPT = 1
    PERL_MM_USE_DEFAULT = 1
    PERL_USE_UNSAFE_INC = 1
    SHELL = /usr/bin/zsh
    TERM = screen

Perl special variables (and OS-specific diagnostics, for MSWin32):

    $^X = /tmp/basesmoker-reloperl-nMzG/bin/perl
    $UID/$EUID = 1005 / 1005
    $GID = 1005 1005
    $EGID = 1005 1005

Perl module toolchain versions installed:

    Module              Have    
    ------------------- --------
    CPAN                2.20    
    CPAN::Meta          2.150010
    Cwd                 3.75    
    ExtUtils::CBuilder  0.280230
    ExtUtils::Command   7.34    
    ExtUtils::Install   2.14    
    ExtUtils::MakeMaker 7.34    
    ExtUtils::Manifest  1.71    
    ExtUtils::ParseXS   3.39    
    File::Spec          3.74    
    JSON                2.97001 
    JSON::PP            2.97001 
    Module::Build       0.4224  
    Module::Signature   0.81    
    Parse::CPAN::Meta   2.150010
    Test::Harness       3.42    
    Test::More          1.302138
    YAML                1.26    
    YAML::Syck          1.30    
    version             0.9924  


--

Summary of my perl5 (revision 5 version 29 subversion 2) configuration:
  Commit id: 00d976bbd170bbdc283618817b02b1b8f46bddd4
  Platform:
    osname=linux
    osvers=4.14.0-3-amd64
    archname=x86_64-linux-thread-multi
    uname='linux k93msid 4.14.0-3-amd64 #1 smp debian 4.14.12-2 (2018-01-06) x86_64 gnulinux '
    config_args='-Dprefix=/home/sand/src/perl/repoperls/installed-perls/host/k93msid/v5.29.1-70-g00d976bbd1/419a -Dmyhostname=k93msid -Dinstallusrbinperl=n -Uversiononly -Dusedevel -des -Ui_db -Dlibswanted=cl pthread socket inet nsl gdbm dbm malloc dl ld sun m crypt sec util c cposix posix ucb BSD gdbm_compat -Duseithreads -Uuselongdouble -DEBUGGING=none'
    hint=recommended
    useposix=true
    d_sigaction=define
    useithreads=define
    usemultiplicity=define
    use64bitint=define
    use64bitall=define
    uselongdouble=undef
    usemymalloc=n
    default_inc_excludes_dot=define
    bincompat5005=undef
  Compiler:
    cc='cc'
    ccflags ='-D_REENTRANT -D_GNU_SOURCE -fwrapv -fno-strict-aliasing -pipe -fstack-protector-strong -I/usr/local/include -D_LARGEFILE_SOURCE -D_FILE_OFFSET_BITS=64 -D_FORTIFY_SOURCE=2'
    optimize='-O2'
    cppflags='-D_REENTRANT -D_GNU_SOURCE -fwrapv -fno-strict-aliasing -pipe -fstack-protector-strong -I/usr/local/include'
    ccversion=''
    gccversion='7.2.0'
    gccosandvers=''
    intsize=4
    longsize=8
    ptrsize=8
    doublesize=8
    byteorder=12345678
    doublekind=3
    d_longlong=define
    longlongsize=8
    d_longdbl=define
    longdblsize=16
    longdblkind=3
    ivtype='long'
    ivsize=8
    nvtype='double'
    nvsize=8
    Off_t='off_t'
    lseeksize=8
    alignbytes=8
    prototype=define
  Linker and Libraries:
    ld='cc'
    ldflags =' -fstack-protector-strong -L/usr/local/lib'
    libpth=/usr/local/lib /usr/lib/gcc/x86_64-linux-gnu/7/include-fixed /usr/include/x86_64-linux-gnu /usr/lib /lib/x86_64-linux-gnu /lib/../lib /usr/lib/x86_64-linux-gnu /usr/lib/../lib /lib
    libs=-lpthread -lnsl -ldl -lm -lcrypt -lutil -lc
    perllibs=-lpthread -lnsl -ldl -lm -lcrypt -lutil -lc
    libc=libc-2.26.so
    so=so
    useshrplib=false
    libperl=libperl.a
    gnulibc_version='2.26'
  Dynamic Linking:
    dlsrc=dl_dlopen.xs
    dlext=so
    d_dlsymun=undef
    ccdlflags='-Wl,-E'
    cccdlflags='-fPIC'
    lddlflags='-shared -O2 -L/usr/local/lib -fstack-protector-strong'


Characteristics of this binary (from libperl): 
  Compile-time options:
    HAS_TIMES
    MULTIPLICITY
    PERLIO_LAYERS
    PERL_COPY_ON_WRITE
    PERL_DONT_CREATE_GVSV
    PERL_IMPLICIT_CONTEXT
    PERL_MALLOC_WRAP
    PERL_OP_PARENT
    PERL_PRESERVE_IVUV
    PERL_USE_DEVEL
    USE_64_BIT_ALL
    USE_64_BIT_INT
    USE_ITHREADS
    USE_LARGE_FILES
    USE_LOCALE
    USE_LOCALE_COLLATE
    USE_LOCALE_CTYPE
    USE_LOCALE_NUMERIC
    USE_LOCALE_TIME
    USE_PERLIO
    USE_PERL_ATOF
    USE_REENTRANT_API
  Built under linux
  Compiled at Aug  5 2018 12:13:13
  %ENV:
    PERL5LIB=""
    PERL5OPT=""
    PERL5_CPANPLUS_IS_RUNNING="4722"
    PERL5_CPAN_IS_RUNNING="4722"
    PERL_CANARY_STABILITY_NOPROMPT="1"
    PERL_MM_USE_DEFAULT="1"
    PERL_USE_UNSAFE_INC="1"
  @INC:
    /home/sand/src/perl/repoperls/installed-perls/host/k93msid/v5.29.1-70-g00d976bbd1/419a/lib/site_perl/5.29.2/x86_64-linux-thread-multi
    /home/sand/src/perl/repoperls/installed-perls/host/k93msid/v5.29.1-70-g00d976bbd1/419a/lib/site_perl/5.29.2
    /home/sand/src/perl/repoperls/installed-perls/host/k93msid/v5.29.1-70-g00d976bbd1/419a/lib/5.29.2/x86_64-linux-thread-multi
    /home/sand/src/perl/repoperls/installed-perls/host/k93msid/v5.29.1-70-g00d976bbd1/419a/lib/5.29.2
    .