Back
From: metabase:user:314402c4-2aae-11df-837a-5e0a49663a4f
Subject: PASS Doorman-0.10 v5.20.0 FreeBSD
Date: 2016-01-09T11:42:10Z
This distribution has been tested as part of the CPAN Testers
project, supporting the Perl programming language.  See
http://wiki.cpantesters.org/ for more information or email
questions to cpan-testers-discuss@perl.org
--
Dear Liu Kang Min,
This is a computer-generated report for Doorman-0.10
on perl 5.20.0, created by CPAN-Reporter-1.2015.
Thank you for uploading your work to CPAN.  Congratulations!
All tests were successful.
Sections of this report:
    * Tester comments
    * Program output
    * Prerequisites
    * Environment and other context
------------------------------
TESTER COMMENTS
------------------------------
Additional comments from tester:
none provided
------------------------------
PROGRAM OUTPUT
------------------------------
Output from '/usr/bin/make test':
PERL_DL_NONLAZY=1 "/usr/perl5.20.0/bin/perl" "-MExtUtils::Command::MM" "-MTest::Harness" "-e" "undef *Test::Harness::Switches; test_harness(0, 'inc', 'blib/lib', 'blib/arch')" t/*.t
t/localauth.t .................. ok
t/middleware-authentication.t .. ok
given is experimental at /usr/home/eserte/.cpan/build/2016010909/Doorman-0.10-ghZK43/blib/lib/Plack/Middleware/DoormanOpenID.pm line 64.
when is experimental at /usr/home/eserte/.cpan/build/2016010909/Doorman-0.10-ghZK43/blib/lib/Plack/Middleware/DoormanOpenID.pm line 65.
when is experimental at /usr/home/eserte/.cpan/build/2016010909/Doorman-0.10-ghZK43/blib/lib/Plack/Middleware/DoormanOpenID.pm line 84.
when is experimental at /usr/home/eserte/.cpan/build/2016010909/Doorman-0.10-ghZK43/blib/lib/Plack/Middleware/DoormanOpenID.pm line 113.
t/middleware-openid.t .......... ok
t/middleware.t ................. ok
t/scope.t ...................... ok
All tests successful.
Files=5, Tests=38,  2 wallclock secs ( 0.08 usr  0.03 sys +  0.77 cusr  0.15 csys =  1.03 CPU)
Result: PASS
------------------------------
PREREQUISITES
------------------------------
Prerequisite modules loaded:
requires:
    Module                     Need    Have    
    -------------------------- ------- --------
    IO::Socket::SSL            1.84    2.021   
    LWP::UserAgent             6.04    6.15    
    Net::OpenID::Consumer      1.13    1.16    
    Net::Twitter::Lite         0.12002 0.12006 
    perl                       5.010   5.020000
    Plack                      1.0018  1.0037  
    Plack::Middleware::Session 0.18    0.24    
build_requires:
    Module                     Need    Have    
    -------------------------- ------- --------
    CPAN::Meta                 0       2.150005
    ExtUtils::MakeMaker        6.59    7.10    
    Test::More                 0.98    1.001014
configure_requires:
    Module                     Need    Have    
    -------------------------- ------- --------
    CPAN::Meta                 0       2.150005
    ExtUtils::MakeMaker        6.59    7.10    
------------------------------
ENVIRONMENT AND OTHER CONTEXT
------------------------------
Environment variables:
    LC_ALL = de_DE.ISO8859-1
    PATH = /usr/local/bin:/usr/bin:/bin:/usr/local/sbin:/usr/sbin:/sbin:/home/cpansand/bin/freebsd9.3:/home/cpansand/bin/sh:/home/cpansand/bin:/usr/games:/home/cpansand/devel:/usr/home/eserte/src/srezic-misc/scripts
    PERL5LIB = /home/eserte/.cpan/build/2016010909/Archive-ByteBoozer-0.08-CyZIXs/blib/arch:/home/eserte/.cpan/build/2016010909/Archive-ByteBoozer-0.08-CyZIXs/blib/lib
    PERL5OPT = 
    PERL5_CPANPLUS_IS_RUNNING = 71475
    PERL5_CPAN_IS_RUNNING = 71475
    PERL5_CPAN_IS_RUNNING_IN_RECURSION = 71421,71475
    PERLDOC = -MPod::Perldoc::ToTextOverstrike
    PERL_BATCH = yes
    PERL_CANARY_STABILITY_NOPROMPT = 1
    PERL_CPAN_REPORTER_CONFIG = /var/tmp/cpansmoker-1023/2016010909/cpanreporter_000_config.ini
    PERL_EXTUTILS_AUTOINSTALL = --defaultdeps
    SHELL = /usr/local/bin/zsh
    TERM = screen
    TMPDIR = /var/tmp/cpansmoker-1023/2016010909
Perl special variables (and OS-specific diagnostics, for MSWin32):
    $^X = /usr/perl5.20.0/bin/perl
    $UID/$EUID = 1023 / 1023
    $GID = 1023 1023
    $EGID = 1023 1023
Perl module toolchain versions installed:
    Module              Have    
    ------------------- --------
    CPAN                2.10    
    CPAN::Meta          2.150005
    Cwd                 3.60    
    ExtUtils::CBuilder  0.280223
    ExtUtils::Command   7.10    
    ExtUtils::Install   2.04    
    ExtUtils::MakeMaker 7.10    
    ExtUtils::Manifest  1.70    
    ExtUtils::ParseXS   3.30    
    File::Spec          3.60    
    JSON                2.90    
    JSON::PP            2.27300 
    Module::Build       0.4214  
    Module::Signature   0.79    
    Parse::CPAN::Meta   1.4417  
    Test::Harness       3.35    
    Test::More          1.001014
    YAML                1.15    
    YAML::Syck          1.29    
    version             0.9912  
--
Summary of my perl5 (revision 5 version 20 subversion 0) configuration:
   
  Platform:
    osname=freebsd, osvers=9.2-release-p4, archname=amd64-freebsd
    uname='freebsd cvrsnica-freebsd-92 9.2-release-p4 freebsd 9.2-release-p4 #0: tue apr 8 18:08:22 utc 2014 root@amd64-builder.daemonology.net:usrobjusrsrcsysgeneric amd64 '
    config_args='-ds -e -Dprefix=/usr/perl5.20.0'
    hint=recommended, useposix=true, d_sigaction=define
    useithreads=undef, usemultiplicity=undef
    use64bitint=define, use64bitall=define, uselongdouble=undef
    usemymalloc=n, bincompat5005=undef
  Compiler:
    cc='cc', ccflags ='-DHAS_FPSETMASK -DHAS_FLOATINGPOINT_H -fno-strict-aliasing -pipe -fstack-protector -I/usr/local/include',
    optimize='-O',
    cppflags='-DHAS_FPSETMASK -DHAS_FLOATINGPOINT_H -fno-strict-aliasing -pipe -fstack-protector -I/usr/local/include'
    ccversion='', gccversion='4.2.1 20070831 patched [FreeBSD]', gccosandvers=''
    intsize=4, longsize=8, ptrsize=8, doublesize=8, byteorder=12345678
    d_longlong=define, longlongsize=8, d_longdbl=define, longdblsize=16
    ivtype='long', ivsize=8, nvtype='double', nvsize=8, Off_t='off_t', lseeksize=8
    alignbytes=8, prototype=define
  Linker and Libraries:
    ld='cc', ldflags ='-Wl,-E  -fstack-protector -L/usr/local/lib'
    libpth=/usr/lib /usr/local/lib /usr/include/gcc/4.2 /usr/lib
    libs=-lgdbm -lm -lcrypt -lutil -lc
    perllibs=-lm -lcrypt -lutil -lc
    libc=, so=so, useshrplib=false, libperl=libperl.a
    gnulibc_version=''
  Dynamic Linking:
    dlsrc=dl_dlopen.xs, dlext=so, d_dlsymun=undef, ccdlflags=' '
    cccdlflags='-DPIC -fPIC', lddlflags='-shared  -L/usr/local/lib -fstack-protector'
Characteristics of this binary (from libperl): 
  Compile-time options: HAS_TIMES PERLIO_LAYERS PERL_DONT_CREATE_GVSV
                        PERL_HASH_FUNC_ONE_AT_A_TIME_HARD PERL_MALLOC_WRAP
                        PERL_NEW_COPY_ON_WRITE PERL_PRESERVE_IVUV
                        USE_64_BIT_ALL USE_64_BIT_INT USE_LARGE_FILES
                        USE_LOCALE USE_LOCALE_COLLATE USE_LOCALE_CTYPE
                        USE_LOCALE_NUMERIC USE_PERLIO USE_PERL_ATOF
  Built under freebsd
  Compiled at May 27 2014 13:55:26
  %ENV:
    PERL5LIB="/home/eserte/.cpan/build/2016010909/Archive-ByteBoozer-0.08-CyZIXs/blib/arch:/home/eserte/.cpan/build/2016010909/Archive-ByteBoozer-0.08-CyZIXs/blib/lib"
    PERL5OPT=""
    PERL5_CPANPLUS_IS_RUNNING="71475"
    PERL5_CPAN_IS_RUNNING="71475"
    PERL5_CPAN_IS_RUNNING_IN_RECURSION="71421,71475"
    PERLDOC="-MPod::Perldoc::ToTextOverstrike"
    PERL_BATCH="yes"
    PERL_CANARY_STABILITY_NOPROMPT="1"
    PERL_CPAN_REPORTER_CONFIG="/var/tmp/cpansmoker-1023/2016010909/cpanreporter_000_config.ini"
    PERL_EXTUTILS_AUTOINSTALL="--defaultdeps"
  @INC:
    /home/eserte/.cpan/build/2016010909/Archive-ByteBoozer-0.08-CyZIXs/blib/arch
    /home/eserte/.cpan/build/2016010909/Archive-ByteBoozer-0.08-CyZIXs/blib/lib
    /usr/perl5.20.0/lib/site_perl/5.20.0/amd64-freebsd
    /usr/perl5.20.0/lib/site_perl/5.20.0
    /usr/perl5.20.0/lib/5.20.0/amd64-freebsd
    /usr/perl5.20.0/lib/5.20.0
    .