Report for Treex-Core-0.08664

Back
From: metabase:user:320bfe00-2aae-11df-837a-5e0a49663a4f
Subject: PASS Treex-Core-0.08664 v5.12.5 GNU/Linux
Date: 2014-09-01T19:56:09Z

This distribution has been tested as part of the CPAN Testers
project, supporting the Perl programming language.  See
http://wiki.cpantesters.org/ for more information or email
questions to cpan-testers-discuss@perl.org


--
Dear Martin Popel,

This is a computer-generated report for Treex-Core-0.08664
on perl 5.12.5, created by CPAN-Reporter-1.2011.

Thank you for uploading your work to CPAN.  Congratulations!
All tests were successful.

Sections of this report:

    * Tester comments
    * Program output
    * Prerequisites
    * Environment and other context

------------------------------
TESTER COMMENTS
------------------------------

Additional comments from tester:

this report is from an automated smoke testing program
and was not reviewed by a human for accuracy

------------------------------
PROGRAM OUTPUT
------------------------------

Output from '/usr/bin/make test':

Skip blib/lib/auto/share/dist/Treex-Core/tred_extension/treex/stylesheets/Treex_stylesheet (unchanged)
Skip blib/lib/auto/share/dist/Treex-Core/tred_extension/treex/contrib/treex/contrib.mac (unchanged)
Skip blib/lib/auto/share/dist/Treex-Core/tred_extension/treex/package.xml (unchanged)
Skip blib/lib/auto/share/dist/Treex-Core/tred_extension/treex/resources/treex_subschema_a_layer.xml (unchanged)
Skip blib/lib/auto/share/dist/Treex-Core/tred_extension/treex/resources/treex_subschema_n_layer.xml (unchanged)
Skip blib/lib/auto/share/dist/Treex-Core/tred_extension/treex/resources/pmlbackend_conf.xml (unchanged)
Skip blib/lib/auto/share/dist/Treex-Core/tred_extension/treex/resources/treex_subschema_langcodes.xml (unchanged)
Skip blib/lib/auto/share/dist/Treex-Core/tred_extension/treex/resources/treex_subschema_t_layer.xml (unchanged)
Skip blib/lib/auto/share/dist/Treex-Core/tred_extension/treex/resources/treex_subschema_p_layer.xml (unchanged)
Skip blib/lib/auto/share/dist/Treex-Core/tred_extension/treex/resources/treex_subschema_interset.xml (unchanged)
Skip blib/lib/auto/share/dist/Treex-Core/tred_extension/extensions.lst (unchanged)
Skip blib/lib/auto/share/dist/Treex-Core/tred_extension/treex/resources/treex_subschema_bbn.xml (unchanged)
Skip blib/lib/auto/share/dist/Treex-Core/tred_extension/treex/resources/treex_subschema_w_layer.xml (unchanged)
Skip blib/lib/auto/share/dist/Treex-Core/tred_extension/treex/resources/treex_schema.xml (unchanged)
PERL_DL_NONLAZY=1 /home/sand/src/perl/repoperls/installed-perls/perl/v5.12.5/127e/bin/perl "-MExtUtils::Command::MM" "-MTest::Harness" "-e" "undef *Test::Harness::Switches; test_harness(0, 'blib/lib', 'blib/arch')" t/*.t
t/00-compile.t ..................... ok
t/a_effective_rel.t ................ ok
t/attribute.t ...................... ok
t/author-critic.t .................. skipped: these tests are for testing by the author
t/author-test-eol.t ................ skipped: these tests are for testing by the author
t/backrefs.t ....................... ok
t/base.t ........................... ok
t/block.t .......................... ok
t/bundle.t ......................... ok
t/bundle_zones.t ................... ok
t/common.t ......................... ok
t/config.t ......................... ok
t/document.t ....................... ok
t/document_zones.t ................. ok
t/dump_scen.t ...................... ok
t/eval_block.t ..................... ok
t/files.t .......................... ok
t/following_node.t ................. ok
t/grammar.t ........................ ok
t/log.t ............................ ok
t/n_tree.t ......................... ok
t/node.t ........................... ok
t/ordered.t ........................ ok
t/p_penn_treebank_string_format.t .. ok
t/parallel.t ....................... skipped: these tests are expensive and only for testing by the author
t/qparallel.t ...................... skipped: these tests are expensive and only for testing by the author
t/release-cpan-changes.t ........... skipped: these tests are for release candidate testing
t/release-dist-manifest.t .......... skipped: these tests are for release candidate testing
t/release-distmeta.t ............... skipped: these tests are for release candidate testing
t/release-kwalitee.t ............... skipped: these tests are for release candidate testing
t/release-minimum-version.t ........ skipped: these tests are for release candidate testing
t/release-mojibake.t ............... skipped: these tests are for release candidate testing
t/release-no-tabs.t ................ skipped: these tests are for release candidate testing
t/release-pod-coverage.t ........... skipped: these tests are for release candidate testing
t/release-pod-linkcheck.t .......... skipped: these tests are for release candidate testing
t/release-pod-syntax.t ............. skipped: these tests are for release candidate testing
t/release-portability.t ............ skipped: these tests are for release candidate testing
t/release-synopsis.t ............... skipped: these tests are for release candidate testing
t/release-test-version.t ........... skipped: these tests are for release candidate testing
t/release-unused-vars.t ............ skipped: these tests are for release candidate testing
t/remove_bundle.t .................. ok
t/resource.t ....................... ok
t/run.t ............................ ok
t/scenario.t ....................... ok
t/scenario_parser.t ................ ok
t/space_in_block_arg.t ............. ok
t/storable.t ....................... ok
t/t_effective_rel.t ................ ok
t/trees.t .......................... ok
t/treexrun.t ....................... ok
t/wildattr.t ....................... ok
All tests successful.
Files=51, Tests=589, 138 wallclock secs ( 0.16 usr  0.05 sys + 90.70 cusr  5.59 csys = 96.50 CPU)
Result: PASS

------------------------------
PREREQUISITES
------------------------------

Prerequisite modules loaded:

requires:

    Module                                          Need    Have    
    ----------------------------------------------- ------- --------
    autodie                                         0       2.25    
    base                                            0       2.18    
    Carp                                            0       1.3301  
    Cwd                                             0       3.47    
    Data::Dumper                                    0       2.151   
    Encode                                          0       2.62    
    English                                         0       1.04    
    Exporter                                        0       5.70    
    File::Basename                                  0       2.78    
    File::chdir                                     0       0.1008  
    File::HomeDir                                   0.97    1.00    
    File::Path                                      2.08    2.09    
    File::ShareDir                                  0       1.102   
    File::Slurp                                     9999.19 9999.19 
    File::Spec                                      0       3.47    
    File::Temp                                      0       0.2304  
    File::Which                                     0       1.09    
    integer                                         0       1.00    
    IO::Handle                                      0       1.28    
    IO::Interactive                                 0       0.0.6   
    List::MoreUtils                                 0       0.33    
    List::Util                                      0       1.39_004
    Locale::Language                                0       3.31    
    LWP::Simple                                     0       6.00    
    Module::Reload                                  0       1.08    
    Moose                                           0       2.1211  
    Moose::Exporter                                 0       2.1211  
    Moose::Role                                     0       2.1211  
    Moose::Util::TypeConstraints                    0       2.1211  
    MooseX::Getopt                                  0       0.65    
    MooseX::NonMoose                                0       0.26    
    MooseX::Params::Validate                        0       0.18    
    MooseX::SemiAffordanceAccessor                  0.09    0.09    
    MooseX::SemiAffordanceAccessor::Role::Attribute 0.09    0.09    
    namespace::autoclean                            0       0.19    
    open                                            0       1.07    
    PerlIO::via::gzip                               0       0.021   
    Readonly                                        0       2.00    
    Scalar::Util                                    0       1.39_004
    Storable                                        0       2.22    
    strict                                          0       1.04    
    Text::Balanced                                  0       2.02    
    Time::HiRes                                     0       1.9726  
    Treex::PML                                      0       2.17    
    Treex::PML::Factory                             0       2.16    
    Treex::PML::IO                                  0       2.16    
    Treex::PML::Node                                0       2.16    
    Treex::PML::Struct                              0       2.16    
    UNIVERSAL::DOES                                 0       0.005   
    utf8                                            0       1.08    
    vars                                            0       1.01    
    warnings                                        0       1.09    
    YAML                                            0.72    1.10    

build_requires:

    Module                                          Need    Have    
    ----------------------------------------------- ------- --------
    constant                                        0       1.20    
    File::Find                                      0       1.15    
    Test::Moose                                     0       2.1211  
    Test::More                                      0       1.001003
    Test::Output                                    0       1.03    
    Test::Requires                                  0       0.08    

configure_requires:

    Module                                          Need    Have    
    ----------------------------------------------- ------- --------
    ExtUtils::MakeMaker                             6.30    6.98    
    File::ShareDir::Install                         0.03    0.09    


------------------------------
ENVIRONMENT AND OTHER CONTEXT
------------------------------

Environment variables:

    AUTOMATED_TESTING = 1
    LANG = en_US.UTF-8
    LANGUAGE = en_US:en
    PATH = /usr/lib/ccache:/home/sand/bin:/usr/local/bin:/usr/bin:/bin:/usr/games:/usr/local/perl/bin:/usr/X11/bin:/sbin:/usr/sbin
    PERL5LIB = 
    PERL5OPT = 
    PERL5_CPANPLUS_IS_RUNNING = 17491
    PERL5_CPAN_IS_RUNNING = 17491
    PERL_MM_USE_DEFAULT = 1
    SHELL = /usr/bin/zsh
    TERM = screen

Perl special variables (and OS-specific diagnostics, for MSWin32):

    $^X = /home/sand/src/perl/repoperls/installed-perls/perl/v5.12.5/127e/bin/perl
    $UID/$EUID = 1005 / 1005
    $GID = 1005 1005
    $EGID = 1005 1005

Perl module toolchain versions installed:

    Module              Have    
    ------------------- --------
    CPAN                2.05    
    CPAN::Meta          2.142060
    Cwd                 3.47    
    ExtUtils::CBuilder  0.280218
    ExtUtils::Command   1.16    
    ExtUtils::Install   1.55    
    ExtUtils::MakeMaker 6.98    
    ExtUtils::Manifest  1.66    
    ExtUtils::ParseXS   3.24    
    File::Spec          3.47    
    JSON                2.90    
    JSON::PP            2.27203 
    Module::Build       0.4210  
    Module::Signature   0.73    
    Parse::CPAN::Meta   1.4414  
    Test::Harness       3.33    
    Test::More          1.001003
    YAML                1.10    
    YAML::Syck          1.27    
    version             0.9909  


--

Summary of my perl5 (revision 5 version 12 subversion 5) configuration:
  Commit id: 9a9cbd715960a905dcbc9166349a73a64a007e4e
  Platform:
    osname=linux, osvers=3.14-2-amd64, archname=x86_64-linux-ld
    uname='linux k83 3.14-2-amd64 #1 smp debian 3.14.15-2 (2014-08-09) x86_64 gnulinux '
    config_args='-Dprefix=/home/sand/src/perl/repoperls/installed-perls/perl/v5.12.5/127e -Dmyhostname=k83 -Dinstallusrbinperl=n -Uversiononly -Dusedevel -des -Ui_db -Uuseithreads -Duselongdouble -DDEBUGGING=-g'
    hint=recommended, useposix=true, d_sigaction=define
    useithreads=undef, usemultiplicity=undef
    useperlio=define, d_sfio=undef, uselargefiles=define, usesocks=undef
    use64bitint=define, use64bitall=define, uselongdouble=define
    usemymalloc=n, bincompat5005=undef
  Compiler:
    cc='cc', ccflags ='-fno-strict-aliasing -pipe -fstack-protector -I/usr/local/include -D_LARGEFILE_SOURCE -D_FILE_OFFSET_BITS=64',
    optimize='-O2 -g',
    cppflags='-fno-strict-aliasing -pipe -fstack-protector -I/usr/local/include'
    ccversion='', gccversion='4.9.1', gccosandvers=''
    intsize=4, longsize=8, ptrsize=8, doublesize=8, byteorder=12345678
    d_longlong=define, longlongsize=8, d_longdbl=define, longdblsize=16
    ivtype='long', ivsize=8, nvtype='long double', nvsize=16, Off_t='off_t', lseeksize=8
    alignbytes=16, prototype=define
  Linker and Libraries:
    ld='cc', ldflags =' -fstack-protector -L/usr/local/lib'
    libpth=/usr/local/lib /lib/x86_64-linux-gnu /lib/../lib /usr/lib/x86_64-linux-gnu /usr/lib/../lib /lib /usr/lib
    libs=-lnsl -lgdbm -ldb -ldl -lm -lcrypt -lutil -lc -lgdbm_compat
    perllibs=-lnsl -ldl -lm -lcrypt -lutil -lc
    libc=, so=so, useshrplib=false, libperl=libperl.a
    gnulibc_version='2.19'
  Dynamic Linking:
    dlsrc=dl_dlopen.xs, dlext=so, d_dlsymun=undef, ccdlflags='-Wl,-E'
    cccdlflags='-fPIC', lddlflags='-shared -O2 -g -L/usr/local/lib -fstack-protector'


Characteristics of this binary (from libperl): 
  Compile-time options: PERL_DONT_CREATE_GVSV PERL_MALLOC_WRAP PERL_USE_DEVEL
                        USE_64_BIT_ALL USE_64_BIT_INT USE_LARGE_FILES
                        USE_LONG_DOUBLE USE_PERLIO USE_PERL_ATOF
  Built under linux
  Compiled at Aug 21 2014 14:30:28
  %ENV:
    PERL5LIB=""
    PERL5OPT=""
    PERL5_CPANPLUS_IS_RUNNING="17491"
    PERL5_CPAN_IS_RUNNING="17491"
    PERL_MM_USE_DEFAULT="1"
  @INC:
    /home/sand/src/perl/repoperls/installed-perls/perl/v5.12.5/127e/lib/site_perl/5.12.5/x86_64-linux-ld
    /home/sand/src/perl/repoperls/installed-perls/perl/v5.12.5/127e/lib/site_perl/5.12.5
    /home/sand/src/perl/repoperls/installed-perls/perl/v5.12.5/127e/lib/5.12.5/x86_64-linux-ld
    /home/sand/src/perl/repoperls/installed-perls/perl/v5.12.5/127e/lib/5.12.5
    .