Markdown-Perl v1.11 Perl 5 v5.30.3 MSWin32-x64-multi-thread
- Status
- Pass
- From
- twata
- Dist
-
Markdown-Perl v1.11
- Platform
- Perl 5 v5.30.3 MSWin32-x64-multi-thread
- Date
- 2025-06-23 23:29:13
- ID
- 041f7329-71ae-1014-8a9e-cb84cf55203a
This distribution has been tested as part of the CPAN Testers
project, supporting the Perl programming language. See
http://wiki.cpantesters.org/ for more information or email
questions to cpan-testers-discuss@perl.org
--
Dear MATHIAS,
This is a computer-generated report for Markdown-Perl-1.11
on perl 5.30.3, created by App::cpanminus::reporter 0.17 (1.7044).
Thank you for uploading your work to CPAN. Congratulations!
All tests were successful.
Sections of this report:
* Tester comments
* Program output
* Prerequisites
* Environment and other context
------------------------------
TESTER COMMENTS
------------------------------
Additional comments from tester:
none provided
------------------------------
PROGRAM OUTPUT
------------------------------
Output from '':
Building and testing Markdown-Perl-1.11
Access denied - LIB
File not found - -NAME
cp lib/App/pmarkdown.pm blib\lib\App\pmarkdown.pm
cp lib/Markdown/Perl/InlineTree.pm blib\lib\Markdown\Perl\InlineTree.pm
cp lib/Markdown/Perl/Util.pm blib\lib\Markdown\Perl\Util.pm
cp lib/Markdown/Perl.pm blib\lib\Markdown\Perl.pm
cp lib/Markdown/Perl/HTML.pm blib\lib\Markdown\Perl\HTML.pm
cp lib/Markdown/Perl/BlockParser.pm blib\lib\Markdown\Perl\BlockParser.pm
cp lib/Markdown/Perl/Inlines.pm blib\lib\Markdown\Perl\Inlines.pm
cp lib/Markdown/Perl/Options.pm blib\lib\Markdown\Perl\Options.pm
"C:\Strawberry\perl\bin\perl.exe" -MExtUtils::Command -e cp -- script/pmarkdown blib\script\pmarkdown
pl2bat.bat blib\script\pmarkdown
Access denied - LIB
File not found - -NAME
"C:\Strawberry\perl\bin\perl.exe" "-MExtUtils::Command::MM" "-MTest::Harness" "-e" "undef *Test::Harness::Switches; test_harness(0, 'blib\lib', 'blib\arch')" t/*.t
t/000-load.t ................................... ok
t/001-cpanfile.t ............................... skipped: Extended test. Run manually or set $ENV{EXTENDED_TESTING} to a true value to run.
t/001-podsyntax.t .............................. skipped: Extended test. Run manually or set $ENV{EXTENDED_TESTING} to a true value to run.
t/100-util.t ................................... ok
t/101-inline-tree.t ............................ ok
t/102-html.t ................................... ok
t/200-basic-leaf-blocks.t ...................... ok
t/201-basic-container-blocks.t ................. ok
t/202-basic-inline-rendering.t ................. ok
t/203-options.t ................................ ok
t/300-containers.t ............................. ok
YAML Metadata (Markdown frontmatter) is invalid at C:\home\SUNLIG~2\.cpanm\work\1750721322.18276\Markdown-Perl-1.11\blib\lib/Markdown/Perl.pm line 116.
t/301-inlines.t ................................ ok
t/302-reference-links.t ........................ ok
t/303-lists.t .................................. ok
t/304-file_metadata.t .......................... ok
t/305-block-directives.t ....................... ok
t/400-opt-allow_spaces_in_links.t .............. ok
t/400-opt-allow_task_list_markers.t ............ ok
t/400-opt-disallowed_html_tags.t ............... ok
t/400-opt-fenced_code_blocks_must_be_closed.t .. ok
t/400-opt-inline_delimiters.t .................. ok
t/400-opt-inline_delimiters_max_run_length.t ... ok
t/400-opt-lists_can_interrupt_paragraph.t ...... ok
t/400-opt-multi_lines_setext_headings.t ........ ok
t/400-opt-render_naked_paragraphs.t ............ ok
t/400-opt-two_spaces_hard_line_breaks.t ........ ok
t/400-opt-use_fenced_code_blocks.t ............. ok
t/500-hooks-resolve_link_ref.t ................. ok
t/500-hooks-yaml_metadata.t .................... ok
t/800-bugs.t ................................... ok
t/801-fuzzing.t ................................ ok
t/900-cmark-test-suite.t ....................... ok
t/901-github-test-suite.t ...................... ok
t/902-markdown-test-suite.t .................... skipped: MMD-Test-Suite must be checked out.
t/903-mmd-test-suite.t ......................... skipped: MMD-Test-Suite must be checked out.
t/904-pmarkdown.t .............................. skipped: The Syntax.md file is not part of this distribution
All tests successful.
Files=36, Tests=2167, 17 wallclock secs ( 0.64 usr + 0.11 sys = 0.75 CPU)
Result: PASS
------------------------------
PREREQUISITES
------------------------------
Prerequisite modules loaded:
No requirements found
------------------------------
ENVIRONMENT AND OTHER CONTEXT
------------------------------
Environment variables:
COMSPEC = C:\WINDOWS\system32\cmd.exe
NUMBER_OF_PROCESSORS = 4
PATH = C:\home\sunlight3\perl5\bin;C:\WINDOWS\system32;C:\WINDOWS;C:\WINDOWS\System32\Wbem;C:\WINDOWS\System32\WindowsPowerShell\v1.0\;C:\Strawberry\c\bin;C:\Strawberry\perl\site\bin;C:\Strawberry\perl\bin
PERL5LIB = C:\home\sunlight3\perl5\lib\perl5
PERL_LOCAL_LIB_ROOT = C:\home\sunlight3\perl5
PERL_MB_OPT = --install_base "C:\\home\\sunlight3\\perl5"
PERL_MM_OPT = INSTALL_BASE=C:\\home\\sunlight3\\perl5
PROCESSOR_IDENTIFIER = Intel64 Family 6 Model 58 Stepping 9, GenuineIntel
TEMP = C:\Users\USER\AppData\Local\Temp
TERM = dumb
Perl special variables (and OS-specific diagnostics, for MSWin32):
EGID = 0
EUID = 0
EXECUTABLE_NAME = C:\Strawberry\perl\bin\perl.exe
GID = 0
UID = 0
Win32::FsType = NTFS
Win32::GetOSName = Win8.1
Win32::GetOSVersion = , 6, 3, 9600, 2, 0, 0, 256, 1
Win32::IsAdminUser = 0
Perl module toolchain versions installed:
Module Have
------------------- --------
CPAN 2.34
CPAN::Meta 2.150010
Cwd 3.78
ExtUtils::CBuilder 0.280234
ExtUtils::Command 7.76
ExtUtils::Install 2.22
ExtUtils::MakeMaker 7.76
ExtUtils::Manifest 1.75
ExtUtils::ParseXS 3.51
File::Spec 3.78
JSON 4.10
JSON::PP 4.17_01
Module::Build 0.4234
Module::Signature 0.89
Parse::CPAN::Meta 2.150010
Test::Harness 3.52
Test::More 1.302214
YAML 1.31
YAML::Syck 1.34
version 0.9933
--
Summary of my perl5 (revision 5 version 30 subversion 3) configuration:
Platform:
osname=MSWin32
osvers=10.0.19041.329
archname=MSWin32-x64-multi-thread
uname='Win32 strawberry-perl 5.30.3.1 #1 Mon Jul 13 02:10:43 2020 x64'
config_args='undef'
hint=recommended
useposix=true
d_sigaction=undef
useithreads=define
usemultiplicity=define
use64bitint=define
use64bitall=undef
uselongdouble=undef
usemymalloc=n
default_inc_excludes_dot=define
bincompat5005=undef
Compiler:
cc='gcc'
ccflags =' -s -O2 -DWIN32 -DWIN64 -DCONSERVATIVE -D__USE_MINGW_ANSI_STDIO -DPERL_TEXTMODE_SCRIPTS -DPERL_IMPLICIT_CONTEXT -DPERL_IMPLICIT_SYS -DUSE_PERLIO -fwrapv -fno-strict-aliasing -mms-bitfields'
optimize='-s -O2'
cppflags='-DWIN32'
ccversion=''
gccversion='8.3.0'
gccosandvers=''
intsize=4
longsize=4
ptrsize=8
doublesize=8
byteorder=12345678
doublekind=3
d_longlong=define
longlongsize=8
d_longdbl=define
longdblsize=16
longdblkind=3
ivtype='long long'
ivsize=8
nvtype='double'
nvsize=8
Off_t='long long'
lseeksize=8
alignbytes=8
prototype=define
Linker and Libraries:
ld='g++'
ldflags ='-s -L"C:\Strawberry\perl\lib\CORE" -L"C:\Strawberry\c\lib"'
libpth=C:\Strawberry\c\lib C:\Strawberry\c\x86_64-w64-mingw32\lib C:\Strawberry\c\lib\gcc\x86_64-w64-mingw32\8.3.0
libs= -lmoldname -lkernel32 -luser32 -lgdi32 -lwinspool -lcomdlg32 -ladvapi32 -lshell32 -lole32 -loleaut32 -lnetapi32 -luuid -lws2_32 -lmpr -lwinmm -lversion -lodbc32 -lodbccp32 -lcomctl32
perllibs= -lmoldname -lkernel32 -luser32 -lgdi32 -lwinspool -lcomdlg32 -ladvapi32 -lshell32 -lole32 -loleaut32 -lnetapi32 -luuid -lws2_32 -lmpr -lwinmm -lversion -lodbc32 -lodbccp32 -lcomctl32
libc=
so=dll
useshrplib=true
libperl=libperl530.a
gnulibc_version=''
Dynamic Linking:
dlsrc=dl_win32.xs
dlext=xs.dll
d_dlsymun=undef
ccdlflags=' '
cccdlflags=' '
lddlflags='-mdll -s -L"C:\Strawberry\perl\lib\CORE" -L"C:\Strawberry\c\lib"'
Characteristics of this binary (from libperl):
Compile-time options:
HAS_TIMES
HAVE_INTERP_INTERN
MULTIPLICITY
PERLIO_LAYERS
PERL_COPY_ON_WRITE
PERL_DONT_CREATE_GVSV
PERL_IMPLICIT_CONTEXT
PERL_IMPLICIT_SYS
PERL_MALLOC_WRAP
PERL_OP_PARENT
PERL_PRESERVE_IVUV
USE_64_BIT_INT
USE_ITHREADS
USE_LARGE_FILES
USE_LOCALE
USE_LOCALE_COLLATE
USE_LOCALE_CTYPE
USE_LOCALE_NUMERIC
USE_LOCALE_TIME
USE_PERLIO
USE_PERL_ATOF
Built under MSWin32
Compiled at Jul 13 2020 02:15:51
%ENV:
PERL5LIB="C:\home\sunlight3\perl5\lib\perl5"
PERL_LOCAL_LIB_ROOT="C:\home\sunlight3\perl5"
PERL_MB_OPT="--install_base "C:\\home\\sunlight3\\perl5""
PERL_MM_OPT="INSTALL_BASE=C:\\home\\sunlight3\\perl5"
@INC:
C:\home\sunlight3\perl5\lib\perl5/MSWin32-x64-multi-thread
C:\home\sunlight3\perl5\lib\perl5
C:/Strawberry/perl/site/lib
C:/Strawberry/perl/vendor/lib
C:/Strawberry/perl/lib