Dist-Zilla-Plugin-Git v2.043 Perl 5 v5.12.5 x86_64-linux
- Status
- Pass
- From
- Slaven Rezić (SREZIC)
- Dist
-
Dist-Zilla-Plugin-Git v2.043
- Platform
- Perl 5 v5.12.5 x86_64-linux
- Date
- 2017-12-10 01:11:13
- ID
- 04087fa2-dd47-11e7-ab09-ff1d047056af
This distribution has been tested as part of the CPAN Testers
project, supporting the Perl programming language. See
http://wiki.cpantesters.org/ for more information or email
questions to cpan-testers-discuss@perl.org
--
Dear Karen Etheridge,
This is a computer-generated report for Dist-Zilla-Plugin-Git-2.043
on perl 5.12.5, created by CPAN-Reporter-1.2018.
Thank you for uploading your work to CPAN. Congratulations!
All tests were successful.
Sections of this report:
* Tester comments
* Program output
* Prerequisites
* Environment and other context
------------------------------
TESTER COMMENTS
------------------------------
Additional comments from tester:
none provided
------------------------------
PROGRAM OUTPUT
------------------------------
Output from '/usr/bin/make test':
PERL_DL_NONLAZY=1 "/bbbike/perl-5.12.5/bin/perl5.12.5" "-MExtUtils::Command::MM" "-MTest::Harness" "-e" "undef *Test::Harness::Switches; test_harness(0, 'blib/lib', 'blib/arch')" t/*.t
#
# Versions for all modules listed in MYMETA.json (including optional ones):
#
# === Configure Requires ===
#
# Module Want Have
# ------------------- ---- ------
# ExtUtils::MakeMaker any 7.24
# Text::ParseWords any 3.27
# version any 0.9916
#
# === Build Requires ===
#
# Module Want Have
# ------------------- ---- ----
# ExtUtils::MakeMaker any 7.24
#
# === Test Requires ===
#
# Module Want Have
# -------------------------------- ----- --------
# CPAN::Meta::Check 0.011 0.013
# CPAN::Meta::Requirements any 2.140
# Devel::SimpleTrace any 0.08
# Dist::Zilla::File::InMemory any 5.047
# Dist::Zilla::Plugin::Config::Git any 0.92
# Dist::Zilla::Role::Releaser any 5.047
# Dist::Zilla::Tester any 5.047
# Encode any 2.93
# Exporter any 5.72
# ExtUtils::MakeMaker any 7.24
# File::Copy any 2.18
# File::Copy::Recursive any 0.38
# File::Path 2.07 2.12
# File::Spec any 3.62
# File::Which any 1.22
# File::pushd any 1.014
# Log::Dispatchouli any 2.015
# Test::DZil any 5.047
# Test::Fatal any 0.014
# Test::More 0.88 1.302118
# lib any 0.62
# utf8 any 1.08
#
# === Test Recommends ===
#
# Module Want Have
# ---------- -------- --------
# CPAN::Meta 2.120900 2.150010
#
# === Runtime Requires ===
#
# Module Want Have
# ---------------------------------- -------- --------
# Cwd any 3.62
# DateTime any 1.44
# Dist::Zilla 4 5.047
# Dist::Zilla::Plugin::GatherDir 4.200016 5.047
# Dist::Zilla::Role::AfterBuild any 5.047
# Dist::Zilla::Role::AfterMint any 5.047
# Dist::Zilla::Role::AfterRelease any 5.047
# Dist::Zilla::Role::BeforeRelease any 5.047
# Dist::Zilla::Role::FilePruner any 5.047
# Dist::Zilla::Role::GitConfig any 0.92
# Dist::Zilla::Role::PluginBundle any 5.047
# Dist::Zilla::Role::VersionProvider any 5.047
# File::Spec::Functions any 3.62
# File::Temp any 0.2304
# File::chdir any 0.1010
# Git::Wrapper 0.021 0.046
# IPC::Open3 any 1.05
# IPC::System::Simple any 1.25
# List::Util 1.45 1.49
# Module::Runtime any 0.014
# Moose any 2.2008
# Moose::Role any 2.2008
# Moose::Util::TypeConstraints any 2.2008
# MooseX::Has::Sugar any 1.000004
# MooseX::Types::Moose any 0.49
# MooseX::Types::Path::Tiny 0.010 0.012
# Path::Tiny 0.048 0.104
# String::Formatter any 0.102084
# Try::Tiny any 0.28
# Version::Next any 1.000
# constant any 1.33
# namespace::autoclean 0.09 0.28
# strict any 1.04
# version 0.80 0.9916
# warnings any 1.09
#
# === Other Modules ===
#
# Module Have
# ------------- -------
# JSON::PP 2.27400
# Pod::Coverage 0.23
# Sub::Name 0.21
# YAML 1.23
# autodie 2.29
#
t/00-report-prereqs.t ........... ok
# git version 2.1.4
t/000-report-git-version.t ...... ok
t/check.t ....................... ok
t/commit-build-custom.t ......... ok
t/commit-build-src-as-parent.t .. ok
t/commit-build.t ................ ok
t/commit-dirtydir.t ............. ok
t/commit-message.t .............. ok
t/commit-utf8.t ................. ok
t/commit-ws.t ................... ok
t/commit.t ...................... ok
t/gatherdir-multi.t ............. ok
t/gatherdir.t ................... ok
t/push-gitconfig.t .............. ok
t/push-multi.t .................. ok
t/push.t ........................ ok
t/repo-dir.t .................... ok
t/tag-signed.t .................. ok
t/tag.t ......................... ok
t/version-by-branch.t ........... ok
t/version-default.t ............. ok
t/version-extraction.t .......... ok
t/version-regexp.t .............. ok
# Conflicts detected for Module::Runtime:
# MooseX::Attribute::Dependent is version 1.1.3, but must be greater than version 1.1.3
# Net::Twitter is version 4.01041, but must be greater than version 4.01041
# Conflicts detected for Moose:
# MooseX::Attribute::Dependent is version 1.1.3, but must be greater than version 1.1.3
# Net::Twitter is version 4.01041, but must be greater than version 4.01041
t/zzz-check-breaks.t ............ ok
All tests successful.
Files=24, Tests=207, 29 wallclock secs ( 0.02 usr 0.11 sys + 14.56 cusr 9.34 csys = 24.03 CPU)
Result: PASS
------------------------------
PREREQUISITES
------------------------------
Prerequisite modules loaded:
requires:
Module Need Have
---------------------------------- -------- --------
constant 0 1.33
Cwd 0 3.62
DateTime 0 1.44
Dist::Zilla 4 5.047
Dist::Zilla::Plugin::GatherDir 4.200016 5.047
Dist::Zilla::Role::AfterBuild 0 5.047
Dist::Zilla::Role::AfterMint 0 5.047
Dist::Zilla::Role::AfterRelease 0 5.047
Dist::Zilla::Role::BeforeRelease 0 5.047
Dist::Zilla::Role::FilePruner 0 5.047
Dist::Zilla::Role::GitConfig 0 0.92
Dist::Zilla::Role::PluginBundle 0 5.047
Dist::Zilla::Role::VersionProvider 0 5.047
File::chdir 0 0.1010
File::Spec::Functions 0 3.62
File::Temp 0 0.2304
Git::Wrapper 0.021 0.046
IPC::Open3 0 1.05
IPC::System::Simple 0 1.25
List::Util 1.45 1.49
Module::Runtime 0 0.014
Moose 0 2.2008
Moose::Role 0 2.2008
Moose::Util::TypeConstraints 0 2.2008
MooseX::Has::Sugar 0 1.000004
MooseX::Types::Moose 0 0.49
MooseX::Types::Path::Tiny 0.010 0.012
namespace::autoclean 0.09 0.28
Path::Tiny 0.048 0.104
perl 5.010 5.012005
strict 0 1.04
String::Formatter 0 0.102084
Try::Tiny 0 0.28
version 0.80 0.9916
Version::Next 0 1.000
warnings 0 1.09
build_requires:
Module Need Have
---------------------------------- -------- --------
CPAN::Meta::Check 0.011 0.013
CPAN::Meta::Requirements 0 2.140
Devel::SimpleTrace 0 0.08
Dist::Zilla::File::InMemory 0 5.047
Dist::Zilla::Plugin::Config::Git 0 0.92
Dist::Zilla::Role::Releaser 0 5.047
Dist::Zilla::Tester 0 5.047
Encode 0 2.93
Exporter 0 5.72
ExtUtils::MakeMaker 0 7.24
File::Copy 0 2.18
File::Copy::Recursive 0 0.38
File::Path 2.07 2.12
File::pushd 0 1.014
File::Spec 0 3.62
File::Which 0 1.22
lib 0 0.62
Log::Dispatchouli 0 2.015
Test::DZil 0 5.047
Test::Fatal 0 0.014
Test::More 0.88 1.302118
utf8 0 1.08
configure_requires:
Module Need Have
---------------------------------- -------- --------
ExtUtils::MakeMaker 0 7.24
perl 5.010 5.012005
Text::ParseWords 0 3.27
version 0 0.9916
------------------------------
ENVIRONMENT AND OTHER CONTEXT
------------------------------
Environment variables:
LANG = C
LC_ALL = de_DE.UTF-8
PATH = /usr/local/bin:/usr/bin:/bin:/usr/local/sbin:/usr/sbin:/sbin:/home/cpansand/bin/linux-gnu:/home/cpansand/bin/sh:/home/cpansand/bin:/usr/games:/home/cpansand/devel:/home/eserte/src/srezic-misc/scripts
PERL5LIB =
PERL5OPT =
PERL5_CPANPLUS_IS_RUNNING = 11546
PERL5_CPAN_IS_RUNNING = 11546
PERL5_CPAN_IS_RUNNING_IN_RECURSION = 11488,11546
PERLDOC = -MPod::Perldoc::ToTextOverstrike
PERL_BATCH = yes
PERL_CANARY_STABILITY_NOPROMPT = 1
PERL_CPAN_REPORTER_CONFIG = /var/tmp/cpansmoker-1023/2017121000/cpanreporter_000_config.ini
PERL_EXTUTILS_AUTOINSTALL = --defaultdeps
PERL_PARALLEL_SMOKER = yes
PERL_USE_UNSAFE_INC = 1
SHELL = /bin/zsh
TERM = screen
TMPDIR = /var/tmp/cpansmoker-1023/2017121000
Perl special variables (and OS-specific diagnostics, for MSWin32):
$^X = /bbbike/perl-5.12.5/bin/perl5.12.5
$UID/$EUID = 1023 / 1023
$GID = 1023 1023
$EGID = 1023 1023
Perl module toolchain versions installed:
Module Have
------------------- --------
CPAN 2.16
CPAN::Meta 2.150010
Cwd 3.62
ExtUtils::CBuilder 0.280230
ExtUtils::Command 7.24
ExtUtils::Install 2.12
ExtUtils::MakeMaker 7.24
ExtUtils::Manifest 1.70
ExtUtils::ParseXS 3.30
File::Spec 3.62
JSON 2.94
JSON::PP 2.27400
Module::Build 0.4224
Module::Signature 0.81
Parse::CPAN::Meta 2.150010
Test::Harness 3.39
Test::More 1.302118
YAML 1.23
YAML::Syck 1.30
version 0.9916
--
Summary of my perl5 (revision 5 version 12 subversion 5) configuration:
Platform:
osname=linux, osvers=3.16.0-4-amd64, archname=x86_64-linux
uname='linux eserte 3.16.0-4-amd64 #1 smp debian 3.16.7-ckt25-2 (2016-04-08) x86_64 gnulinux '
config_args='-ds -e -Dprefix=/opt/perl-5.12.5 -Dcf_email=srezic@cpan.org'
hint=recommended, useposix=true, d_sigaction=define
useithreads=undef, usemultiplicity=undef
useperlio=define, d_sfio=undef, uselargefiles=define, usesocks=undef
use64bitint=define, use64bitall=define, uselongdouble=undef
usemymalloc=n, bincompat5005=undef
Compiler:
cc='cc', ccflags ='-fno-strict-aliasing -pipe -fstack-protector -I/usr/local/include -D_LARGEFILE_SOURCE -D_FILE_OFFSET_BITS=64',
optimize='-O2',
cppflags='-fno-strict-aliasing -pipe -fstack-protector -I/usr/local/include'
ccversion='', gccversion='4.9.2', gccosandvers=''
intsize=4, longsize=8, ptrsize=8, doublesize=8, byteorder=12345678
d_longlong=define, longlongsize=8, d_longdbl=define, longdblsize=16
ivtype='long', ivsize=8, nvtype='double', nvsize=8, Off_t='off_t', lseeksize=8
alignbytes=8, prototype=define
Linker and Libraries:
ld='cc', ldflags =' -fstack-protector -L/usr/local/lib'
libpth=/usr/local/lib /lib/x86_64-linux-gnu /lib/../lib /usr/lib/x86_64-linux-gnu /usr/lib/../lib /lib /usr/lib
libs=-lnsl -lgdbm -ldb -ldl -lm -lcrypt -lutil -lc -lgdbm_compat
perllibs=-lnsl -ldl -lm -lcrypt -lutil -lc
libc=libc-2.19.so, so=so, useshrplib=false, libperl=libperl.a
gnulibc_version='2.19'
Dynamic Linking:
dlsrc=dl_dlopen.xs, dlext=so, d_dlsymun=undef, ccdlflags='-Wl,-E'
cccdlflags='-fPIC', lddlflags='-shared -O2 -L/usr/local/lib -fstack-protector'
Characteristics of this binary (from libperl):
Compile-time options: PERL_DONT_CREATE_GVSV PERL_MALLOC_WRAP USE_64_BIT_ALL
USE_64_BIT_INT USE_LARGE_FILES USE_PERLIO
USE_PERL_ATOF
Locally applied patches:
Devel::PatchPerl 1.42
Built under linux
Compiled at May 7 2016 10:05:30
%ENV:
PERL5LIB=""
PERL5OPT=""
PERL5_CPANPLUS_IS_RUNNING="11546"
PERL5_CPAN_IS_RUNNING="11546"
PERL5_CPAN_IS_RUNNING_IN_RECURSION="11488,11546"
PERLDOC="-MPod::Perldoc::ToTextOverstrike"
PERL_BATCH="yes"
PERL_CANARY_STABILITY_NOPROMPT="1"
PERL_CPAN_REPORTER_CONFIG="/var/tmp/cpansmoker-1023/2017121000/cpanreporter_000_config.ini"
PERL_EXTUTILS_AUTOINSTALL="--defaultdeps"
PERL_PARALLEL_SMOKER="yes"
PERL_USE_UNSAFE_INC="1"
@INC:
/opt/perl-5.12.5/lib/site_perl/5.12.5/x86_64-linux
/opt/perl-5.12.5/lib/site_perl/5.12.5
/opt/perl-5.12.5/lib/5.12.5/x86_64-linux
/opt/perl-5.12.5/lib/5.12.5
.