Data-FormValidator v4.88 Perl 5 v5.28.2 x86_64-linux-thread-multi
- Status
- Pass
- From
- Nigel Horne
- Dist
-
Data-FormValidator v4.88
- Platform
- Perl 5 v5.28.2 x86_64-linux-thread-multi
- Date
- 2019-09-08 11:30:09
- ID
- 03f4b3ec-d22c-11e9-a65e-fe3acca03743
This distribution has been tested as part of the CPAN Testers
project, supporting the Perl programming language. See
http://wiki.cpantesters.org/ for more information or email
questions to cpan-testers-discuss@perl.org
--
Dear David Farrell,
This is a computer-generated report for Data-FormValidator-4.88
on perl 5.28.2, created by CPAN-Reporter-1.2018.
Thank you for uploading your work to CPAN. Congratulations!
All tests were successful.
Sections of this report:
* Tester comments
* Program output
* Prerequisites
* Environment and other context
------------------------------
TESTER COMMENTS
------------------------------
Additional comments from tester:
this report is from an automated smoke testing program
and was not reviewed by a human for accuracy
------------------------------
PROGRAM OUTPUT
------------------------------
Output from '/usr/bin/make test':
PERL_DL_NONLAZY=1 "/home/njh/perl5/perlbrew/perls/perl-5.28.2-thread/bin/perl5.28.2" "-MExtUtils::Command::MM" "-MTest::Harness" "-e" "undef *Test::Harness::Switches; test_harness(0, 'blib/lib', 'blib/arch')" t/*.t
t/00_base.t .............................. ok
t/02_code_ref.t .......................... ok
t/03_dependency.t ........................ ok
t/04_arrayify_undef.t .................... ok
t/05_valid_ip_address.t .................. ok
t/06_regexp_map.t ........................ ok
t/09_require_some.t ...................... ok
t/13_validator_packages.t ................ ok
t/11_procedural_match.t .................. ok
t/15_literal_param_constraints.t ......... ok
t/16_cgi_object.t ........................ ok
t/17_multi_valued_keys.t ................. ok
t/19_refs_as_values.t .................... ok
t/18_constraint_refs.t ................... ok
t/21_multiple_fields.t ................... ok
t/20_careful_exception_handling.t ........ ok
t/25_results.t ........................... ok
t/26_qr.t ................................ ok
t/27_qualify_ref_happy_death.t ........... ok
t/28_defaults_for_new.t .................. ok
t/30_filter_definedness.t ................ ok
t/any_errors.t ........................... ok
t/check_profile_syntax.t ................. ok
t/constraint_method.t .................... ok
t/closure_msgs.t ......................... ok
t/constraint_method_string.t ............. ok
t/constraint_method_zero.t ............... ok
t/constraints_builtin.t .................. ok
t/constraint_regexp_map_profile_reuse.t .. ok
t/constraints_builtin_closure.t .......... ok
t/constraints_factory.t .................. ok
t/constraints_invalid_once_only.t ........ ok
t/constraints_num_values.t ............... ok
t/constraints_regexp_map_interaction.t ... ok
t/constraints_reuse.t .................... ok
t/credit_card.t .......................... ok
t/dates.t ................................ ok
t/dates_closure.t ........................ ok
t/dependency_coderef.t ................... ok
t/dependency_groups.t .................... ok
t/filter_constraints.t ................... ok
t/filters_builtin.t ...................... ok
t/filters_shouldnt_modify.t .............. ok
t/FV_length.t ............................ ok
t/get_filtered_data.t .................... ok
t/get_input_data.t ....................... ok
t/missing_optional.t ..................... ok
t/msgs.t ................................. ok
t/multiple_constraints.t ................. ok
t/params_not_mentioned.t ................. ok
t/procedural_valid.t ..................... ok
t/pod.t .................................. ok
t/profile_checking.t ..................... ok
t/regexp_common.t ........................ ok
t/regexp_common_closure.t ................ ok
t/rename_builtin_constraints.t ........... ok
t/results_success.t ...................... ok
t/simple.t ............................... ok
t/undefined_arrayref.t ................... ok
t/tt_and_overload.t ...................... ok
t/unknown.t .............................. ok
t/untaint.t .............................. ok
# Skipping CGI::Simple Tests
# testing with CGI.pm version: 4.44
# Running tests with CGI
# testing with CGI.pm version: 4.44
t/upload.t ............................... ok
t/upload_closure.t ....................... ok
t/upload_mime_types.t .................... ok
All tests successful.
Files=65, Tests=606, 5 wallclock secs ( 0.27 usr 0.07 sys + 9.22 cusr 1.30 csys = 10.86 CPU)
Result: PASS
------------------------------
PREREQUISITES
------------------------------
Prerequisite modules loaded:
requires:
Module Need Have
------------------- ----- ----------
Date::Calc 5 6.4
Email::Valid 0 1.202
File::MMagic 1.17 1.30
File::Spec 0 3.75
Image::Size 0 3.300
MIME::Types 1.005 2.17
perl 5.008 5.028002
Regexp::Common 0.03 2017060201
Scalar::Util 0 1.52
Test::More 0 1.302164
build_requires:
Module Need Have
------------------- ----- ----------
ExtUtils::MakeMaker 0 7.36
configure_requires:
Module Need Have
------------------- ----- ----------
ExtUtils::MakeMaker 0 7.36
------------------------------
ENVIRONMENT AND OTHER CONTEXT
------------------------------
Environment variables:
AUTOMATED_TESTING = 1
HARNESS_OPTIONS = j2
LANG = en_US.UTF-8
PATH = /home/njh/perl5/perlbrew/bin:/home/njh/perl5/perlbrew/perls/perl-5.28.2-thread/bin:/home/njh/src/njh/smoker/bin:/usr/bin:/bin
PERL5LIB = /tmp/build/Regexp-Common-2017060201-0/blib/arch:/tmp/build/Regexp-Common-2017060201-0/blib/lib:/tmp/build/Image-Size-3.300-0/blib/arch:/tmp/build/Image-Size-3.300-0/blib/lib:/tmp/build/File-MMagic-1.30-0/blib/arch:/tmp/build/File-MMagic-1.30-0/blib/lib
PERL5OPT =
PERL5_CPANPLUS_IS_RUNNING = 28707
PERL5_CPAN_IS_RUNNING = 28707
PERL5_CPAN_IS_RUNNING_IN_RECURSION = 28687,28707
PERLBREW_HOME = /home/njh/.perlbrew
PERLBREW_MANPATH = /home/njh/perl5/perlbrew/perls/perl-5.28.2-thread/man
PERLBREW_PATH = /home/njh/perl5/perlbrew/bin:/home/njh/perl5/perlbrew/perls/perl-5.28.2-thread/bin
PERLBREW_PERL = perl-5.28.2-thread
PERLBREW_ROOT = /home/njh/perl5/perlbrew
PERLBREW_SHELLRC_VERSION = 0.86
PERLBREW_VERSION = 0.86
PERL_USE_UNSAFE_INC = 1
SHELL = /bin/sh
TEMP = /tmp/user/1000
TMPDIR = /tmp/user/1000/testwrapper.28693
Perl special variables (and OS-specific diagnostics, for MSWin32):
$^X = /home/njh/perl5/perlbrew/perls/perl-5.28.2-thread/bin/perl5.28.2
$UID/$EUID = 1000 / 1000
$GID = 1000 4 24 25 29 30 44 46 103 108 115 123 996 1000
$EGID = 1000 4 24 25 29 30 44 46 103 108 115 123 996 1000
Perl module toolchain versions installed:
Module Have
------------------- --------
CPAN 2.27
CPAN::Meta 2.150010
Cwd 3.75
ExtUtils::CBuilder 0.280231
ExtUtils::Command 7.36
ExtUtils::Install 2.14
ExtUtils::MakeMaker 7.36
ExtUtils::Manifest 1.72
ExtUtils::ParseXS 3.39
File::Spec 3.75
JSON 4.02
JSON::PP 4.03
Module::Build 0.4229
Module::Signature n/a
Parse::CPAN::Meta 2.150010
Test::Harness 3.42
Test::More 1.302164
YAML 1.29
YAML::Syck 1.31
version 0.9924
--
Summary of my perl5 (revision 5 version 28 subversion 2) configuration:
Platform:
osname=linux
osvers=4.16.0-2-amd64
archname=x86_64-linux-thread-multi
uname='linux amelia 4.16.0-2-amd64 #1 smp debian 4.16.16-2 (2018-06-22) x86_64 gnulinux '
config_args='-de -Dprefix=/home/njh/perl5/perlbrew/perls/perl-5.28.2-thread -Dusedevel -Dusethreads -Accflags= -Aeval:scriptdir=/home/njh/perl5/perlbrew/perls/perl-5.28.2-thread/bin'
hint=recommended
useposix=true
d_sigaction=define
useithreads=define
usemultiplicity=define
use64bitint=define
use64bitall=define
uselongdouble=undef
usemymalloc=n
default_inc_excludes_dot=define
bincompat5005=undef
Compiler:
cc='cc'
ccflags ='-D_REENTRANT -D_GNU_SOURCE -fwrapv -fno-strict-aliasing -pipe -fstack-protector-strong -I/usr/local/include -D_LARGEFILE_SOURCE -D_FILE_OFFSET_BITS=64'
optimize='-O2'
cppflags='-D_REENTRANT -D_GNU_SOURCE -fwrapv -fno-strict-aliasing -pipe -fstack-protector-strong -I/usr/local/include'
ccversion=''
gccversion='8.3.0'
gccosandvers=''
intsize=4
longsize=8
ptrsize=8
doublesize=8
byteorder=12345678
doublekind=3
d_longlong=define
longlongsize=8
d_longdbl=define
longdblsize=16
longdblkind=3
ivtype='long'
ivsize=8
nvtype='double'
nvsize=8
Off_t='off_t'
lseeksize=8
alignbytes=8
prototype=define
Linker and Libraries:
ld='cc'
ldflags =' -fstack-protector-strong -L/usr/local/lib'
libpth=/usr/local/lib /usr/lib/gcc/x86_64-linux-gnu/8/include-fixed /usr/include/x86_64-linux-gnu /usr/lib /lib/x86_64-linux-gnu /lib/../lib /usr/lib/x86_64-linux-gnu /usr/lib/../lib /lib /lib64 /usr/lib64
libs=-lpthread -lnsl -lgdbm -ldb -ldl -lm -lcrypt -lutil -lc
perllibs=-lpthread -lnsl -ldl -lm -lcrypt -lutil -lc
libc=libc-2.28.so
so=so
useshrplib=false
libperl=libperl.a
gnulibc_version='2.28'
Dynamic Linking:
dlsrc=dl_dlopen.xs
dlext=so
d_dlsymun=undef
ccdlflags='-Wl,-E'
cccdlflags='-fPIC'
lddlflags='-shared -O2 -L/usr/local/lib -fstack-protector-strong'
Characteristics of this binary (from libperl):
Compile-time options:
HAS_TIMES
MULTIPLICITY
PERLIO_LAYERS
PERL_COPY_ON_WRITE
PERL_DONT_CREATE_GVSV
PERL_IMPLICIT_CONTEXT
PERL_MALLOC_WRAP
PERL_OP_PARENT
PERL_PRESERVE_IVUV
PERL_USE_DEVEL
USE_64_BIT_ALL
USE_64_BIT_INT
USE_ITHREADS
USE_LARGE_FILES
USE_LOCALE
USE_LOCALE_COLLATE
USE_LOCALE_CTYPE
USE_LOCALE_NUMERIC
USE_LOCALE_TIME
USE_PERLIO
USE_PERL_ATOF
USE_REENTRANT_API
Locally applied patches:
Devel::PatchPerl 1.48
Built under linux
Compiled at Apr 24 2019 00:40:46
%ENV:
PERL5LIB="/tmp/build/Regexp-Common-2017060201-0/blib/arch:/tmp/build/Regexp-Common-2017060201-0/blib/lib:/tmp/build/Image-Size-3.300-0/blib/arch:/tmp/build/Image-Size-3.300-0/blib/lib:/tmp/build/File-MMagic-1.30-0/blib/arch:/tmp/build/File-MMagic-1.30-0/blib/lib"
PERL5OPT=""
PERL5_CPANPLUS_IS_RUNNING="28707"
PERL5_CPAN_IS_RUNNING="28707"
PERL5_CPAN_IS_RUNNING_IN_RECURSION="28687,28707"
PERLBREW_HOME="/home/njh/.perlbrew"
PERLBREW_MANPATH="/home/njh/perl5/perlbrew/perls/perl-5.28.2-thread/man"
PERLBREW_PATH="/home/njh/perl5/perlbrew/bin:/home/njh/perl5/perlbrew/perls/perl-5.28.2-thread/bin"
PERLBREW_PERL="perl-5.28.2-thread"
PERLBREW_ROOT="/home/njh/perl5/perlbrew"
PERLBREW_SHELLRC_VERSION="0.86"
PERLBREW_VERSION="0.86"
PERL_USE_UNSAFE_INC="1"
@INC:
/tmp/build/Regexp-Common-2017060201-0/blib/arch
/tmp/build/Regexp-Common-2017060201-0/blib/lib
/tmp/build/Image-Size-3.300-0/blib/arch
/tmp/build/Image-Size-3.300-0/blib/lib
/tmp/build/File-MMagic-1.30-0/blib/arch
/tmp/build/File-MMagic-1.30-0/blib/lib
/home/njh/perl5/perlbrew/perls/perl-5.28.2-thread/lib/site_perl/5.28.2/x86_64-linux-thread-multi
/home/njh/perl5/perlbrew/perls/perl-5.28.2-thread/lib/site_perl/5.28.2
/home/njh/perl5/perlbrew/perls/perl-5.28.2-thread/lib/5.28.2/x86_64-linux-thread-multi
/home/njh/perl5/perlbrew/perls/perl-5.28.2-thread/lib/5.28.2
.