Report for MooseX-WithCache-0.01002

Back
From: metabase:user:3215efbe-2aae-11df-837a-5e0a49663a4f
Subject: PASS MooseX-WithCache-0.01002 v5.16.0 GNU/Linux
Date: 2012-06-11T03:10:36Z

This distribution has been tested as part of the CPAN Testers
project, supporting the Perl programming language.  See
http://wiki.cpantesters.org/ for more information or email
questions to cpan-testers-discuss@perl.org


--
Dear Daisuke Maki,

This is a computer-generated report for MooseX-WithCache-0.01002
on perl 5.16.0, created by CPAN-Reporter-1.2006.

Thank you for uploading your work to CPAN.  Congratulations!
All tests were successful.

Sections of this report:

    * Tester comments
    * Program output
    * Prerequisites
    * Environment and other context

------------------------------
TESTER COMMENTS
------------------------------

Additional comments from tester:

this report is from an automated smoke testing program
and was not reviewed by a human for accuracy

------------------------------
PROGRAM OUTPUT
------------------------------

Output from '/usr/bin/make test':

PERL_DL_NONLAZY=1 /opt/perls/threads/perl-5.16.0/bin/perl "-MExtUtils::Command::MM" "-e" "test_harness(0, 'inc', 'blib/lib', 'blib/arch')" t/*.t t/*/*.t
t/00_compile.t ............... ok
Use of qw(...) as parentheses is deprecated at t/02_memcached.t line 25.
t/02_memcached.t ............. skipped: no memcached server found
must specify either 'datastore' hashref or 'global' flag at /opt/perls/threads/perl-5.16.0/lib/site_perl/5.16.0/CHI/Driver/Memory.pm line 37.
	CHI::Driver::Memory::BUILD('Moose::Meta::Class::__ANON__::SERIAL::4=HASH(0xdf8da8)', 'HASH(0xc777d8)') called at /opt/perls/threads/perl-5.16.0/lib/site_perl/5.16.0/armv5tel-linux-thread-multi/Class/MOP/Method.pm line 125
	Class::MOP::Method::execute('Moose::Meta::Method=HASH(0xc77c18)', 'Moose::Meta::Class::__ANON__::SERIAL::4=HASH(0xdf8da8)', 'HASH(0xc777d8)') called at /opt/perls/threads/perl-5.16.0/lib/site_perl/5.16.0/armv5tel-linux-thread-multi/Moose/Object.pm line 59
	Moose::Object::BUILDALL('Moose::Meta::Class::__ANON__::SERIAL::4=HASH(0xdf8da8)', 'HASH(0xc777d8)') called at /opt/perls/threads/perl-5.16.0/lib/site_perl/5.16.0/armv5tel-linux-thread-multi/Moose/Meta/Class.pm line 278
	Moose::Meta::Class::new_object('Moose::Meta::Class=HASH(0xe00228)', 'HASH(0xc777d8)') called at /opt/perls/threads/perl-5.16.0/lib/site_perl/5.16.0/armv5tel-linux-thread-multi/Moose/Object.pm line 28
	Moose::Object::new('Moose::Meta::Class::__ANON__::SERIAL::4', 'chi_root_class', 'CHI', 'driver_class', 'CHI::Driver::Memory') called at constructor CHI::Driver::Memory::new (defined at /opt/perls/threads/perl-5.16.0/lib/site_perl/5.16.0/CHI/Driver/Memory.pm line 18) line 4
	CHI::Driver::Memory::new('Moose::Meta::Class::__ANON__::SERIAL::4', 'chi_root_class', 'CHI', 'driver_class', 'CHI::Driver::Memory') called at /opt/perls/threads/perl-5.16.0/lib/site_perl/5.16.0/CHI.pm line 156
	CHI::new('CHI', 'driver', 'Memory') called at t/03_chi.t line 29
t/03_chi.t ................... ok
t/04_fastmmap.t .............. ok
t/deprecated/00_compile.t .... ok
Use of qw(...) as parentheses is deprecated at t/deprecated/02_memcached.t line 20.
t/deprecated/02_memcached.t .. skipped: no memcached server found
must specify either 'datastore' hashref or 'global' flag at /opt/perls/threads/perl-5.16.0/lib/site_perl/5.16.0/CHI/Driver/Memory.pm line 37.
	CHI::Driver::Memory::BUILD('Moose::Meta::Class::__ANON__::SERIAL::4=HASH(0xdfa5e8)', 'HASH(0xc76c48)') called at /opt/perls/threads/perl-5.16.0/lib/site_perl/5.16.0/armv5tel-linux-thread-multi/Class/MOP/Method.pm line 125
	Class::MOP::Method::execute('Moose::Meta::Method=HASH(0xc77088)', 'Moose::Meta::Class::__ANON__::SERIAL::4=HASH(0xdfa5e8)', 'HASH(0xc76c48)') called at /opt/perls/threads/perl-5.16.0/lib/site_perl/5.16.0/armv5tel-linux-thread-multi/Moose/Object.pm line 59
	Moose::Object::BUILDALL('Moose::Meta::Class::__ANON__::SERIAL::4=HASH(0xdfa5e8)', 'HASH(0xc76c48)') called at /opt/perls/threads/perl-5.16.0/lib/site_perl/5.16.0/armv5tel-linux-thread-multi/Moose/Meta/Class.pm line 278
	Moose::Meta::Class::new_object('Moose::Meta::Class=HASH(0xe016f8)', 'HASH(0xc76c48)') called at /opt/perls/threads/perl-5.16.0/lib/site_perl/5.16.0/armv5tel-linux-thread-multi/Moose/Object.pm line 28
	Moose::Object::new('Moose::Meta::Class::__ANON__::SERIAL::4', 'chi_root_class', 'CHI', 'driver_class', 'CHI::Driver::Memory') called at constructor CHI::Driver::Memory::new (defined at /opt/perls/threads/perl-5.16.0/lib/site_perl/5.16.0/CHI/Driver/Memory.pm line 18) line 4
	CHI::Driver::Memory::new('Moose::Meta::Class::__ANON__::SERIAL::4', 'chi_root_class', 'CHI', 'driver_class', 'CHI::Driver::Memory') called at /opt/perls/threads/perl-5.16.0/lib/site_perl/5.16.0/CHI.pm line 156
	CHI::new('CHI', 'driver', 'Memory') called at t/deprecated/03_chi.t line 30
t/deprecated/03_chi.t ........ ok
t/deprecated/04_fastmmap.t ... ok
All tests successful.
Files=8, Tests=62, 33 wallclock secs ( 0.38 usr  0.05 sys + 29.81 cusr  0.72 csys = 30.96 CPU)
Result: PASS

------------------------------
PREREQUISITES
------------------------------

Prerequisite modules loaded:

requires:

    Module                      Need  Have    
    --------------------------- ----- --------
    Cache::Memcached            0     1.30    
    Data::Dumper                0     2.135_06
    Digest::MD5                 0     2.52    
    Moose                       0.59  2.0602  
    MooseX::Role::Parameterized 0     1.00    
    perl                        5.008 5.016000

build_requires:

    Module                      Need  Have    
    --------------------------- ----- --------
    ExtUtils::MakeMaker         6.42  6.63_02 
    IO::Socket::INET            0     1.33    
    Test::Exception             0     0.31    
    Test::More                  0     0.98    

configure_requires:

    Module                      Need  Have    
    --------------------------- ----- --------
    ExtUtils::MakeMaker         6.42  6.63_02 


------------------------------
ENVIRONMENT AND OTHER CONTEXT
------------------------------

Environment variables:

    AUTOMATED_TESTING = 1
    LANG = C
    PATH = /opt/perls/threads/perl-5.16.0/bin:/usr/local/bin:/usr/bin:/bin:/usr/local/games:/usr/games
    PERL5LIB = 
    PERL5OPT = 
    PERL5_CPANPLUS_IS_RUNNING = 4531
    PERL5_CPAN_IS_RUNNING = 4531
    PERL5_CPAN_IS_RUNNING_IN_RECURSION = 30514,4531
    PERL_CR_SMOKER_CURRENT = Google-Directions-0.08
    PERL_EXTUTILS_AUTOINSTALL = --defaultdeps
    PERL_MM_USE_DEFAULT = 1
    SHELL = /bin/bash
    TERM = xterm

Perl special variables (and OS-specific diagnostics, for MSWin32):

    $^X = /opt/perls/threads/perl-5.16.0/bin/perl
    $UID/$EUID = 1000 / 1000
    $GID = 1000 24 25 27 29 30 44 46 1000
    $EGID = 1000 24 25 27 29 30 44 46 1000

Perl module toolchain versions installed:

    Module              Have    
    ------------------- --------
    CPAN                1.9800  
    CPAN::Meta          2.120921
    Cwd                 3.39_02 
    ExtUtils::CBuilder  0.280205
    ExtUtils::Command   1.17    
    ExtUtils::Install   1.58    
    ExtUtils::MakeMaker 6.63_02 
    ExtUtils::Manifest  1.61    
    ExtUtils::ParseXS   3.16    
    File::Spec          3.39_02 
    JSON                2.53    
    JSON::PP            2.27200 
    Module::Build       0.40    
    Module::Signature   0.68    
    Parse::CPAN::Meta   1.4404  
    Test::Harness       3.24    
    Test::More          0.98    
    YAML                0.81    
    YAML::Syck          1.20    
    version             0.99    


--

Summary of my perl5 (revision 5 version 16 subversion 0) configuration:
   
  Platform:
    osname=linux, osvers=2.6.32-5-kirkwood, archname=armv5tel-linux-thread-multi
    uname='linux plugpc 2.6.32-5-kirkwood #1 tue mar 8 10:56:14 utc 2011 armv5tel gnulinux '
    config_args='-des -Dusethreads -Dprefix=/opt/perls/threads/perl-5.16.0'
    hint=recommended, useposix=true, d_sigaction=define
    useithreads=define, usemultiplicity=define
    useperlio=define, d_sfio=undef, uselargefiles=define, usesocks=undef
    use64bitint=undef, use64bitall=undef, uselongdouble=undef
    usemymalloc=n, bincompat5005=undef
  Compiler:
    cc='cc', ccflags ='-D_REENTRANT -D_GNU_SOURCE -fno-strict-aliasing -pipe -fstack-protector -I/usr/local/include -D_LARGEFILE_SOURCE -D_FILE_OFFSET_BITS=64',
    optimize='-O2',
    cppflags='-D_REENTRANT -D_GNU_SOURCE -fno-strict-aliasing -pipe -fstack-protector -I/usr/local/include'
    ccversion='', gccversion='4.4.5', gccosandvers=''
    intsize=4, longsize=4, ptrsize=4, doublesize=8, byteorder=1234
    d_longlong=define, longlongsize=8, d_longdbl=define, longdblsize=8
    ivtype='long', ivsize=4, nvtype='double', nvsize=8, Off_t='off_t', lseeksize=8
    alignbytes=8, prototype=define
  Linker and Libraries:
    ld='cc', ldflags =' -fstack-protector -L/usr/local/lib'
    libpth=/usr/local/lib /lib /usr/lib /usr/lib/arm-linux-gnueabi
    libs=-lnsl -lgdbm -ldb -ldl -lm -lcrypt -lutil -lpthread -lc -lgdbm_compat
    perllibs=-lnsl -ldl -lm -lcrypt -lutil -lpthread -lc
    libc=/lib/libc-2.11.3.so, so=so, useshrplib=false, libperl=libperl.a
    gnulibc_version='2.11.3'
  Dynamic Linking:
    dlsrc=dl_dlopen.xs, dlext=so, d_dlsymun=undef, ccdlflags='-Wl,-E'
    cccdlflags='-fPIC', lddlflags='-shared -O2 -L/usr/local/lib -fstack-protector'


Characteristics of this binary (from libperl): 
  Compile-time options: HAS_TIMES MULTIPLICITY PERLIO_LAYERS
                        PERL_DONT_CREATE_GVSV PERL_IMPLICIT_CONTEXT
                        PERL_MALLOC_WRAP PERL_PRESERVE_IVUV USE_ITHREADS
                        USE_LARGE_FILES USE_LOCALE USE_LOCALE_COLLATE
                        USE_LOCALE_CTYPE USE_LOCALE_NUMERIC USE_PERLIO
                        USE_PERL_ATOF USE_REENTRANT_API
  Built under linux
  Compiled at May 25 2012 23:40:16
  %ENV:
    PERL5LIB=""
    PERL5OPT=""
    PERL5_CPANPLUS_IS_RUNNING="4531"
    PERL5_CPAN_IS_RUNNING="4531"
    PERL5_CPAN_IS_RUNNING_IN_RECURSION="30514,4531"
    PERL_CR_SMOKER_CURRENT="Google-Directions-0.08"
    PERL_EXTUTILS_AUTOINSTALL="--defaultdeps"
    PERL_MM_USE_DEFAULT="1"
  @INC:
    /opt/perls/threads/perl-5.16.0/lib/site_perl/5.16.0/armv5tel-linux-thread-multi
    /opt/perls/threads/perl-5.16.0/lib/site_perl/5.16.0
    /opt/perls/threads/perl-5.16.0/lib/5.16.0/armv5tel-linux-thread-multi
    /opt/perls/threads/perl-5.16.0/lib/5.16.0
    .