Mo v0.40 Perl 5 v5.27.8 OpenBSD.amd64-openbsd-thread-multi-ld
- Status
- Pass
- From
- Nigel Horne
- Dist
-
Mo v0.40
- Platform
- Perl 5 v5.27.8 OpenBSD.amd64-openbsd-thread-multi-ld
- Date
- 2018-04-14 03:43:37
- ID
- 0395a7f0-3f96-11e8-91ce-d3e3deac0b3f
This distribution has been tested as part of the CPAN Testers
project, supporting the Perl programming language. See
http://wiki.cpantesters.org/ for more information or email
questions to cpan-testers-discuss@perl.org
--
Dear Tina Muller,
This is a computer-generated report for Mo-0.40
on perl 5.27.8, created by CPAN-Reporter-1.2018.
Thank you for uploading your work to CPAN. Congratulations!
All tests were successful.
Sections of this report:
* Tester comments
* Program output
* Prerequisites
* Environment and other context
------------------------------
TESTER COMMENTS
------------------------------
Additional comments from tester:
this report is from an automated smoke testing program
and was not reviewed by a human for accuracy
------------------------------
PROGRAM OUTPUT
------------------------------
Output from '/usr/bin/make test':
PERL_DL_NONLAZY=1 "/home/njh/perl5/perlbrew/perls/perl-5.27.8-thread-multi-ld/bin/perl5.27.8" "-MExtUtils::Command::MM" "-MTest::Harness" "-e" "undef *Test::Harness::Switches; test_harness(0, 'blib/lib', 'blib/arch')" t/*.t
#
#
# Generated by Dist::Zilla::Plugin::ReportVersions::Tiny v1.12
# perl: 5.027008 (wanted v5.6.0) on openbsd from /home/njh/perl5/perlbrew/perls/perl-5.27.8-thread-multi-ld/bin/perl5.27.8
#
# Class::XSAccessor => 1.19 (want any version)
# ExtUtils::MakeMaker => 7.3 (want any version)
# IO::All => module not found. (want any version)
# Moose => 2.2010 (want any version)
# Mouse => module not found. (want any version)
# Test::More => 1.302130 (want 0.96)
#
# Thanks for using my code. I hope it works for you.
# If not, please try and include this output in the bug report.
# That will help me reproduce the issue and solve your problem.
#
t/000-report-versions-tiny.t .. ok
t/author-00-compile.t ......... skipped: these tests are for testing by the author
t/author-pod-spell.t .......... skipped: these tests are for testing by the author
t/author-pod-syntax.t ......... skipped: these tests are for testing by the author
t/author-test-version.t ....... skipped: these tests are for testing by the author
t/build.t ..................... ok
t/builder.t ................... ok
t/chain.t ..................... ok
t/coerce.t .................... ok
t/combined.t .................. ok
t/default.t ................... ok
t/extends.t ................... ok
t/importer.t .................. ok
t/is.t ........................ ok
t/lazy-nonlazy.t .............. ok
t/main_sub.t .................. ok
t/Moose.t ..................... ok
t/Mouse.t ..................... skipped: Mouse is needed
t/object.t .................... ok
t/option.t .................... ok
t/release-correct-version.t ... skipped: these tests are for release candidate testing
t/release-distmeta.t .......... skipped: these tests are for release candidate testing
t/release-eol.t ............... skipped: these tests are for release candidate testing
t/release-no-tabs.t ........... skipped: these tests are for release candidate testing
t/required.t .................. ok
t/strict.t .................... ok
t/test.t ...................... ok
t/xs.t ........................ ok
All tests successful.
Files=28, Tests=153, 19 wallclock secs ( 0.47 usr 0.45 sys + 12.59 cusr 4.87 csys = 18.38 CPU)
Result: PASS
------------------------------
PREREQUISITES
------------------------------
Prerequisite modules loaded:
requires:
Module Need Have
------------------- -------- --------
perl 5.006000 5.027008
build_requires:
Module Need Have
------------------- -------- --------
ExtUtils::MakeMaker 0 7.30
Test::More 0.96 1.302130
configure_requires:
Module Need Have
------------------- -------- --------
ExtUtils::MakeMaker 0 7.30
------------------------------
ENVIRONMENT AND OTHER CONTEXT
------------------------------
Environment variables:
AUTOMATED_TESTING = 1
PATH = /home/njh/perl5/perlbrew/bin:/home/njh/perl5/perlbrew/perls/perl-5.27.8-thread-multi-ld/bin:src/njh/smoker/bin:/usr/bin:/bin:/usr/sbin:/sbin:/usr/X11R6/bin:/usr/local/bin:/usr/local/sbin
PERL5LIB = /home/njh/.cpan/build/Data-Sah-Normalize-0.04-0/blib/arch:/home/njh/.cpan/build/Data-Sah-Normalize-0.04-0/blib/lib:/home/njh/.cpan/build/Data-Sah-Coerce-0.024-0/blib/arch:/home/njh/.cpan/build/Data-Sah-Coerce-0.024-0/blib/lib:/home/njh/.cpan/build/PERLANCAR-Module-List-0.003005-0/blib/arch:/home/njh/.cpan/build/PERLANCAR-Module-List-0.003005-0/blib/lib:/home/njh/.cpan/build/Nodejs-Util-0.012-0/blib/arch:/home/njh/.cpan/build/Nodejs-Util-0.012-0/blib/lib:/home/njh/.cpan/build/Log-ger-0.023-0/blib/arch:/home/njh/.cpan/build/Log-ger-0.023-0/blib/lib:/home/njh/.cpan/build/IPC-System-Options-0.330-0/blib/arch:/home/njh/.cpan/build/IPC-System-Options-0.330-0/blib/lib:/home/njh/.cpan/build/String-ShellQuote-1.04-0/blib/arch:/home/njh/.cpan/build/String-ShellQuote-1.04-0/blib/lib:/home/njh/.cpan/build/Proc-ChildError-0.04-0/blib/arch:/home/njh/.cpan/build/Proc-ChildError-0.04-0/blib/lib:/home/njh/.cpan/build/Data-Dmp-0.23-0/blib/arch:/home/njh/.cpan/build/Data-Dmp-0.23-0/blib/lib:/home/njh/.cpan/build/Regexp-Stringify-0.06-0/blib/arch:/home/njh/.cpan/build/Regexp-Stringify-0.06-0/blib/lib:/home/njh/.cpan/build/Browser-Open-0.04-4/blib/arch:/home/njh/.cpan/build/Browser-Open-0.04-4/blib/lib
PERL5OPT =
PERL5_CPANPLUS_IS_RUNNING = 20898
PERL5_CPAN_IS_RUNNING = 20898
PERLBREW_HOME = /home/njh/.perlbrew
PERLBREW_MANPATH = /home/njh/perl5/perlbrew/perls/perl-5.27.8-thread-multi-ld/man
PERLBREW_PATH = /home/njh/perl5/perlbrew/bin:/home/njh/perl5/perlbrew/perls/perl-5.27.8-thread-multi-ld/bin
PERLBREW_PERL = perl-5.27.8-thread-multi-ld
PERLBREW_ROOT = /home/njh/perl5/perlbrew
PERLBREW_SHELLRC_VERSION = 0.82
PERLBREW_VERSION = 0.82
PERL_USE_UNSAFE_INC = 1
SHELL = /bin/sh
Perl special variables (and OS-specific diagnostics, for MSWin32):
$^X = /home/njh/perl5/perlbrew/perls/perl-5.27.8-thread-multi-ld/bin/perl5.27.8
$UID/$EUID = 1000 / 1000
$GID = 1000 1000 0
$EGID = 1000 1000 0
Perl module toolchain versions installed:
Module Have
------------------- --------
CPAN 2.20
CPAN::Meta 2.150010
Cwd 3.72
ExtUtils::CBuilder 0.280230
ExtUtils::Command 7.30
ExtUtils::Install 2.14
ExtUtils::MakeMaker 7.30
ExtUtils::Manifest 1.70
ExtUtils::ParseXS 3.36
File::Spec 3.72
JSON 2.97001
JSON::PP 2.97001
Module::Build 0.4224
Module::Signature n/a
Parse::CPAN::Meta 2.150010
Test::Harness 3.39
Test::More 1.302130
YAML 1.24
YAML::Syck n/a
version 0.9918
--
Summary of my perl5 (revision 5 version 27 subversion 8) configuration:
Platform:
osname=openbsd
osvers=6.2
archname=OpenBSD.amd64-openbsd-thread-multi-ld
uname='openbsd netgate1.bandsman.co.uk 6.2 generic.mp#5 amd64 '
config_args='-de -Dprefix=/home/njh/perl5/perlbrew/perls/perl-5.27.8-thread-multi-ld -Dusedevel -Duselongdouble -Dusethreads -Dusemultiplicity -Dusedevel -Accflags=-O2 -W -Wformat=2 -Wswitch -Wshadow -Wwrite-strings -Wuninitialized -Wall -pipe -mtune=native -march=native -fomit-frame-pointer -ftree-vectorize -fdiagnostics-color=auto -Aeval:scriptdir=/home/njh/perl5/perlbrew/perls/perl-5.27.8-thread-multi-ld/bin'
hint=recommended
useposix=true
d_sigaction=define
useithreads=define
usemultiplicity=define
use64bitint=define
use64bitall=define
uselongdouble=define
usemymalloc=n
default_inc_excludes_dot=define
bincompat5005=undef
Compiler:
cc='cc'
ccflags ='-pthread -O2 -W -Wformat=2 -Wswitch -Wshadow -Wwrite-strings -Wuninitialized -Wall -pipe -mtune=native -march=native -fomit-frame-pointer -ftree-vectorize -fdiagnostics-color=auto -fno-strict-aliasing -fstack-protector-strong -I/usr/local/include -D_FORTIFY_SOURCE=2'
optimize='-O2'
cppflags='-pthread -O2 -W -Wformat=2 -Wswitch -Wshadow -Wwrite-strings -Wuninitialized -Wall -pipe -mtune=native -march=native -fomit-frame-pointer -ftree-vectorize -fdiagnostics-color=auto -fno-strict-aliasing -fstack-protector-strong -I/usr/local/include'
ccversion=''
gccversion='4.2.1 Compatible OpenBSD Clang 4.0.0 (tags/RELEASE_400/final)'
gccosandvers=''
intsize=4
longsize=8
ptrsize=8
doublesize=8
byteorder=12345678
doublekind=3
d_longlong=define
longlongsize=8
d_longdbl=define
longdblsize=16
longdblkind=3
ivtype='long'
ivsize=8
nvtype='long double'
nvsize=16
Off_t='off_t'
lseeksize=8
alignbytes=16
prototype=define
Linker and Libraries:
ld='cc'
ldflags ='-pthread -Wl,-E -fstack-protector-strong -L/usr/local/lib'
libpth=/usr/lib /usr/local/lib
libs=-lpthread -lm -lutil -lc
perllibs=-lpthread -lm -lutil -lc
libc=/usr/lib/libc.so.90.0
so=so
useshrplib=false
libperl=libperl.a
gnulibc_version=''
Dynamic Linking:
dlsrc=dl_dlopen.xs
dlext=so
d_dlsymun=undef
ccdlflags=' '
cccdlflags='-DPIC -fPIC '
lddlflags='-shared -fPIC -L/usr/local/lib -fstack-protector-strong'
Characteristics of this binary (from libperl):
Compile-time options:
HAS_TIMES
MULTIPLICITY
PERLIO_LAYERS
PERL_COPY_ON_WRITE
PERL_DONT_CREATE_GVSV
PERL_IMPLICIT_CONTEXT
PERL_MALLOC_WRAP
PERL_OP_PARENT
PERL_PRESERVE_IVUV
PERL_USE_DEVEL
USE_64_BIT_ALL
USE_64_BIT_INT
USE_ITHREADS
USE_LARGE_FILES
USE_LOCALE
USE_LOCALE_COLLATE
USE_LOCALE_CTYPE
USE_LOCALE_NUMERIC
USE_LOCALE_TIME
USE_LONG_DOUBLE
USE_PERLIO
USE_PERL_ATOF
USE_REENTRANT_API
Locally applied patches:
Devel::PatchPerl 1.48
Built under openbsd
Compiled at Mar 5 2018 10:05:42
%ENV:
PERL5LIB="/home/njh/.cpan/build/Data-Sah-Normalize-0.04-0/blib/arch:/home/njh/.cpan/build/Data-Sah-Normalize-0.04-0/blib/lib:/home/njh/.cpan/build/Data-Sah-Coerce-0.024-0/blib/arch:/home/njh/.cpan/build/Data-Sah-Coerce-0.024-0/blib/lib:/home/njh/.cpan/build/PERLANCAR-Module-List-0.003005-0/blib/arch:/home/njh/.cpan/build/PERLANCAR-Module-List-0.003005-0/blib/lib:/home/njh/.cpan/build/Nodejs-Util-0.012-0/blib/arch:/home/njh/.cpan/build/Nodejs-Util-0.012-0/blib/lib:/home/njh/.cpan/build/Log-ger-0.023-0/blib/arch:/home/njh/.cpan/build/Log-ger-0.023-0/blib/lib:/home/njh/.cpan/build/IPC-System-Options-0.330-0/blib/arch:/home/njh/.cpan/build/IPC-System-Options-0.330-0/blib/lib:/home/njh/.cpan/build/String-ShellQuote-1.04-0/blib/arch:/home/njh/.cpan/build/String-ShellQuote-1.04-0/blib/lib:/home/njh/.cpan/build/Proc-ChildError-0.04-0/blib/arch:/home/njh/.cpan/build/Proc-ChildError-0.04-0/blib/lib:/home/njh/.cpan/build/Data-Dmp-0.23-0/blib/arch:/home/njh/.cpan/build/Data-Dmp-0.23-0/blib/lib:/home/njh/.cpan/build/Regexp-Stringify-0.06-0/blib/arch:/home/njh/.cpan/build/Regexp-Stringify-0.06-0/blib/lib:/home/njh/.cpan/build/Browser-Open-0.04-4/blib/arch:/home/njh/.cpan/build/Browser-Open-0.04-4/blib/lib"
PERL5OPT=""
PERL5_CPANPLUS_IS_RUNNING="20898"
PERL5_CPAN_IS_RUNNING="20898"
PERLBREW_HOME="/home/njh/.perlbrew"
PERLBREW_MANPATH="/home/njh/perl5/perlbrew/perls/perl-5.27.8-thread-multi-ld/man"
PERLBREW_PATH="/home/njh/perl5/perlbrew/bin:/home/njh/perl5/perlbrew/perls/perl-5.27.8-thread-multi-ld/bin"
PERLBREW_PERL="perl-5.27.8-thread-multi-ld"
PERLBREW_ROOT="/home/njh/perl5/perlbrew"
PERLBREW_SHELLRC_VERSION="0.82"
PERLBREW_VERSION="0.82"
PERL_USE_UNSAFE_INC="1"
@INC:
/home/njh/.cpan/build/Data-Sah-Normalize-0.04-0/blib/arch
/home/njh/.cpan/build/Data-Sah-Normalize-0.04-0/blib/lib
/home/njh/.cpan/build/Data-Sah-Coerce-0.024-0/blib/arch
/home/njh/.cpan/build/Data-Sah-Coerce-0.024-0/blib/lib
/home/njh/.cpan/build/PERLANCAR-Module-List-0.003005-0/blib/arch
/home/njh/.cpan/build/PERLANCAR-Module-List-0.003005-0/blib/lib
/home/njh/.cpan/build/Nodejs-Util-0.012-0/blib/arch
/home/njh/.cpan/build/Nodejs-Util-0.012-0/blib/lib
/home/njh/.cpan/build/Log-ger-0.023-0/blib/arch
/home/njh/.cpan/build/Log-ger-0.023-0/blib/lib
/home/njh/.cpan/build/IPC-System-Options-0.330-0/blib/arch
/home/njh/.cpan/build/IPC-System-Options-0.330-0/blib/lib
/home/njh/.cpan/build/String-ShellQuote-1.04-0/blib/arch
/home/njh/.cpan/build/String-ShellQuote-1.04-0/blib/lib
/home/njh/.cpan/build/Proc-ChildError-0.04-0/blib/arch
/home/njh/.cpan/build/Proc-ChildError-0.04-0/blib/lib
/home/njh/.cpan/build/Data-Dmp-0.23-0/blib/arch
/home/njh/.cpan/build/Data-Dmp-0.23-0/blib/lib
/home/njh/.cpan/build/Regexp-Stringify-0.06-0/blib/arch
/home/njh/.cpan/build/Regexp-Stringify-0.06-0/blib/lib
/home/njh/.cpan/build/Browser-Open-0.04-4/blib/arch
/home/njh/.cpan/build/Browser-Open-0.04-4/blib/lib
/home/njh/perl5/perlbrew/perls/perl-5.27.8-thread-multi-ld/lib/site_perl/5.27.8/OpenBSD.amd64-openbsd-thread-multi-ld
/home/njh/perl5/perlbrew/perls/perl-5.27.8-thread-multi-ld/lib/site_perl/5.27.8
/home/njh/perl5/perlbrew/perls/perl-5.27.8-thread-multi-ld/lib/5.27.8/OpenBSD.amd64-openbsd-thread-multi-ld
/home/njh/perl5/perlbrew/perls/perl-5.27.8-thread-multi-ld/lib/5.27.8
.