App-ListSoftwareLicenses v0.03 Perl 5 v5.16.3 x86_64-linux-thread-multi

Status
Pass
From
David Cantrell (DCANTRELL)
Dist
App-ListSoftwareLicenses v0.03
Platform
Perl 5 v5.16.3 x86_64-linux-thread-multi
Date
2014-08-20T00:36:23
ID
031b9fa0-2802-11e4-a4ef-5e204a15a708
This distribution has been tested as part of the CPAN Testers
project, supporting the Perl programming language.  See
http://wiki.cpantesters.org/ for more information or email
questions to cpan-testers-discuss@perl.org


--
Dear Steven Haryanto,

This is a computer-generated report for App-ListSoftwareLicenses-0.03
on perl 5.16.3, created by CPAN-Reporter-1.2009.

Thank you for uploading your work to CPAN.  Congratulations!
All tests were successful.

Sections of this report:

    * Tester comments
    * Program output
    * Prerequisites
    * Environment and other context

------------------------------
TESTER COMMENTS
------------------------------

Additional comments from tester:

this report is from an automated smoke testing program
and was not reviewed by a human for accuracy

------------------------------
PROGRAM OUTPUT
------------------------------

Output from '/usr/bin/make test':

PERL_DL_NONLAZY=1 /home/david/cpantesting/perl-5.16.3/bin/perl "-MExtUtils::Command::MM" "-MTest::Harness" "-e" "undef *Test::Harness::Switches; test_harness(0, 'blib/lib', 'blib/arch')" t/*.t
Can't setlocale en_US at /home/david/cpantesting/perl-5.16.3/lib/site_perl/5.16.3/Perinci/Sub/Gen/AccessTable.pm line 84.
Can't setlocale en_US at /home/david/cpantesting/perl-5.16.3/lib/site_perl/5.16.3/Perinci/Sub/Gen/AccessTable.pm line 84.
Can't setlocale en_US at /home/david/cpantesting/perl-5.16.3/lib/site_perl/5.16.3/Perinci/Sub/Gen/AccessTable.pm line 93.
Can't setlocale en_US at /home/david/cpantesting/perl-5.16.3/lib/site_perl/5.16.3/Perinci/Sub/Gen/AccessTable.pm line 84.
Can't setlocale en_US at /home/david/cpantesting/perl-5.16.3/lib/site_perl/5.16.3/Perinci/Sub/Gen/AccessTable.pm line 84.
Can't setlocale en_US at /home/david/cpantesting/perl-5.16.3/lib/site_perl/5.16.3/Perinci/Sub/Gen/AccessTable.pm line 93.
Can't setlocale en_US at /home/david/cpantesting/perl-5.16.3/lib/site_perl/5.16.3/Perinci/Sub/Gen/AccessTable.pm line 84.
Can't setlocale en_US at /home/david/cpantesting/perl-5.16.3/lib/site_perl/5.16.3/Perinci/Sub/Gen/AccessTable.pm line 93.
Can't setlocale en_US at /home/david/cpantesting/perl-5.16.3/lib/site_perl/5.16.3/Perinci/Sub/Gen/AccessTable.pm line 84.
Can't setlocale en_US at /home/david/cpantesting/perl-5.16.3/lib/site_perl/5.16.3/Perinci/Sub/Gen/AccessTable.pm line 84.
Can't setlocale en_US at /home/david/cpantesting/perl-5.16.3/lib/site_perl/5.16.3/Perinci/Sub/Gen/AccessTable.pm line 93.
Can't setlocale en_US at /home/david/cpantesting/perl-5.16.3/lib/site_perl/5.16.3/Perinci/Sub/Gen/AccessTable.pm line 84.
Can't setlocale en_US at /home/david/cpantesting/perl-5.16.3/lib/site_perl/5.16.3/Perinci/Sub/Gen/AccessTable.pm line 93.
Can't setlocale en_US at /home/david/cpantesting/perl-5.16.3/lib/site_perl/5.16.3/Perinci/Sub/Gen/AccessTable.pm line 84.
Can't setlocale en_US at /home/david/cpantesting/perl-5.16.3/lib/site_perl/5.16.3/Perinci/Sub/Gen/AccessTable.pm line 93.
Can't setlocale en_US at /home/david/cpantesting/perl-5.16.3/lib/site_perl/5.16.3/Perinci/Sub/Gen/AccessTable.pm line 84.
Can't setlocale en_US at /home/david/cpantesting/perl-5.16.3/lib/site_perl/5.16.3/Perinci/Sub/Gen/AccessTable.pm line 93.
Can't setlocale en_US at /home/david/cpantesting/perl-5.16.3/lib/site_perl/5.16.3/Perinci/Sub/Gen/AccessTable.pm line 84.
Can't setlocale en_US at /home/david/cpantesting/perl-5.16.3/lib/site_perl/5.16.3/Perinci/Sub/Gen/AccessTable.pm line 93.
Can't setlocale en_US at /home/david/cpantesting/perl-5.16.3/lib/site_perl/5.16.3/Perinci/Sub/Gen/AccessTable.pm line 84.
Can't setlocale en_US at /home/david/cpantesting/perl-5.16.3/lib/site_perl/5.16.3/Perinci/Sub/Gen/AccessTable.pm line 93.
Can't setlocale en_US at /home/david/cpantesting/perl-5.16.3/lib/site_perl/5.16.3/Perinci/Sub/Gen/AccessTable.pm line 84.
Can't setlocale en_US at /home/david/cpantesting/perl-5.16.3/lib/site_perl/5.16.3/Perinci/Sub/Gen/AccessTable.pm line 93.
Can't setlocale en_US at /home/david/cpantesting/perl-5.16.3/lib/site_perl/5.16.3/Perinci/Sub/Gen/AccessTable.pm line 84.
Can't setlocale en_US at /home/david/cpantesting/perl-5.16.3/lib/site_perl/5.16.3/Perinci/Sub/Gen/AccessTable.pm line 93.
Can't setlocale en_US at /home/david/cpantesting/perl-5.16.3/lib/site_perl/5.16.3/Perinci/Sub/Gen/AccessTable.pm line 84.
Can't setlocale en_US at /home/david/cpantesting/perl-5.16.3/lib/site_perl/5.16.3/Perinci/Sub/Gen/AccessTable.pm line 93.
Can't setlocale en_US at /home/david/cpantesting/perl-5.16.3/lib/site_perl/5.16.3/Perinci/Sub/Gen/AccessTable.pm line 84.
Can't setlocale en_US at /home/david/cpantesting/perl-5.16.3/lib/site_perl/5.16.3/Perinci/Sub/Gen/AccessTable.pm line 93.
Can't setlocale en_US at /home/david/cpantesting/perl-5.16.3/lib/site_perl/5.16.3/Perinci/Sub/Gen/AccessTable.pm line 84.
Can't setlocale en_US at /home/david/cpantesting/perl-5.16.3/lib/site_perl/5.16.3/Perinci/Sub/Gen/AccessTable.pm line 93.
Can't setlocale en_US at /home/david/cpantesting/perl-5.16.3/lib/site_perl/5.16.3/Perinci/Sub/Gen/AccessTable.pm line 84.
Can't setlocale en_US at /home/david/cpantesting/perl-5.16.3/lib/site_perl/5.16.3/Perinci/Sub/Gen/AccessTable.pm line 93.
Can't setlocale en_US at /home/david/cpantesting/perl-5.16.3/lib/site_perl/5.16.3/Perinci/Sub/Gen/AccessTable.pm line 84.
Can't setlocale en_US at /home/david/cpantesting/perl-5.16.3/lib/site_perl/5.16.3/Perinci/Sub/Gen/AccessTable.pm line 93.
Can't setlocale en_US at /home/david/cpantesting/perl-5.16.3/lib/site_perl/5.16.3/Perinci/Sub/Gen/AccessTable.pm line 84.
Can't setlocale en_US at /home/david/cpantesting/perl-5.16.3/lib/site_perl/5.16.3/Perinci/Sub/Gen/AccessTable.pm line 93.
Can't setlocale en_US at /home/david/cpantesting/perl-5.16.3/lib/site_perl/5.16.3/Perinci/Sub/Gen/AccessTable.pm line 84.
Can't setlocale en_US at /home/david/cpantesting/perl-5.16.3/lib/site_perl/5.16.3/Perinci/Sub/Gen/AccessTable.pm line 93.
Can't setlocale en_US at /home/david/cpantesting/perl-5.16.3/lib/site_perl/5.16.3/Perinci/Sub/Gen/AccessTable.pm line 84.
Can't setlocale en_US at /home/david/cpantesting/perl-5.16.3/lib/site_perl/5.16.3/Perinci/Sub/Gen/AccessTable.pm line 93.
Can't setlocale en_US at /home/david/cpantesting/perl-5.16.3/lib/site_perl/5.16.3/Perinci/Sub/Gen/AccessTable.pm line 84.
Can't setlocale en_US at /home/david/cpantesting/perl-5.16.3/lib/site_perl/5.16.3/Perinci/Sub/Gen/AccessTable.pm line 93.
Can't setlocale en_US at /home/david/cpantesting/perl-5.16.3/lib/site_perl/5.16.3/Perinci/Sub/Gen/AccessTable.pm line 84.
Can't setlocale en_US at /home/david/cpantesting/perl-5.16.3/lib/site_perl/5.16.3/Perinci/Sub/Gen/AccessTable.pm line 93.
Can't setlocale en_US at /home/david/cpantesting/perl-5.16.3/lib/site_perl/5.16.3/Perinci/Sub/Gen/AccessTable.pm line 84.
Can't setlocale en_US at /home/david/cpantesting/perl-5.16.3/lib/site_perl/5.16.3/Perinci/Sub/Gen/AccessTable.pm line 93.
Can't setlocale en_US at /home/david/cpantesting/perl-5.16.3/lib/site_perl/5.16.3/Perinci/Sub/Gen/AccessTable.pm line 84.
Can't setlocale en_US at /home/david/cpantesting/perl-5.16.3/lib/site_perl/5.16.3/Perinci/Sub/Gen/AccessTable.pm line 93.
Can't setlocale en_US at /home/david/cpantesting/perl-5.16.3/lib/site_perl/5.16.3/Perinci/Sub/Gen/AccessTable.pm line 84.
Can't setlocale en_US at /home/david/cpantesting/perl-5.16.3/lib/site_perl/5.16.3/Perinci/Sub/Gen/AccessTable.pm line 93.
Can't setlocale en_US at /home/david/cpantesting/perl-5.16.3/lib/site_perl/5.16.3/Perinci/Sub/Gen/AccessTable.pm line 84.
Can't setlocale en_US at /home/david/cpantesting/perl-5.16.3/lib/site_perl/5.16.3/Perinci/Sub/Gen/AccessTable.pm line 93.
Can't setlocale en_US at /home/david/cpantesting/perl-5.16.3/lib/site_perl/5.16.3/Perinci/Sub/Gen/AccessTable.pm line 84.
Can't setlocale en_US at /home/david/cpantesting/perl-5.16.3/lib/site_perl/5.16.3/Perinci/Sub/Gen/AccessTable.pm line 93.
Can't setlocale en_US at /home/david/cpantesting/perl-5.16.3/lib/site_perl/5.16.3/Perinci/Sub/Gen/AccessTable.pm line 84.
Can't setlocale en_US at /home/david/cpantesting/perl-5.16.3/lib/site_perl/5.16.3/Perinci/Sub/Gen/AccessTable.pm line 93.
Can't setlocale en_US at /home/david/cpantesting/perl-5.16.3/lib/site_perl/5.16.3/Perinci/Sub/Gen/AccessTable.pm line 84.
Can't setlocale en_US at /home/david/cpantesting/perl-5.16.3/lib/site_perl/5.16.3/Perinci/Sub/Gen/AccessTable.pm line 93.
Can't setlocale en_US at /home/david/cpantesting/perl-5.16.3/lib/site_perl/5.16.3/Perinci/Sub/Gen/AccessTable.pm line 84.
Can't setlocale en_US at /home/david/cpantesting/perl-5.16.3/lib/site_perl/5.16.3/Perinci/Sub/Gen/AccessTable.pm line 93.
Can't setlocale en_US at /home/david/cpantesting/perl-5.16.3/lib/site_perl/5.16.3/Perinci/Sub/Gen/AccessTable.pm line 84.
Can't setlocale en_US at /home/david/cpantesting/perl-5.16.3/lib/site_perl/5.16.3/Perinci/Sub/Gen/AccessTable.pm line 93.
Can't setlocale en_US at /home/david/cpantesting/perl-5.16.3/lib/site_perl/5.16.3/Perinci/Sub/Gen/AccessTable.pm line 84.
Can't setlocale en_US at /home/david/cpantesting/perl-5.16.3/lib/site_perl/5.16.3/Perinci/Sub/Gen/AccessTable.pm line 93.
Can't setlocale en_US at /home/david/cpantesting/perl-5.16.3/lib/site_perl/5.16.3/Perinci/Sub/Gen/AccessTable.pm line 84.
Can't setlocale en_US at /home/david/cpantesting/perl-5.16.3/lib/site_perl/5.16.3/Perinci/Sub/Gen/AccessTable.pm line 93.
Can't setlocale en_US at /home/david/cpantesting/perl-5.16.3/lib/site_perl/5.16.3/Perinci/Sub/Gen/AccessTable.pm line 84.
Can't setlocale en_US at /home/david/cpantesting/perl-5.16.3/lib/site_perl/5.16.3/Perinci/Sub/Gen/AccessTable.pm line 93.
Can't setlocale en_US at /home/david/cpantesting/perl-5.16.3/lib/site_perl/5.16.3/Perinci/Sub/Gen/AccessTable.pm line 84.
Can't setlocale en_US at /home/david/cpantesting/perl-5.16.3/lib/site_perl/5.16.3/Perinci/Sub/Gen/AccessTable.pm line 93.
Can't setlocale en_US at /home/david/cpantesting/perl-5.16.3/lib/site_perl/5.16.3/Perinci/Sub/Gen/AccessTable.pm line 84.
Can't setlocale en_US at /home/david/cpantesting/perl-5.16.3/lib/site_perl/5.16.3/Perinci/Sub/Gen/AccessTable.pm line 93.
Can't setlocale en_US at /home/david/cpantesting/perl-5.16.3/lib/site_perl/5.16.3/Perinci/Sub/Gen/AccessTable.pm line 84.
Can't setlocale en_US at /home/david/cpantesting/perl-5.16.3/lib/site_perl/5.16.3/Perinci/Sub/Gen/AccessTable.pm line 93.
Can't setlocale en_US at /home/david/cpantesting/perl-5.16.3/lib/site_perl/5.16.3/Perinci/Sub/Gen/AccessTable.pm line 84.
Can't setlocale en_US at /home/david/cpantesting/perl-5.16.3/lib/site_perl/5.16.3/Perinci/Sub/Gen/AccessTable.pm line 93.
Can't setlocale en_US at /home/david/cpantesting/perl-5.16.3/lib/site_perl/5.16.3/Perinci/Sub/Gen/AccessTable.pm line 84.
Can't setlocale en_US at /home/david/cpantesting/perl-5.16.3/lib/site_perl/5.16.3/Perinci/Sub/Gen/AccessTable.pm line 93.
Can't setlocale en_US at /home/david/cpantesting/perl-5.16.3/lib/site_perl/5.16.3/Perinci/Sub/Gen/AccessTable.pm line 84.
Can't setlocale en_US at /home/david/cpantesting/perl-5.16.3/lib/site_perl/5.16.3/Perinci/Sub/Gen/AccessTable.pm line 93.
Can't setlocale en_US at /home/david/cpantesting/perl-5.16.3/lib/site_perl/5.16.3/Perinci/Sub/Gen/AccessTable.pm line 84.
Can't setlocale en_US at /home/david/cpantesting/perl-5.16.3/lib/site_perl/5.16.3/Perinci/Sub/Gen/AccessTable.pm line 93.
Can't setlocale en_US at /home/david/cpantesting/perl-5.16.3/lib/site_perl/5.16.3/Perinci/Sub/Gen/AccessTable.pm line 84.
Can't setlocale en_US at /home/david/cpantesting/perl-5.16.3/lib/site_perl/5.16.3/Perinci/Sub/Gen/AccessTable.pm line 93.
Can't setlocale en_US at /home/david/cpantesting/perl-5.16.3/lib/site_perl/5.16.3/Perinci/Sub/Gen/AccessTable.pm line 84.
Can't setlocale en_US at /home/david/cpantesting/perl-5.16.3/lib/site_perl/5.16.3/Perinci/Sub/Gen/AccessTable.pm line 93.
Can't setlocale en_US at /home/david/cpantesting/perl-5.16.3/lib/site_perl/5.16.3/Perinci/Sub/Gen/AccessTable.pm line 84.
Can't setlocale en_US at /home/david/cpantesting/perl-5.16.3/lib/site_perl/5.16.3/Perinci/Sub/Gen/AccessTable.pm line 93.
Can't setlocale en_US at /home/david/cpantesting/perl-5.16.3/lib/site_perl/5.16.3/Perinci/Sub/Gen/AccessTable.pm line 84.
Can't setlocale en_US at /home/david/cpantesting/perl-5.16.3/lib/site_perl/5.16.3/Perinci/Sub/Gen/AccessTable.pm line 93.
Can't setlocale en_US at /home/david/cpantesting/perl-5.16.3/lib/site_perl/5.16.3/Perinci/Sub/Gen/AccessTable.pm line 84.
Can't setlocale en_US at /home/david/cpantesting/perl-5.16.3/lib/site_perl/5.16.3/Perinci/Sub/Gen/AccessTable.pm line 93.
Can't setlocale en_US at /home/david/cpantesting/perl-5.16.3/lib/site_perl/5.16.3/Perinci/Sub/Gen/AccessTable.pm line 84.
Can't setlocale en_US at /home/david/cpantesting/perl-5.16.3/lib/site_perl/5.16.3/Perinci/Sub/Gen/AccessTable.pm line 93.
Can't setlocale en_US at /home/david/cpantesting/perl-5.16.3/lib/site_perl/5.16.3/Perinci/Sub/Gen/AccessTable.pm line 84.
Can't setlocale en_US at /home/david/cpantesting/perl-5.16.3/lib/site_perl/5.16.3/Perinci/Sub/Gen/AccessTable.pm line 93.
Can't setlocale en_US at /home/david/cpantesting/perl-5.16.3/lib/site_perl/5.16.3/Perinci/Sub/Gen/AccessTable.pm line 84.
Can't setlocale en_US at /home/david/cpantesting/perl-5.16.3/lib/site_perl/5.16.3/Perinci/Sub/Gen/AccessTable.pm line 93.
Can't setlocale en_US at /home/david/cpantesting/perl-5.16.3/lib/site_perl/5.16.3/Perinci/Sub/Gen/AccessTable.pm line 84.
Can't setlocale en_US at /home/david/cpantesting/perl-5.16.3/lib/site_perl/5.16.3/Perinci/Sub/Gen/AccessTable.pm line 93.
Can't setlocale en_US at /home/david/cpantesting/perl-5.16.3/lib/site_perl/5.16.3/Perinci/Sub/Gen/AccessTable.pm line 84.
Can't setlocale en_US at /home/david/cpantesting/perl-5.16.3/lib/site_perl/5.16.3/Perinci/Sub/Gen/AccessTable.pm line 93.
Can't setlocale en_US at /home/david/cpantesting/perl-5.16.3/lib/site_perl/5.16.3/Perinci/Sub/Gen/AccessTable.pm line 84.
Can't setlocale en_US at /home/david/cpantesting/perl-5.16.3/lib/site_perl/5.16.3/Perinci/Sub/Gen/AccessTable.pm line 93.
Can't setlocale en_US at /home/david/cpantesting/perl-5.16.3/lib/site_perl/5.16.3/Perinci/Sub/Gen/AccessTable.pm line 84.
Can't setlocale en_US at /home/david/cpantesting/perl-5.16.3/lib/site_perl/5.16.3/Perinci/Sub/Gen/AccessTable.pm line 93.
Can't setlocale en_US at /home/david/cpantesting/perl-5.16.3/lib/site_perl/5.16.3/Perinci/Sub/Gen/AccessTable.pm line 84.
Can't setlocale en_US at /home/david/cpantesting/perl-5.16.3/lib/site_perl/5.16.3/Perinci/Sub/Gen/AccessTable.pm line 93.
Can't setlocale en_US at /home/david/cpantesting/perl-5.16.3/lib/site_perl/5.16.3/Perinci/Sub/Gen/AccessTable.pm line 84.
Can't setlocale en_US at /home/david/cpantesting/perl-5.16.3/lib/site_perl/5.16.3/Perinci/Sub/Gen/AccessTable.pm line 93.
Can't setlocale en_US at /home/david/cpantesting/perl-5.16.3/lib/site_perl/5.16.3/Perinci/Sub/Gen/AccessTable.pm line 84.
Can't setlocale en_US at /home/david/cpantesting/perl-5.16.3/lib/site_perl/5.16.3/Perinci/Sub/Gen/AccessTable.pm line 93.
Can't setlocale en_US at /home/david/cpantesting/perl-5.16.3/lib/site_perl/5.16.3/Perinci/Sub/Gen/AccessTable.pm line 84.
Can't setlocale en_US at /home/david/cpantesting/perl-5.16.3/lib/site_perl/5.16.3/Perinci/Sub/Gen/AccessTable.pm line 93.
Can't setlocale en_US at /home/david/cpantesting/perl-5.16.3/lib/site_perl/5.16.3/Perinci/Sub/Gen/AccessTable.pm line 84.
Can't setlocale en_US at /home/david/cpantesting/perl-5.16.3/lib/site_perl/5.16.3/Perinci/Sub/Gen/AccessTable.pm line 93.
Can't setlocale en_US at /home/david/cpantesting/perl-5.16.3/lib/site_perl/5.16.3/Perinci/Sub/Gen/AccessTable.pm line 84.
Can't setlocale en_US at /home/david/cpantesting/perl-5.16.3/lib/site_perl/5.16.3/Perinci/Sub/Gen/AccessTable.pm line 93.
Can't setlocale en_US at /home/david/cpantesting/perl-5.16.3/lib/site_perl/5.16.3/Perinci/Sub/Gen/AccessTable.pm line 84.
Can't setlocale en_US at /home/david/cpantesting/perl-5.16.3/lib/site_perl/5.16.3/Perinci/Sub/Gen/AccessTable.pm line 93.
Can't setlocale en_US at /home/david/cpantesting/perl-5.16.3/lib/site_perl/5.16.3/Perinci/Sub/Gen/AccessTable.pm line 84.
Can't setlocale en_US at /home/david/cpantesting/perl-5.16.3/lib/site_perl/5.16.3/Perinci/Sub/Gen/AccessTable.pm line 93.
Can't setlocale en_US at /home/david/cpantesting/perl-5.16.3/lib/site_perl/5.16.3/Perinci/Sub/Gen/AccessTable.pm line 84.
Can't setlocale en_US at /home/david/cpantesting/perl-5.16.3/lib/site_perl/5.16.3/Perinci/Sub/Gen/AccessTable.pm line 93.
Can't setlocale en_US at /home/david/cpantesting/perl-5.16.3/lib/site_perl/5.16.3/Perinci/Sub/Gen/AccessTable.pm line 84.
Can't setlocale en_US at /home/david/cpantesting/perl-5.16.3/lib/site_perl/5.16.3/Perinci/Sub/Gen/AccessTable.pm line 93.
Can't setlocale en_US at /home/david/cpantesting/perl-5.16.3/lib/site_perl/5.16.3/Perinci/Sub/Gen/AccessTable.pm line 84.
Can't setlocale en_US at /home/david/cpantesting/perl-5.16.3/lib/site_perl/5.16.3/Perinci/Sub/Gen/AccessTable.pm line 93.
Can't setlocale en_US at /home/david/cpantesting/perl-5.16.3/lib/site_perl/5.16.3/Perinci/Sub/Gen/AccessTable.pm line 84.
Can't setlocale en_US at /home/david/cpantesting/perl-5.16.3/lib/site_perl/5.16.3/Perinci/Sub/Gen/AccessTable.pm line 93.
Can't setlocale en_US at /home/david/cpantesting/perl-5.16.3/lib/site_perl/5.16.3/Perinci/Sub/Gen/AccessTable.pm line 84.
Can't setlocale en_US at /home/david/cpantesting/perl-5.16.3/lib/site_perl/5.16.3/Perinci/Sub/Gen/AccessTable.pm line 93.
Can't setlocale en_US at /home/david/cpantesting/perl-5.16.3/lib/site_perl/5.16.3/Perinci/Sub/Gen/AccessTable.pm line 84.
Can't setlocale en_US at /home/david/cpantesting/perl-5.16.3/lib/site_perl/5.16.3/Perinci/Sub/Gen/AccessTable.pm line 93.
Can't setlocale en_US at /home/david/cpantesting/perl-5.16.3/lib/site_perl/5.16.3/Perinci/Sub/Gen/AccessTable.pm line 84.
Can't setlocale en_US at /home/david/cpantesting/perl-5.16.3/lib/site_perl/5.16.3/Perinci/Sub/Gen/AccessTable.pm line 93.
Can't setlocale en_US at /home/david/cpantesting/perl-5.16.3/lib/site_perl/5.16.3/Perinci/Sub/Gen/AccessTable.pm line 84.
Can't setlocale en_US at /home/david/cpantesting/perl-5.16.3/lib/site_perl/5.16.3/Perinci/Sub/Gen/AccessTable.pm line 93.
Can't setlocale en_US at /home/david/cpantesting/perl-5.16.3/lib/site_perl/5.16.3/Perinci/Sub/Gen/AccessTable.pm line 84.
Can't setlocale en_US at /home/david/cpantesting/perl-5.16.3/lib/site_perl/5.16.3/Perinci/Sub/Gen/AccessTable.pm line 93.
Can't setlocale en_US at /home/david/cpantesting/perl-5.16.3/lib/site_perl/5.16.3/Perinci/Sub/Gen/AccessTable.pm line 84.
Can't setlocale en_US at /home/david/cpantesting/perl-5.16.3/lib/site_perl/5.16.3/Perinci/Sub/Gen/AccessTable.pm line 93.
Can't setlocale en_US at /home/david/cpantesting/perl-5.16.3/lib/site_perl/5.16.3/Perinci/Sub/Gen/AccessTable.pm line 84.
Can't setlocale en_US at /home/david/cpantesting/perl-5.16.3/lib/site_perl/5.16.3/Perinci/Sub/Gen/AccessTable.pm line 93.
Can't setlocale en_US at /home/david/cpantesting/perl-5.16.3/lib/site_perl/5.16.3/Perinci/Sub/Gen/AccessTable.pm line 84.
Can't setlocale en_US at /home/david/cpantesting/perl-5.16.3/lib/site_perl/5.16.3/Perinci/Sub/Gen/AccessTable.pm line 93.
Can't setlocale en_US at /home/david/cpantesting/perl-5.16.3/lib/site_perl/5.16.3/Perinci/Sub/Gen/AccessTable.pm line 84.
Can't setlocale en_US at /home/david/cpantesting/perl-5.16.3/lib/site_perl/5.16.3/Perinci/Sub/Gen/AccessTable.pm line 93.
Can't setlocale en_US at /home/david/cpantesting/perl-5.16.3/lib/site_perl/5.16.3/Perinci/Sub/Gen/AccessTable.pm line 84.
Can't setlocale en_US at /home/david/cpantesting/perl-5.16.3/lib/site_perl/5.16.3/Perinci/Sub/Gen/AccessTable.pm line 93.
Can't setlocale en_US at /home/david/cpantesting/perl-5.16.3/lib/site_perl/5.16.3/Perinci/Sub/Gen/AccessTable.pm line 84.
Can't setlocale en_US at /home/david/cpantesting/perl-5.16.3/lib/site_perl/5.16.3/Perinci/Sub/Gen/AccessTable.pm line 93.
Can't setlocale en_US at /home/david/cpantesting/perl-5.16.3/lib/site_perl/5.16.3/Perinci/Sub/Gen/AccessTable.pm line 84.
Can't setlocale en_US at /home/david/cpantesting/perl-5.16.3/lib/site_perl/5.16.3/Perinci/Sub/Gen/AccessTable.pm line 93.
Can't setlocale en_US at /home/david/cpantesting/perl-5.16.3/lib/site_perl/5.16.3/Perinci/Sub/Gen/AccessTable.pm line 84.
Can't setlocale en_US at /home/david/cpantesting/perl-5.16.3/lib/site_perl/5.16.3/Perinci/Sub/Gen/AccessTable.pm line 93.
Can't setlocale en_US at /home/david/cpantesting/perl-5.16.3/lib/site_perl/5.16.3/Perinci/Sub/Gen/AccessTable.pm line 84.
Can't setlocale en_US at /home/david/cpantesting/perl-5.16.3/lib/site_perl/5.16.3/Perinci/Sub/Gen/AccessTable.pm line 93.
Can't setlocale en_US at /home/david/cpantesting/perl-5.16.3/lib/site_perl/5.16.3/Perinci/Sub/Gen/AccessTable.pm line 84.
Can't setlocale en_US at /home/david/cpantesting/perl-5.16.3/lib/site_perl/5.16.3/Perinci/Sub/Gen/AccessTable.pm line 93.
Can't setlocale en_US at /home/david/cpantesting/perl-5.16.3/lib/site_perl/5.16.3/Perinci/Sub/Gen/AccessTable.pm line 84.
Can't setlocale en_US at /home/david/cpantesting/perl-5.16.3/lib/site_perl/5.16.3/Perinci/Sub/Gen/AccessTable.pm line 93.
Can't setlocale en_US at /home/david/cpantesting/perl-5.16.3/lib/site_perl/5.16.3/Perinci/Sub/Gen/AccessTable.pm line 84.
Can't setlocale en_US at /home/david/cpantesting/perl-5.16.3/lib/site_perl/5.16.3/Perinci/Sub/Gen/AccessTable.pm line 93.
Can't setlocale en_US at /home/david/cpantesting/perl-5.16.3/lib/site_perl/5.16.3/Perinci/Sub/Gen/AccessTable.pm line 84.
Can't setlocale en_US at /home/david/cpantesting/perl-5.16.3/lib/site_perl/5.16.3/Perinci/Sub/Gen/AccessTable.pm line 93.
Can't setlocale en_US at /home/david/cpantesting/perl-5.16.3/lib/site_perl/5.16.3/Perinci/Sub/Gen/AccessTable.pm line 84.
Can't setlocale en_US at /home/david/cpantesting/perl-5.16.3/lib/site_perl/5.16.3/Perinci/Sub/Gen/AccessTable.pm line 93.
Can't setlocale en_US at /home/david/cpantesting/perl-5.16.3/lib/site_perl/5.16.3/Perinci/Sub/Gen/AccessTable.pm line 84.
Can't setlocale en_US at /home/david/cpantesting/perl-5.16.3/lib/site_perl/5.16.3/Perinci/Sub/Gen/AccessTable.pm line 93.
Can't setlocale en_US at /home/david/cpantesting/perl-5.16.3/lib/site_perl/5.16.3/Perinci/Sub/Gen/AccessTable.pm line 84.
Can't setlocale en_US at /home/david/cpantesting/perl-5.16.3/lib/site_perl/5.16.3/Perinci/Sub/Gen/AccessTable.pm line 93.
Can't setlocale en_US at /home/david/cpantesting/perl-5.16.3/lib/site_perl/5.16.3/Perinci/Sub/Gen/AccessTable.pm line 84.
Can't setlocale en_US at /home/david/cpantesting/perl-5.16.3/lib/site_perl/5.16.3/Perinci/Sub/Gen/AccessTable.pm line 93.
t/00-compile.t ............ ok
t/release-pod-coverage.t .. skipped: these tests are for release candidate testing
t/release-pod-syntax.t .... skipped: these tests are for release candidate testing
t/release-rinci.t ......... skipped: these tests are for release candidate testing
All tests successful.
Files=4, Tests=2,  0 wallclock secs ( 0.03 usr  0.01 sys +  0.23 cusr  0.05 csys =  0.32 CPU)
Result: PASS

------------------------------
PREREQUISITES
------------------------------

Prerequisite modules loaded:

requires:

    Module                         Need   Have    
    ------------------------------ ------ --------
    CHI                            0      0.58    
    experimental                   0      0.010   
    Module::List                   0      0.003   
    Perinci::CmdLine::Any          0.06   0.06    
    Perinci::Sub::Gen::AccessTable 0.23   0.40    
    Rinci                          v1.1.0 1.1.52  
    Software::License              0      0.103010

build_requires:

    Module                         Need   Have    
    ------------------------------ ------ --------
    File::Spec                     0      3.47    
    IO::Handle                     0      1.33    
    IPC::Open3                     0      1.12    
    Test::More                     0      1.001003

configure_requires:

    Module                         Need   Have    
    ------------------------------ ------ --------
    ExtUtils::MakeMaker            6.30   6.98    


------------------------------
ENVIRONMENT AND OTHER CONTEXT
------------------------------

Environment variables:

    AUTOMATED_TESTING = 1
    PATH = /usr/local/bin:/usr/bin:/bin:/usr/games
    PERL = 5.16.3
    PERL5LIB = 
    PERL5OPT = 
    PERL5_CPANPLUS_IS_RUNNING = 30134
    PERL5_CPAN_IS_RUNNING = 30134
    PERLVER = 5.16.3
    PERL_INLINE_DIRECTORY = /home/david/.Inline-5.16.3
    PERL_MM_USE_DEFAULT = 1
    SHELL = /bin/bash
    TERM = screen

Perl special variables (and OS-specific diagnostics, for MSWin32):

    $^X = /home/david/cpantesting/perl-5.16.3/bin/perl
    $UID/$EUID = 1000 / 1000
    $GID = 1000 1000
    $EGID = 1000 1000

Perl module toolchain versions installed:

    Module              Have    
    ------------------- --------
    CPAN                1.9800  
    CPAN::Meta          2.142060
    Cwd                 3.47    
    ExtUtils::CBuilder  0.280206
    ExtUtils::Command   1.17    
    ExtUtils::Install   1.58    
    ExtUtils::MakeMaker 6.98    
    ExtUtils::Manifest  1.61    
    ExtUtils::ParseXS   3.24    
    File::Spec          3.47    
    JSON                2.53    
    JSON::PP            2.27203 
    Module::Build       0.4208  
    Module::Signature   n/a     
    Parse::CPAN::Meta   1.4414  
    Test::Harness       3.33    
    Test::More          1.001003
    YAML                1.08    
    YAML::Syck          1.27    
    version             0.99    


--

Summary of my perl5 (revision 5 version 16 subversion 3) configuration:
   
  Platform:
    osname=linux, osvers=3.2.0-4-amd64, archname=x86_64-linux-thread-multi
    uname='linux pigsty.barnyard.co.uk 3.2.0-4-amd64 #1 smp debian 3.2.35-2 x86_64 gnulinux '
    config_args='-de -Dprefix=/home/david/cpantesting/perl-5.16.3 -Dusethreads -Duse64bitall'
    hint=recommended, useposix=true, d_sigaction=define
    useithreads=define, usemultiplicity=define
    useperlio=define, d_sfio=undef, uselargefiles=define, usesocks=undef
    use64bitint=define, use64bitall=define, uselongdouble=undef
    usemymalloc=n, bincompat5005=undef
  Compiler:
    cc='cc', ccflags ='-D_REENTRANT -D_GNU_SOURCE -fno-strict-aliasing -pipe -fstack-protector -I/usr/local/include -D_LARGEFILE_SOURCE -D_FILE_OFFSET_BITS=64',
    optimize='-O2',
    cppflags='-D_REENTRANT -D_GNU_SOURCE -fno-strict-aliasing -pipe -fstack-protector -I/usr/local/include'
    ccversion='', gccversion='4.1.2 20061115 (prerelease) (Debian 4.1.1-21)', gccosandvers=''
    intsize=4, longsize=8, ptrsize=8, doublesize=8, byteorder=12345678
    d_longlong=define, longlongsize=8, d_longdbl=define, longdblsize=16
    ivtype='long', ivsize=8, nvtype='double', nvsize=8, Off_t='off_t', lseeksize=8
    alignbytes=8, prototype=define
  Linker and Libraries:
    ld='cc', ldflags =' -fstack-protector -L/usr/local/lib'
    libpth=/usr/local/lib /lib /usr/lib /lib64 /usr/lib64
    libs=-lnsl -lgdbm -ldb -ldl -lm -lcrypt -lutil -lpthread -lc -lgdbm_compat
    perllibs=-lnsl -ldl -lm -lcrypt -lutil -lpthread -lc
    libc=/lib/libc-2.3.6.so, so=so, useshrplib=false, libperl=libperl.a
    gnulibc_version='2.3.6'
  Dynamic Linking:
    dlsrc=dl_dlopen.xs, dlext=so, d_dlsymun=undef, ccdlflags='-Wl,-E'
    cccdlflags='-fPIC', lddlflags='-shared -O2 -L/usr/local/lib -fstack-protector'


Characteristics of this binary (from libperl): 
  Compile-time options: HAS_TIMES MULTIPLICITY PERLIO_LAYERS
                        PERL_DONT_CREATE_GVSV PERL_IMPLICIT_CONTEXT
                        PERL_MALLOC_WRAP PERL_PRESERVE_IVUV USE_64_BIT_ALL
                        USE_64_BIT_INT USE_ITHREADS USE_LARGE_FILES
                        USE_LOCALE USE_LOCALE_COLLATE USE_LOCALE_CTYPE
                        USE_LOCALE_NUMERIC USE_PERLIO USE_PERL_ATOF
                        USE_REENTRANT_API
  Built under linux
  Compiled at Mar 22 2013 21:25:26
  %ENV:
    PERL="5.16.3"
    PERL5LIB=""
    PERL5OPT=""
    PERL5_CPANPLUS_IS_RUNNING="30134"
    PERL5_CPAN_IS_RUNNING="30134"
    PERLVER="5.16.3"
    PERL_INLINE_DIRECTORY="/home/david/.Inline-5.16.3"
    PERL_MM_USE_DEFAULT="1"
  @INC:
    /home/david/cpantesting/perl-5.16.3/lib/site_perl/5.16.3/x86_64-linux-thread-multi
    /home/david/cpantesting/perl-5.16.3/lib/site_perl/5.16.3
    /home/david/cpantesting/perl-5.16.3/lib/5.16.3/x86_64-linux-thread-multi
    /home/david/cpantesting/perl-5.16.3/lib/5.16.3
    .