Test-Class-Moose v0.98 Perl 5 v5.24.0 MSWin32-x86-multi-thread

Status
Pass
From
Alexandr Ciornii (CHORNY)
Dist
Test-Class-Moose v0.98
Platform
Perl 5 v5.24.0 MSWin32-x86-multi-thread
Date
2019-10-26 23:01:06
ID
02ff90e1-6bf4-1014-abb3-43f5175fc47e
This distribution has been tested as part of the CPAN Testers
project, supporting the Perl programming language.  See
http://wiki.cpantesters.org/ for more information or email
questions to cpan-testers-discuss@perl.org


--
Dear Dave Rolsky,

This is a computer-generated report for Test-Class-Moose-0.98
on perl 5.24.0, created by CPAN-Reporter-1.2018.

Thank you for uploading your work to CPAN.  Congratulations!
All tests were successful.

Sections of this report:

    * Tester comments
    * Program output
    * Prerequisites
    * Environment and other context

------------------------------
TESTER COMMENTS
------------------------------

Additional comments from tester:

this report is from an automated smoke testing program
and was not reviewed by a human for accuracy

------------------------------
PROGRAM OUTPUT
------------------------------

Output from 'C:\STRAWB~1\c\bin\dmake.exe test':

"C:\Strawberry240\perl\bin\perl.exe" "-MExtUtils::Command::MM" "-MTest::Harness" "-e" "undef *Test::Harness::Switches; test_harness(0, 'blib\lib', 'blib\arch')" t/*.t
# 
# Versions for all modules listed in MYMETA.json (including optional ones):
# 
# === Configure Requires ===
# 
#     Module              Want Have
#     ------------------- ---- ----
#     ExtUtils::MakeMaker  any 7.24
# 
# === Build Requires ===
# 
#     Module              Want Have
#     ------------------- ---- ----
#     ExtUtils::MakeMaker  any 7.24
# 
# === Test Requires ===
# 
#     Module                    Want     Have
#     --------------------- -------- --------
#     ExtUtils::MakeMaker        any     7.24
#     File::Spec                 any     3.63
#     File::Temp                 any   0.2304
#     Test2::Tools::Basic        any 0.000126
#     Test2::Tools::Class        any 0.000126
#     Test2::Tools::Compare      any 0.000126
#     Test2::Tools::Subtest      any 0.000126
#     Test2::V0                  any 0.000126
#     Test::Builder              any 1.302168
#     Test::More            1.302015 1.302168
#     Test::Requires             any     0.10
#     Test::Warnings             any    0.026
#     lib                        any     0.63
# 
# === Test Recommends ===
# 
#     Module           Want     Have
#     ------------ -------- --------
#     CPAN::Meta   2.120900 2.150010
#     Test::Output   0.0005     1.03
# 
# === Runtime Requires ===
# 
#     Module                           Want     Have
#     ---------------------------- -------- --------
#     Benchmark                         any     1.22
#     Carp                              any     1.40
#     Class::MOP                        any   2.1807
#     Exporter                          any     5.72
#     File::Find                        any     1.34
#     File::Spec                        any     3.63
#     Import::Into                      any 1.002005
#     JSON::MaybeXS                     any 1.003008
#     List::SomeUtils                   any     0.53
#     List::Util                        any     1.47
#     Module::Runtime                   any    0.014
#     Module::Util                      any     1.09
#     Moose                          2.0000   2.1807
#     Moose::Role                    2.0000   2.1807
#     Moose::Util                       any   2.1807
#     Moose::Util::TypeConstraints      any   2.1807
#     MooseX::Getopt                   0.71     0.71
#     MooseX::Getopt::Dashes            any     0.71
#     Package::DeprecationManager      0.16     0.17
#     Parallel::ForkManager             any     1.19
#     Scalar::Util                      any     1.47
#     Sub::Attribute                    any     0.05
#     TAP::Formatter::Color            3.29     3.36
#     Test2                        1.302118 1.302168
#     Test2::API                        any 1.302168
#     Test2::AsyncSubtest          0.000018 0.000126
#     Test2::IPC                        any 1.302168
#     Test2::Tools::AsyncSubtest        any 0.000126
#     Test::Most                        any     0.35
#     Try::Tiny                         any     0.27
#     namespace::autoclean              any     0.28
#     strict                            any     1.11
#     warnings                          any     1.36
# 
# === Runtime Recommends ===
# 
#     Module                  Want Have
#     --------------------- ------ ----
#     Parallel::ForkManager v0.7.6 1.19
# 
t/00-report-prereqs.t .......... ok
t/autouse.t .................... ok
t/bad_subclass.t ............... ok
t/bare.t ....................... ok
t/basic.t ...................... ok
Can't stat t\lib\Local: No such file or directory
 at C:\STRAWB~1\cpan\build\Test-Class-Moose-0.98-0\blib\lib/Test/Class/Moose/Load.pm line 73.
t/cli.t ........................ ok
t/environment.t ................ ok
t/executor_roles.t ............. ok
t/include_classes.t ............ ok
t/include_exclude.t ............ ok
t/load-special-characters.t .... ok
t/load.t ....................... ok
t/no_tests_run.t ............... ok
t/non_randomize_classes.t ...... ok
t/parallel.t ................... skipped: These tests currently fail on Windows for reasons we do not understand. Patches welcome.
t/parameterized.t .............. ok
t/plans.t ...................... ok
t/process_name.t ............... ok
t/reportpassed.t ............... ok
t/skip.t ....................... ok
t/tags.t ....................... ok
t/test_class_is_not_loaded.t ... ok
t/test_control_methods.t ....... ok
t/test_control_methods_skip.t .. ok
t/timing.t ..................... ok
t/todo.t ....................... ok
All tests successful.
Files=26, Tests=187, 78 wallclock secs ( 0.44 usr +  0.32 sys =  0.76 CPU)
Result: PASS

------------------------------
PREREQUISITES
------------------------------

Prerequisite modules loaded:

requires:

    Module                       Need     Have    
    ---------------------------- -------- --------
    Benchmark                    0        1.22    
    Carp                         0        1.40    
    Class::MOP                   0        2.1807  
    Exporter                     0        5.72    
    File::Find                   0        1.34    
    File::Spec                   0        3.63    
    Import::Into                 0        1.002005
    JSON::MaybeXS                0        1.003008
    List::SomeUtils              0        0.53    
    List::Util                   0        1.47    
    Module::Runtime              0        0.014   
    Module::Util                 0        1.09    
    Moose                        2.0000   2.1807  
    Moose::Role                  2.0000   2.1807  
    Moose::Util                  0        2.1807  
    Moose::Util::TypeConstraints 0        2.1807  
    MooseX::Getopt               0.71     0.71    
    MooseX::Getopt::Dashes       0        0.71    
    namespace::autoclean         0        0.28    
    Package::DeprecationManager  0.16     0.17    
    Parallel::ForkManager        0        1.19    
    perl                         5.010000 5.024000
    Scalar::Util                 0        1.47    
    strict                       0        1.11    
    Sub::Attribute               0        0.05    
    TAP::Formatter::Color        3.29     3.36    
    Test2                        1.302118 1.302168
    Test2::API                   0        1.302168
    Test2::AsyncSubtest          0.000018 0.000126
    Test2::IPC                   0        1.302168
    Test2::Tools::AsyncSubtest   0        0.000126
    Test::Most                   0        0.35    
    Try::Tiny                    0        0.27    
    warnings                     0        1.36    

build_requires:

    Module                       Need     Have    
    ---------------------------- -------- --------
    ExtUtils::MakeMaker          0        7.24    
    File::Spec                   0        3.63    
    File::Temp                   0        0.2304  
    lib                          0        0.63    
    Test2::Tools::Basic          0        0.000126
    Test2::Tools::Class          0        0.000126
    Test2::Tools::Compare        0        0.000126
    Test2::Tools::Subtest        0        0.000126
    Test2::V0                    0        0.000126
    Test::Builder                0        1.302168
    Test::More                   1.302015 1.302168
    Test::Requires               0        0.10    
    Test::Warnings               0        0.026   

configure_requires:

    Module                       Need     Have    
    ---------------------------- -------- --------
    ExtUtils::MakeMaker          0        7.24    


------------------------------
ENVIRONMENT AND OTHER CONTEXT
------------------------------

Environment variables:

    AUTOMATED_TESTING = 1
    COMSPEC = C:\WINDOWS\system32\cmd.exe
    NUMBER_OF_PROCESSORS = 1
    PATH = C:\WINDOWS\system32;C:\WINDOWS;C:\WINDOWS\System32\Wbem;C:\Git\cmd;C:\Strawberry240\c\bin;C:\Strawberry240\perl\site\bin;C:\Strawberry240\perl\bin
    PERL5LIB = C:\STRAWB~1\cpan\build\Test2-Suite-0.000126-0/blib/arch;C:\STRAWB~1\cpan\build\Test2-Suite-0.000126-0/blib/lib;C:\STRAWB~1\cpan\build\Term-Table-0.014-0/blib/arch;C:\STRAWB~1\cpan\build\Term-Table-0.014-0/blib/lib;C:\STRAWB~1\cpan\build\Sub-Info-0.002-0/blib/arch;C:\STRAWB~1\cpan\build\Sub-Info-0.002-0/blib/lib;C:\STRAWB~1\cpan\build\Test-Simple-1.302168-0/blib/arch;C:\STRAWB~1\cpan\build\Test-Simple-1.302168-0/blib/lib
    PERL5OPT = 
    PERL5_CPANPLUS_IS_RUNNING = 1664
    PERL5_CPAN_IS_RUNNING = 1664
    PERL5_CPAN_IS_RUNNING_IN_RECURSION = 1264,1664
    PERL_CR_SMOKER_CURRENT = Test-Class-Moose-0.98
    PERL_CR_SMOKER_RUNONCE = 1
    PERL_EXTUTILS_AUTOINSTALL = --defaultdeps
    PERL_HASH_SEED = 0x11111111
    PERL_MM_USE_DEFAULT = 1
    PROCESSOR_IDENTIFIER = x86 Family 16 Model 5 Stepping 3, AuthenticAMD
    TEMP = C:\DOCUME~1\a\LOCALS~1\Temp

Perl special variables (and OS-specific diagnostics, for MSWin32):

    $^X = C:\Strawberry240\perl\bin\perl.exe
    $UID/$EUID = 0 / 0
    $GID = 0
    $EGID = 0
    Win32::GetOSName = WinXP/.Net
    Win32::GetOSVersion = Service Pack 3, 5, 1, 2600, 2, 3, 0, 256, 1
    Win32::FsType = NTFS
    Win32::IsAdminUser = 1

Perl module toolchain versions installed:

    Module              Have    
    ------------------- --------
    CPAN                2.14    
    CPAN::Meta          2.150010
    Cwd                 3.63    
    ExtUtils::CBuilder  0.280225
    ExtUtils::Command   7.24    
    ExtUtils::Install   2.04    
    ExtUtils::MakeMaker 7.24    
    ExtUtils::Manifest  1.70    
    ExtUtils::ParseXS   3.31    
    File::Spec          3.63    
    JSON                2.90    
    JSON::PP            2.27400 
    Module::Build       0.4220  
    Module::Signature   0.81    
    Parse::CPAN::Meta   2.150010
    Test::Harness       3.36    
    Test::More          1.302168
    YAML                1.21    
    YAML::Syck          1.29    
    version             0.9917  


--

Summary of my perl5 (revision 5 version 24 subversion 0) configuration:
   
  Platform:
    osname=MSWin32, osvers=4.0, archname=MSWin32-x86-multi-thread
    uname='Win32 strawberry-perl 5.24.0.1-beta1 #1 Thu Dec 29 16:46:05 2016 i386'
    config_args='undef'
    hint=recommended, useposix=true, d_sigaction=undef
    useithreads=define, usemultiplicity=define
    use64bitint=undef, use64bitall=undef, uselongdouble=undef
    usemymalloc=n, bincompat5005=undef
  Compiler:
    cc='gcc', ccflags =' -s -O2 -DWIN32  -DPERL_TEXTMODE_SCRIPTS -DPERL_IMPLICIT_CONTEXT -DPERL_IMPLICIT_SYS -fwrapv -fno-strict-aliasing -mms-bitfields',
    optimize='-s -O2',
    cppflags='-DWIN32'
    ccversion='', gccversion='4.9.2', gccosandvers=''
    intsize=4, longsize=4, ptrsize=4, doublesize=8, byteorder=1234, doublekind=3
    d_longlong=define, longlongsize=8, d_longdbl=define, longdblsize=12, longdblkind=3
    ivtype='long', ivsize=4, nvtype='double', nvsize=8, Off_t='long long', lseeksize=8
    alignbytes=8, prototype=define
  Linker and Libraries:
    ld='g++', ldflags ='-s -L"C:\STRAWB~1\perl\lib\CORE" -L"C:\STRAWB~1\c\lib"'
    libpth=C:\STRAWB~1\c\lib C:\STRAWB~1\c\i686-w64-mingw32\lib C:\STRAWB~1\c\lib\gcc\i686-w64-mingw32\4.9.2
    libs=-lmoldname -lkernel32 -luser32 -lgdi32 -lwinspool -lcomdlg32 -ladvapi32 -lshell32 -lole32 -loleaut32 -lnetapi32 -luuid -lws2_32 -lmpr -lwinmm -lversion -lodbc32 -lodbccp32 -lcomctl32
    perllibs=-lmoldname -lkernel32 -luser32 -lgdi32 -lwinspool -lcomdlg32 -ladvapi32 -lshell32 -lole32 -loleaut32 -lnetapi32 -luuid -lws2_32 -lmpr -lwinmm -lversion -lodbc32 -lodbccp32 -lcomctl32
    libc=, so=dll, useshrplib=true, libperl=libperl524.a
    gnulibc_version=''
  Dynamic Linking:
    dlsrc=dl_win32.xs, dlext=xs.dll, d_dlsymun=undef, ccdlflags=' '
    cccdlflags=' ', lddlflags='-mdll -s -L"C:\STRAWB~1\perl\lib\CORE" -L"C:\STRAWB~1\c\lib"'


Characteristics of this binary (from libperl): 
  Compile-time options: HAS_TIMES HAVE_INTERP_INTERN MULTIPLICITY
                        PERLIO_LAYERS PERL_COPY_ON_WRITE
                        PERL_DONT_CREATE_GVSV
                        PERL_HASH_FUNC_ONE_AT_A_TIME_HARD
                        PERL_IMPLICIT_CONTEXT PERL_IMPLICIT_SYS
                        PERL_MALLOC_WRAP PERL_PRESERVE_IVUV USE_ITHREADS
                        USE_LARGE_FILES USE_LOCALE USE_LOCALE_COLLATE
                        USE_LOCALE_CTYPE USE_LOCALE_NUMERIC USE_LOCALE_TIME
                        USE_PERLIO USE_PERL_ATOF
  Built under MSWin32
  Compiled at Dec 29 2016 16:55:33
  %ENV:
    PERL5LIB="C:\STRAWB~1\cpan\build\Test2-Suite-0.000126-0/blib/arch;C:\STRAWB~1\cpan\build\Test2-Suite-0.000126-0/blib/lib;C:\STRAWB~1\cpan\build\Term-Table-0.014-0/blib/arch;C:\STRAWB~1\cpan\build\Term-Table-0.014-0/blib/lib;C:\STRAWB~1\cpan\build\Sub-Info-0.002-0/blib/arch;C:\STRAWB~1\cpan\build\Sub-Info-0.002-0/blib/lib;C:\STRAWB~1\cpan\build\Test-Simple-1.302168-0/blib/arch;C:\STRAWB~1\cpan\build\Test-Simple-1.302168-0/blib/lib"
    PERL5_CPANPLUS_IS_RUNNING="1664"
    PERL5_CPAN_IS_RUNNING="1664"
    PERL5_CPAN_IS_RUNNING_IN_RECURSION="1264,1664"
    PERL_CR_SMOKER_CURRENT="Test-Class-Moose-0.98"
    PERL_CR_SMOKER_RUNONCE="1"
    PERL_EXTUTILS_AUTOINSTALL="--defaultdeps"
    PERL_HASH_SEED="0x11111111"
    PERL_MM_USE_DEFAULT="1"
  @INC:
    C:\STRAWB~1\cpan\build\Test2-Suite-0.000126-0/blib/arch
    C:\STRAWB~1\cpan\build\Test2-Suite-0.000126-0/blib/lib
    C:\STRAWB~1\cpan\build\Term-Table-0.014-0/blib/arch
    C:\STRAWB~1\cpan\build\Term-Table-0.014-0/blib/lib
    C:\STRAWB~1\cpan\build\Sub-Info-0.002-0/blib/arch
    C:\STRAWB~1\cpan\build\Sub-Info-0.002-0/blib/lib
    C:\STRAWB~1\cpan\build\Test-Simple-1.302168-0/blib/arch
    C:\STRAWB~1\cpan\build\Test-Simple-1.302168-0/blib/lib
    C:/Strawberry240/perl/site/lib
    C:/Strawberry240/perl/vendor/lib
    C:/Strawberry240/perl/lib
    .