RSH-Logging v0.4.3 Perl 5 v5.16.3 MSWin32-x64-multi-thread

Status
Pass
From
Michiel Beijen
Dist
RSH-Logging v0.4.3
Platform
Perl 5 v5.16.3 MSWin32-x64-multi-thread
Date
2013-05-23 11:10:34
ID
02a600b6-6d24-1014-98ce-b227e79c0688
This distribution has been tested as part of the CPAN Testers
project, supporting the Perl programming language.  See
http://wiki.cpantesters.org/ for more information or email
questions to cpan-testers-discuss@perl.org


--
Dear Matt Luker,

This is a computer-generated report for RSH-Logging-0.4.3
on perl 5.16.3, created by CPAN-Reporter-1.2010.

Thank you for uploading your work to CPAN.  Congratulations!
All tests were successful.

Sections of this report:

    * Tester comments
    * Program output
    * Prerequisites
    * Environment and other context

------------------------------
TESTER COMMENTS
------------------------------

Additional comments from tester:

this report is from an automated smoke testing program
and was not reviewed by a human for accuracy

------------------------------
PROGRAM OUTPUT
------------------------------

Output from 'C:\strawberry\c\bin\dmake.exe test':

C:\strawberry\perl\bin\perl.exe "-MExtUtils::Command::MM" "-e" "test_harness(0, 'inc', 'blib\lib', 'blib\arch')" t/000.load.t t/010.RSH-Logging.t t/011.RSH-Logging-chunking.t t/999.perlcritic.t t/999.pod-coverage.t t/999.pod.t
# Testing RSH::Logging 0.4.3
t/000.load.t .................. ok
TOTAL TIME 0.000184s (5434.783/s)
.----------------------------------------------------------------+-----------.
| Event                                                          | Time      |
+----------------------------------------------------------------+-----------+
| + foo                                                          | 0.000184s |
'----------------------------------------------------------------+-----------'

TOTAL TIME 0.004355s (229.621/s)
.----------------------------------------------------------------+-----------.
| Event                                                          | Time      |
+----------------------------------------------------------------+-----------+
| + foo                                                          | 0.004355s |
|   + sub1a                                                      | 0.003595s |
|     + sub2a                                                    | 0.000326s |
|     + sub2b                                                    | 0.000321s |
'----------------------------------------------------------------+-----------'

TOTAL TIME 0.004252s (235.183/s)
.----------------------------------------------------------------+-----------.
| Event                                                          | Time      |
+----------------------------------------------------------------+-----------+
| + main                                                         | 0.004252s |
|   + main                                                       | 0.003238s |
|     + main                                                     | 0.000322s |
|     + main                                                     | 0.001457s |
'----------------------------------------------------------------+-----------'

DEBUG Logging.pm:407, RSH::Logging::__ANON__: TOTAL TIME 0.000893s (1119.821/s)
.----------------------------------------------------------------+-----------.
| Event                                                          | Time      |
+----------------------------------------------------------------+-----------+
| + foo                                                          | 0.000893s |
|   + sub1a                                                      | 0.000625s |
|     + sub2a                                                    | 0.000139s |
|     + sub2b                                                    | 0.000117s |
'----------------------------------------------------------------+-----------'

TOTAL TIME 0.000862s (1160.093/s)
.----------------------------------------------------------------+-----------.
| Event                                                          | Time      |
+----------------------------------------------------------------+-----------+
| + foo                                                          | 0.000862s |
|   + sub1a                                                      | 0.000583s |
|     + sub2a                                                    | 0.000116s |
|     + sub2b                                                    | 0.000115s |
'----------------------------------------------------------------+-----------'

TOTAL TIME 0.003383s (295.596/s)
.----------------------------------------------------------------+-----------.
| Event                                                          | Time      |
+----------------------------------------------------------------+-----------+
| + foo                                                          | 0.003383s |
|   + sub1a (notation 1)                                         | 0.002398s |
|     + sub2a (notation 2)                                       | 0.000519s |
|     + sub2b (this is a very long note, which you shouldn't do- | 0.000291s |
| , but it can't be helped that people don't think things throu- |           |
| gh from time to time.)                                         |           |
'----------------------------------------------------------------+-----------'

TOTAL TIME 0.00195s (512.821/s)
.----------------------------------------------------------------+-----------.
| Event                                                          | Time      |
+----------------------------------------------------------------+-----------+
| + foo                                                          | 0.001950s |
|   + sub1a                                                      | 0.001378s |
|     + sub2a                                                    | 0.000264s |
|     + sub2b                                                    | 0.000264s |
'----------------------------------------------------------------+-----------'

TOTAL TIME 0.003355s (298.063/s)
.----------------------------------------------------------------+-----------.
| Event                                                          | Time      |
+----------------------------------------------------------------+-----------+
| + foo2                                                         | 0.003355s |
|   + sub1a                                                      | 0.002389s |
|     + sub2a                                                    | 0.000302s |
|     + sub2b                                                    | 0.000633s |
'----------------------------------------------------------------+-----------'

TOTAL TIME 0.004098s (244.021/s)
.----------------------------------------------------------------+-----------.
| Event                                                          | Time      |
+----------------------------------------------------------------+-----------+
| + foo                                                          | 0.004098s |
|   + sub1a                                                      | 0.003565s |
|     + sub2a                                                    | 0.000250s |
|     + sub2b                                                    | 0.002449s |
|       + foo2                                                   | 0.001946s |
|         + sub1a                                                | 0.001391s |
|           + sub2a                                              | 0.000304s |
|           + sub2b                                              | 0.000241s |
'----------------------------------------------------------------+-----------'

TOTAL TIME 0.001579s (633.312/s)
.----------------------------------------------------------------+-----------.
| Event                                                          | Time      |
+----------------------------------------------------------------+-----------+
| + foo                                                          | 0.001579s |
|   + sub1a                                                      | 0.001247s |
|     + sub2a                                                    | 0.000276s |
|     + sub2b                                                    | 0.000363s |
'----------------------------------------------------------------+-----------'

t/010.RSH-Logging.t ........... ok
DEBUG Logging.pm:407, RSH::Logging::__ANON__: TOTAL TIME 0.001402s (713.267/s)
DEBUG Logging.pm:407, RSH::Logging::__ANON__: .----------------------------------------------------------------+-----------.
DEBUG Logging.pm:407, RSH::Logging::__ANON__: | Event                                                          | Time      |
DEBUG Logging.pm:407, RSH::Logging::__ANON__: +----------------------------------------------------------------+-----------+
DEBUG Logging.pm:407, RSH::Logging::__ANON__: | + foo                                                          | 0.001402s |
DEBUG Logging.pm:407, RSH::Logging::__ANON__: |   + sub1a                                                      | 0.000976s |
DEBUG Logging.pm:407, RSH::Logging::__ANON__: |     + sub2a                                                    | 0.000202s |
DEBUG Logging.pm:407, RSH::Logging::__ANON__: |     + sub2b                                                    | 0.000189s |
DEBUG Logging.pm:407, RSH::Logging::__ANON__: '----------------------------------------------------------------+-----------'
DEBUG Logging.pm:407, RSH::Logging::__ANON__: 
TOTAL TIME 0.001384s (722.543/s)
.----------------------------------------------------------------+-----------.
| Event                                                          | Time      |
+----------------------------------------------------------------+-----------+
| + foo                                                          | 0.001384s |
|   + sub1a                                                      | 0.000964s |
|     + sub2a                                                    | 0.000183s |
|     + sub2b                                                    | 0.000201s |
'----------------------------------------------------------------+-----------'

DEBUG Logging.pm:407, RSH::Logging::__ANON__: TOTAL TIME 0.002718s (367.918/s)
.----------------------------------------------------------------+-----------.
| Event                                                          | Time      |
+----------------------------------------------------------------+-----------+
| + foo                                                          | 0.002718s |
|   + sub1a                                                      | 0.001628s |
|     + sub2a                                                    | 0.000329s |
|     + sub2b                                                    | 0.000319s |
|   + sub0                                                       | 0.000013s |
|   + sub1                                                       | 0.000006s |
|   + sub2                                                       | 0.000005s |
|   + sub3                                                       | 0.000007s |
|   + sub4                                                       | 0.000005s |
'----------------------------------------------------------------+-----------'

DEBUG Logging.pm:407, RSH::Logging::__ANON__: TOTAL TIME 0.003078s (324.886/s)
DEBUG Logging.pm:407, RSH::Logging::__ANON__: .----------------------------------------------------------------+-----------.
DEBUG Logging.pm:407, RSH::Logging::__ANON__: | Event                                                          | Time      |
DEBUG Logging.pm:407, RSH::Logging::__ANON__: +----------------------------------------------------------------+-----------+
DEBUG Logging.pm:407, RSH::Logging::__ANON__: | + foo                                                          | 0.003078s |
DEBUG Logging.pm:407, RSH::Logging::__ANON__: |   + sub1a                                                      | 0.001645s |
DEBUG Logging.pm:407, RSH::Logging::__ANON__: |     + sub2a                                                    | 0.000331s |
DEBUG Logging.pm:407, RSH::Logging::__ANON__: |     + sub2b                                                    | 0.000329s |
DEBUG Logging.pm:407, RSH::Logging::__ANON__: |   + sub0                                                       | 0.000023s |
DEBUG Logging.pm:407, RSH::Logging::__ANON__: |   + sub1                                                       | 0.000006s |
DEBUG Logging.pm:407, RSH::Logging::__ANON__: |   + sub2                                                       | 0.000006s |
DEBUG Logging.pm:407, RSH::Logging::__ANON__: |   + sub3                                                       | 0.000006s |
DEBUG Logging.pm:407, RSH::Logging::__ANON__: |   + sub4                                                       | 0.000005s |
DEBUG Logging.pm:407, RSH::Logging::__ANON__: |   + sub5                                                       | 0.000009s |
DEBUG Logging.pm:407, RSH::Logging::__ANON__: |   + sub6                                                       | 0.000006s |
DEBUG Logging.pm:407, RSH::Logging::__ANON__: |   + sub7                                                       | 0.000005s |
DEBUG Logging.pm:407, RSH::Logging::__ANON__: |   + sub8                                                       | 0.000006s |
DEBUG Logging.pm:407, RSH::Logging::__ANON__: |   + sub9                                                       | 0.000006s |
DEBUG Logging.pm:407, RSH::Logging::__ANON__: |   + sub10                                                      | 0.000006s |
DEBUG Logging.pm:407, RSH::Logging::__ANON__: |   + sub11                                                      | 0.000007s |
DEBUG Logging.pm:407, RSH::Logging::__ANON__: |   + sub12                                                      | 0.000006s |
DEBUG Logging.pm:407, RSH::Logging::__ANON__: |   + sub13                                                      | 0.000011s |
DEBUG Logging.pm:407, RSH::Logging::__ANON__: |   + sub14                                                      | 0.000006s |
DEBUG Logging.pm:407, RSH::Logging::__ANON__: |   + sub15                                                      | 0.000008s |
DEBUG Logging.pm:407, RSH::Logging::__ANON__: |   + sub16                                                      | 0.000005s |
DEBUG Logging.pm:407, RSH::Logging::__ANON__: |   + sub17                                                      | 0.000006s |
DEBUG Logging.pm:407, RSH::Logging::__ANON__: |   + sub18                                                      | 0.000007s |
DEBUG Logging.pm:407, RSH::Logging::__ANON__: |   + sub19                                                      | 0.000007s |
DEBUG Logging.pm:407, RSH::Logging::__ANON__: |   + sub20                                                      | 0.000005s |
DEBUG Logging.pm:407, RSH::Logging::__ANON__: |   + sub21                                                      | 0.000006s |
DEBUG Logging.pm:407, RSH::Logging::__ANON__: |   + sub22                                                      | 0.000007s |
DEBUG Logging.pm:407, RSH::Logging::__ANON__: |   + sub23                                                      | 0.000006s |
DEBUG Logging.pm:407, RSH::Logging::__ANON__: |   + sub24                                                      | 0.000005s |
DEBUG Logging.pm:407, RSH::Logging::__ANON__: '----------------------------------------------------------------+-----------'
DEBUG Logging.pm:407, RSH::Logging::__ANON__: 
t/011.RSH-Logging-chunking.t .. ok
t/999.perlcritic.t ............ skipped: Not worrying about perl critic right now.
t/999.pod-coverage.t .......... ok
t/999.pod.t ................... ok
All tests successful.
Files=6, Tests=160,  5 wallclock secs ( 0.12 usr +  0.02 sys =  0.14 CPU)
Result: PASS

------------------------------
PREREQUISITES
------------------------------

Prerequisite modules loaded:

requires:

    Module              Need  Have    
    ------------------- ----- --------
    IO::File            0     1.16    
    Log::Log4perl       0     1.40    
    perl                5.008 5.016003
    Scalar::Util        0     1.27    
    Test::More          0     0.98    
    Text::SimpleTable   0     2.03    
    Time::HiRes         0     1.9725  

build_requires:

    Module              Need  Have    
    ------------------- ----- --------
    ExtUtils::MakeMaker 6.42  6.66    
    Test::More          0     0.98    

configure_requires:

    Module              Need  Have    
    ------------------- ----- --------
    ExtUtils::MakeMaker 6.42  6.66    


------------------------------
ENVIRONMENT AND OTHER CONTEXT
------------------------------

Environment variables:

    AUTOMATED_TESTING = 1
    COMSPEC = C:\windows\system32\cmd.exe
    NUMBER_OF_PROCESSORS = 4
    PATH = C:\Program Files (x86)\Intel\iCLS Client\;C:\Program Files\Intel\iCLS Client\;C:\windows\system32;C:\windows;C:\windows\System32\Wbem;C:\windows\System32\WindowsPowerShell\v1.0\;C:\Program Files\Intel\Intel(R) Management Engine Components\DAL;C:\Program Files\Intel\Intel(R) Management Engine Components\IPT;C:\Program Files (x86)\Intel\Intel(R) Management Engine Components\DAL;C:\Program Files (x86)\Intel\Intel(R) Management Engine Components\IPT;C:\strawberry\c\bin;C:\strawberry\perl\site\bin;C:\strawberry\perl\bin
    PERL5LIB = 
    PERL5OPT = 
    PERL5_CPANPLUS_IS_RUNNING = 4580
    PERL5_CPAN_IS_RUNNING = 4580
    PERL5_CPAN_IS_RUNNING_IN_RECURSION = 2588,4580
    PERL_CR_SMOKER_CURRENT = RSH-Logging-0.4.3
    PERL_EXTUTILS_AUTOINSTALL = --defaultdeps
    PERL_MM_USE_DEFAULT = 1
    PROCESSOR_IDENTIFIER = Intel64 Family 6 Model 42 Stepping 7, GenuineIntel
    TEMP = C:\Users\training\AppData\Local\Temp
    TERM = dumb

Perl special variables (and OS-specific diagnostics, for MSWin32):

    $^X = C:\strawberry\perl\bin\perl.exe
    $UID/$EUID = 0 / 0
    $GID = 0
    $EGID = 0
    Win32::GetOSName = Win7
    Win32::GetOSVersion = Service Pack 1, 6, 1, 7601, 2, 1, 0, 768, 1
    Win32::FsType = NTFS
    Win32::IsAdminUser = 0

Perl module toolchain versions installed:

    Module              Have    
    ------------------- --------
    CPAN                2.00    
    CPAN::Meta          2.130880
    Cwd                 3.40    
    ExtUtils::CBuilder  0.280206
    ExtUtils::Command   1.17    
    ExtUtils::Install   1.58    
    ExtUtils::MakeMaker 6.66    
    ExtUtils::Manifest  1.61    
    ExtUtils::ParseXS   3.18_03 
    File::Spec          3.40    
    JSON                2.58    
    JSON::PP            2.27202 
    Module::Build       0.4005  
    Module::Signature   n/a     
    Parse::CPAN::Meta   1.4404  
    Test::Harness       3.28    
    Test::More          0.98    
    YAML                0.84    
    YAML::Syck          1.23    
    version             0.9902  


--

Summary of my perl5 (revision 5 version 16 subversion 3) configuration:
   
  Platform:
    osname=MSWin32, osvers=4.0, archname=MSWin32-x64-multi-thread
    uname='Win32 strawberry-perl 5.16.3.1 #1 Tue Mar 12 12:12:07 2013 x64'
    config_args='undef'
    hint=recommended, useposix=true, d_sigaction=undef
    useithreads=define, usemultiplicity=define
    useperlio=define, d_sfio=undef, uselargefiles=define, usesocks=undef
    use64bitint=define, use64bitall=undef, uselongdouble=undef
    usemymalloc=n, bincompat5005=undef
  Compiler:
    cc='gcc', ccflags =' -s -O2 -DWIN32 -DWIN64 -DCONSERVATIVE  -DPERL_TEXTMODE_SCRIPTS -DPERL_IMPLICIT_CONTEXT -DPERL_IMPLICIT_SYS -fno-strict-aliasing -mms-bitfields',
    optimize='-s -O2',
    cppflags='-DWIN32'
    ccversion='', gccversion='4.6.3', gccosandvers=''
    intsize=4, longsize=4, ptrsize=8, doublesize=8, byteorder=12345678
    d_longlong=define, longlongsize=8, d_longdbl=define, longdblsize=12
    ivtype='long long', ivsize=8, nvtype='double', nvsize=8, Off_t='long long', lseeksize=8
    alignbytes=8, prototype=define
  Linker and Libraries:
    ld='g++', ldflags ='-s -L"C:\strawberry\perl\lib\CORE" -L"C:\strawberry\c\lib"'
    libpth=C:\strawberry\c\lib C:\strawberry\c\x86_64-w64-mingw32\lib
    libs=-lmoldname -lkernel32 -luser32 -lgdi32 -lwinspool -lcomdlg32 -ladvapi32 -lshell32 -lole32 -loleaut32 -lnetapi32 -luuid -lws2_32 -lmpr -lwinmm -lversion -lodbc32 -lodbccp32 -lcomctl32
    perllibs=-lmoldname -lkernel32 -luser32 -lgdi32 -lwinspool -lcomdlg32 -ladvapi32 -lshell32 -lole32 -loleaut32 -lnetapi32 -luuid -lws2_32 -lmpr -lwinmm -lversion -lodbc32 -lodbccp32 -lcomctl32
    libc=, so=dll, useshrplib=true, libperl=libperl516.a
    gnulibc_version=''
  Dynamic Linking:
    dlsrc=dl_win32.xs, dlext=dll, d_dlsymun=undef, ccdlflags=' '
    cccdlflags=' ', lddlflags='-mdll -s -L"C:\strawberry\perl\lib\CORE" -L"C:\strawberry\c\lib"'


Characteristics of this binary (from libperl): 
  Compile-time options: HAS_TIMES HAVE_INTERP_INTERN MULTIPLICITY
                        PERLIO_LAYERS PERL_DONT_CREATE_GVSV
                        PERL_IMPLICIT_CONTEXT PERL_IMPLICIT_SYS
                        PERL_MALLOC_WRAP PERL_PRESERVE_IVUV PL_OP_SLAB_ALLOC
                        USE_64_BIT_INT USE_ITHREADS USE_LARGE_FILES
                        USE_LOCALE USE_LOCALE_COLLATE USE_LOCALE_CTYPE
                        USE_LOCALE_NUMERIC USE_PERLIO USE_PERL_ATOF
  Built under MSWin32
  Compiled at Mar 12 2013 12:16:40
  %ENV:
    PERL5_CPANPLUS_IS_RUNNING="4580"
    PERL5_CPAN_IS_RUNNING="4580"
    PERL5_CPAN_IS_RUNNING_IN_RECURSION="2588,4580"
    PERL_CR_SMOKER_CURRENT="RSH-Logging-0.4.3"
    PERL_EXTUTILS_AUTOINSTALL="--defaultdeps"
    PERL_MM_USE_DEFAULT="1"
  @INC:
    C:/strawberry/perl/site/lib
    C:/strawberry/perl/vendor/lib
    C:/strawberry/perl/lib
    .