Dist-Zilla-Plugin-CheckExtraTests v0.023 Perl 5 v5.21.6 x86_64-linux-ld

Status
Pass
From
Andreas J. König (ANDK)
Dist
Dist-Zilla-Plugin-CheckExtraTests v0.023
Platform
Perl 5 v5.21.6 x86_64-linux-ld
Date
2014-11-03 18:41:22
ID
0265be2a-6389-11e4-9f23-8ff7bb36d621
This distribution has been tested as part of the CPAN Testers
project, supporting the Perl programming language.  See
http://wiki.cpantesters.org/ for more information or email
questions to cpan-testers-discuss@perl.org


--
Dear David Golden,

This is a computer-generated report for Dist-Zilla-Plugin-CheckExtraTests-0.023
on perl 5.21.6, created by CPAN-Reporter-1.2011.

Thank you for uploading your work to CPAN.  Congratulations!
All tests were successful.

Sections of this report:

    * Tester comments
    * Program output
    * Prerequisites
    * Environment and other context

------------------------------
TESTER COMMENTS
------------------------------

Additional comments from tester:

this report is from an automated smoke testing program
and was not reviewed by a human for accuracy

------------------------------
PROGRAM OUTPUT
------------------------------

Output from '/usr/bin/make test':

PERL_DL_NONLAZY=1 /tmp/basesmoker-reloperl-1Vfm/bin/perl "-MExtUtils::Command::MM" "-MTest::Harness" "-e" "undef *Test::Harness::Switches; test_harness(0, 'blib/lib', 'blib/arch')" t/*.t

# Versions for all modules listed in MYMETA.json (including optional ones):
# 
# === Configure Requires ===
# 
#     Module              Want Have
#     ------------------- ---- ----
#     ExtUtils::MakeMaker 6.17 6.98
# 
# === Build Requires ===
# 
#     Module              Want Have
#     ------------------- ---- ----
#     ExtUtils::MakeMaker  any 6.98
# 
# === Test Requires ===
# 
#     Module                   Want         Have
#     ------------------------ ---- ------------
#     Capture::Tiny             any         0.25
#     Dist::Zilla::App::Tester  any        5.023
#     Dist::Zilla::Tester       any        5.023
#     ExtUtils::MakeMaker       any         6.98
#     File::Spec                any         3.51
#     Params::Util              any         1.07
#     Sub::Exporter             any        0.987
#     Test::More               0.88 1.301001_071
#     Test::Requires            any         0.08
#     Try::Tiny                 any         0.22
#     lib                       any         0.63
# 
# === Test Recommends ===
# 
#     Module         Want     Have
#     ---------- -------- --------
#     CPAN::Meta 2.120900 2.142690
# 
# === Runtime Requires ===
# 
#     Module                            Want   Have
#     -------------------------------- ----- ------
#     App::Prove                        3.00   3.33
#     Archive::Tar                       any   2.02
#     Dist::Zilla                        4.3  5.023
#     Dist::Zilla::App                   any  5.023
#     Dist::Zilla::Role::BeforeRelease   any  5.023
#     Dist::Zilla::Role::TestRunner      any  5.023
#     File::pushd                        any  1.009
#     Moose                                2 2.1400
#     Path::Iterator::Rule               any  1.008
#     Path::Tiny                       0.013  0.059
#     namespace::autoclean              0.09   0.20
#     strict                             any   1.08
#     warnings                           any   1.28
# 
t/00-report-prereqs.t .. ok
t/checkxt.t ............ ok
t/runxt.t .............. ok
t/withblib.t ........... ok
All tests successful.
Files=4, Tests=16,  7 wallclock secs ( 0.03 usr  0.00 sys +  5.81 cusr  0.44 csys =  6.28 CPU)
Result: PASS

------------------------------
PREREQUISITES
------------------------------

Prerequisite modules loaded:

requires:

    Module                           Need  Have        
    -------------------------------- ----- ------------
    App::Prove                       3.00  3.33        
    Archive::Tar                     0     2.02        
    Dist::Zilla                      4.3   5.023       
    Dist::Zilla::App                 0     5.023       
    Dist::Zilla::Role::BeforeRelease 0     5.023       
    Dist::Zilla::Role::TestRunner    0     5.023       
    File::pushd                      0     1.009       
    Moose                            2     2.1400      
    namespace::autoclean             0.09  0.20        
    Path::Iterator::Rule             0     1.008       
    Path::Tiny                       0.013 0.059       
    perl                             5.006 5.021006    
    strict                           0     1.08        
    warnings                         0     1.28        

build_requires:

    Module                           Need  Have        
    -------------------------------- ----- ------------
    Capture::Tiny                    0     0.25        
    Dist::Zilla::App::Tester         0     5.023       
    Dist::Zilla::Tester              0     5.023       
    ExtUtils::MakeMaker              0     6.98        
    File::Spec                       0     3.51        
    lib                              0     0.63        
    Params::Util                     0     1.07        
    Sub::Exporter                    0     0.987       
    Test::More                       0.88  1.301001_071
    Test::Requires                   0     0.08        
    Try::Tiny                        0     0.22        

configure_requires:

    Module                           Need  Have        
    -------------------------------- ----- ------------
    ExtUtils::MakeMaker              6.17  6.98        
    perl                             5.006 5.021006    


------------------------------
ENVIRONMENT AND OTHER CONTEXT
------------------------------

Environment variables:

    AUTOMATED_TESTING = 1
    LANG = en_US.UTF-8
    LANGUAGE = en_US:en
    PATH = /home/sand/bin:/usr/local/bin:/usr/bin:/bin:/usr/games:/usr/local/perl/bin:/usr/X11/bin:/sbin:/usr/sbin
    PERL5LIB = 
    PERL5OPT = 
    PERL5_CPANPLUS_IS_RUNNING = 14798
    PERL5_CPAN_IS_RUNNING = 14798
    PERL_MM_USE_DEFAULT = 1
    SHELL = /usr/bin/zsh
    TERM = screen

Perl special variables (and OS-specific diagnostics, for MSWin32):

    $^X = /tmp/basesmoker-reloperl-1Vfm/bin/perl
    $UID/$EUID = 1005 / 1005
    $GID = 1005 1005
    $EGID = 1005 1005

Perl module toolchain versions installed:

    Module              Have        
    ------------------- ------------
    CPAN                2.05        
    CPAN::Meta          2.142690    
    Cwd                 3.51        
    ExtUtils::CBuilder  0.280220    
    ExtUtils::Command   1.18        
    ExtUtils::Install   2.04        
    ExtUtils::MakeMaker 6.98        
    ExtUtils::Manifest  1.68        
    ExtUtils::ParseXS   3.26        
    File::Spec          3.51        
    JSON                2.90        
    JSON::PP            2.27300     
    Module::Build       0.4210      
    Module::Signature   n/a         
    Parse::CPAN::Meta   1.4414      
    Test::Harness       3.33        
    Test::More          1.301001_071
    YAML                1.13        
    YAML::Syck          1.27        
    version             0.9909      


--

Summary of my perl5 (revision 5 version 21 subversion 6) configuration:
  Commit id: dc0c4db0d9b43e1a7eac7cf2cdd894dd6ef5e99e
  Platform:
    osname=linux, osvers=3.16-2-amd64, archname=x86_64-linux-ld
    uname='linux k83 3.16-2-amd64 #1 smp debian 3.16.3-2 (2014-09-20) x86_64 gnulinux '
    config_args='-Dprefix=/home/sand/src/perl/repoperls/installed-perls/perl/v5.21.5-184-gdc0c4db/127e -Dmyhostname=k83 -Dinstallusrbinperl=n -Uversiononly -Dusedevel -des -Ui_db -Uuseithreads -Duselongdouble -DDEBUGGING=-g'
    hint=recommended, useposix=true, d_sigaction=define
    useithreads=undef, usemultiplicity=undef
    use64bitint=define, use64bitall=define, uselongdouble=define
    usemymalloc=n, bincompat5005=undef
  Compiler:
    cc='cc', ccflags ='-fwrapv -fno-strict-aliasing -pipe -fstack-protector-strong -I/usr/local/include -D_LARGEFILE_SOURCE -D_FILE_OFFSET_BITS=64 -D_FORTIFY_SOURCE=2',
    optimize='-O2 -g',
    cppflags='-fwrapv -fno-strict-aliasing -pipe -fstack-protector-strong -I/usr/local/include'
    ccversion='', gccversion='4.9.1', gccosandvers=''
    intsize=4, longsize=8, ptrsize=8, doublesize=8, byteorder=12345678, doublekind=3
    d_longlong=define, longlongsize=8, d_longdbl=define, longdblsize=16, longdblkind=3
    ivtype='long', ivsize=8, nvtype='long double', nvsize=16, Off_t='off_t', lseeksize=8
    alignbytes=16, prototype=define
  Linker and Libraries:
    ld='cc', ldflags =' -fstack-protector-strong -L/usr/local/lib'
    libpth=/usr/local/lib /usr/lib/gcc/x86_64-linux-gnu/4.9/include-fixed /usr/include/x86_64-linux-gnu /usr/lib /lib/x86_64-linux-gnu /lib/../lib /usr/lib/x86_64-linux-gnu /usr/lib/../lib /lib
    libs=-lnsl -lgdbm -ldb -ldl -lm -lcrypt -lutil -lc -lgdbm_compat
    perllibs=-lnsl -ldl -lm -lcrypt -lutil -lc
    libc=libc-2.19.so, so=so, useshrplib=false, libperl=libperl.a
    gnulibc_version='2.19'
  Dynamic Linking:
    dlsrc=dl_dlopen.xs, dlext=so, d_dlsymun=undef, ccdlflags='-Wl,-E'
    cccdlflags='-fPIC', lddlflags='-shared -O2 -g -L/usr/local/lib -fstack-protector-strong'


Characteristics of this binary (from libperl): 
  Compile-time options: HAS_TIMES PERLIO_LAYERS PERL_DONT_CREATE_GVSV
                        PERL_HASH_FUNC_ONE_AT_A_TIME_HARD PERL_MALLOC_WRAP
                        PERL_NEW_COPY_ON_WRITE PERL_PRESERVE_IVUV
                        PERL_USE_DEVEL USE_64_BIT_ALL USE_64_BIT_INT
                        USE_LARGE_FILES USE_LOCALE USE_LOCALE_COLLATE
                        USE_LOCALE_CTYPE USE_LOCALE_NUMERIC USE_LOCALE_TIME
                        USE_LONG_DOUBLE USE_PERLIO USE_PERL_ATOF
  Built under linux
  Compiled at Nov  3 2014 08:33:53
  %ENV:
    PERL5LIB=""
    PERL5OPT=""
    PERL5_CPANPLUS_IS_RUNNING="14798"
    PERL5_CPAN_IS_RUNNING="14798"
    PERL_MM_USE_DEFAULT="1"
  @INC:
    /home/sand/src/perl/repoperls/installed-perls/perl/v5.21.5-184-gdc0c4db/127e/lib/site_perl/5.21.6/x86_64-linux-ld
    /home/sand/src/perl/repoperls/installed-perls/perl/v5.21.5-184-gdc0c4db/127e/lib/site_perl/5.21.6
    /home/sand/src/perl/repoperls/installed-perls/perl/v5.21.5-184-gdc0c4db/127e/lib/5.21.6/x86_64-linux-ld
    /home/sand/src/perl/repoperls/installed-perls/perl/v5.21.5-184-gdc0c4db/127e/lib/5.21.6
    .