Devel-CheckLib v1.09 Perl 5 v5.25.11 x86_64-linux
- Status
- Pass
- From
- Kent Fredric
- Dist
-
Devel-CheckLib v1.09
- Platform
- Perl 5 v5.25.11 x86_64-linux
- Date
- 2017-04-08 00:33:38
- ID
- 0200fcfe-1bf3-11e7-a77d-879b1814f629
This distribution has been tested as part of the CPAN Testers
project, supporting the Perl programming language. See
http://wiki.cpantesters.org/ for more information or email
questions to cpan-testers-discuss@perl.org
--
Dear MATTN,
This is a computer-generated report for Devel-CheckLib-1.09
on perl 5.25.11, created by App::cpanminus::reporter 0.17 (1.7042).
Thank you for uploading your work to CPAN. Congratulations!
All tests were successful.
Sections of this report:
* Tester comments
* Program output
* Prerequisites
* Environment and other context
------------------------------
TESTER COMMENTS
------------------------------
Additional comments from tester:
none provided
------------------------------
PROGRAM OUTPUT
------------------------------
Output from '':
Building and testing Devel-CheckLib-1.09
cp lib/Devel/CheckLib.pm blib/lib/Devel/CheckLib.pm
cp bin/use-devel-checklib blib/script/use-devel-checklib
"/home/kent/perl5/perlbrew/perls/5.25.11-nossp-sip13-nopmc-nodot/bin/perl5.25.11" -MExtUtils::MY -e 'MY->fixin(shift)' -- blib/script/use-devel-checklib
PERL_DL_NONLAZY=1 "/home/kent/perl5/perlbrew/perls/5.25.11-nossp-sip13-nopmc-nodot/bin/perl5.25.11" "-MExtUtils::Command::MM" "-MTest::Harness" "-e" "undef *Test::Harness::Switches; test_harness(0, 'blib/lib', 'blib/arch')" t/*.t
t/00-load.t ................... ok
Subroutine STORE redefined at /home/kent/perl5/perlbrew/perls/5.25.11-nossp-sip13-nopmc-nodot/lib/5.25.11/x86_64-linux/Config_heavy.pl line 1453.
t/bad-single-word-compiler.t .. ok
t/exit_with_message.t ......... ok
Subroutine STORE redefined at /home/kent/perl5/perlbrew/perls/5.25.11-nossp-sip13-nopmc-nodot/lib/5.25.11/x86_64-linux/Config_heavy.pl line 1453.
t/multi-word-compiler.t ....... ok
t/headers.t ................... ok
t/dash-l-libs.t ............... ok
t/analyze-binary.t ............ ok
t/flags.t ..................... ok
t/cmdline-LIBS-INC.t .......... ok
t/not_found.t ................. ok
t/custom-function.t ........... ok
t/found.t ..................... ok
All tests successful.
Files=12, Tests=42, 2 wallclock secs ( 0.07 usr 0.03 sys + 5.62 cusr 4.58 csys = 10.30 CPU)
Result: PASS
------------------------------
PREREQUISITES
------------------------------
Prerequisite modules loaded:
No requirements found
------------------------------
ENVIRONMENT AND OTHER CONTEXT
------------------------------
Environment variables:
HARNESS_OPTIONS = j10:c
LANG = en_NZ.UTF8
LC_CTYPE = en_NZ.UTF8
LC_TIME = en_NZ.UTF8
PATH = /home/kent/.rvm/gems/ruby-2.1.2/bin:/home/kent/.rvm/gems/ruby-2.1.2@global/bin:/home/kent/.rvm/rubies/ruby-2.1.2/bin:/home/kent/perl5/perlbrew/bin:/home/kent/perl5/perlbrew/perls/5.25.11-nossp-sip13-nopmc-nodot/bin:/home/kent/.perl6/2013.04/bin:/home/kent/.gem/ruby/1.8/bin/:/usr/local/bin:/usr/bin:/bin:/opt/bin:/usr/x86_64-pc-linux-gnu/gcc-bin/6.3.0:/usr/x86_64-pc-linux-gnu/x86_64-pc-linux-gnux32/gcc-bin/5.4.0:/usr/x86_64-pc-linux-gnu/arm-unknown-linux-gnueabi/gcc-bin/5.4.0:/usr/lib/llvm/4/bin:/usr/games/bin:/home/kent/.rvm/bin:/home/kent/.rvm/bin
PERLBREW_BASHRC_VERSION = 0.74
PERLBREW_HOME = /home/kent/.perlbrew
PERLBREW_MANPATH = /home/kent/perl5/perlbrew/perls/5.25.11-nossp-sip13-nopmc-nodot/man
PERLBREW_PATH = /home/kent/perl5/perlbrew/bin:/home/kent/perl5/perlbrew/perls/5.25.11-nossp-sip13-nopmc-nodot/bin
PERLBREW_PERL = 5.25.11-nossp-sip13-nopmc-nodot
PERLBREW_ROOT = /home/kent/perl5/perlbrew
PERLBREW_VERSION = 0.74
PERL_CPANM_OPT = --prompt --reinstall --interactive --with-recommends --with-suggests --mirror http://cpan.metacpan.org/ --no-lwp
PERL_MM_OPT = INSTALLDIRS=site
PERL_USE_UNSAFE_INC = 0
SHELL = /bin/bash
TERM = rxvt-unicode-256color
Perl special variables (and OS-specific diagnostics, for MSWin32):
EGID = 1000 4 6 10 16 18 19 27 35 78 80 85 100 102 103 104 105 114 115 116 117 118 250 965 968 974 976 994 1000
EUID = 1000
EXECUTABLE_NAME = /home/kent/perl5/perlbrew/perls/5.25.11-nossp-sip13-nopmc-nodot/bin/perl5.25.11
GID = 1000 4 6 10 16 18 19 27 35 78 80 85 100 102 103 104 105 114 115 116 117 118 250 965 968 974 976 994 1000
UID = 1000
Perl module toolchain versions installed:
Module Have
------------------- ----------
CPAN 2.17
CPAN::Meta 2.150010
Cwd 3.67
ExtUtils::CBuilder 0.280225
ExtUtils::Command 7.24
ExtUtils::Install 2.04
ExtUtils::MakeMaker 7.24
ExtUtils::Manifest 1.70
ExtUtils::ParseXS 3.34
File::Spec 3.67
JSON 2.90
JSON::PP 2.27400_02
Module::Build 0.4220
Module::Signature 0.81
Parse::CPAN::Meta 2.150010
Test::Harness 3.38
Test::More 1.302073
YAML 1.23
YAML::Syck n/a
version 0.9917
--
Summary of my perl5 (revision 5 version 25 subversion 11) configuration:
Platform:
osname=linux
osvers=4.8.5-gentoo
archname=x86_64-linux
uname='linux katipo2 4.8.5-gentoo #43 smp preempt tue nov 1 19:41:26 nzdt 2016 x86_64 intel(r) core(tm) i5-2410m cpu @ 2.30ghz genuineintel gnulinux '
config_args='-de -Dprefix=/home/kent/perl5/perlbrew/perls/5.25.11-nossp-sip13-nopmc-nodot -Ddefault_inc_excludes_dot -Doptimize= -fstack-protector-strong -fno-stack-protector -O3 -march=native -mtune=native -Dman1dir=none -Dman3dir=none -Dusedevel -Accflags= -fstack-protector-strong -fno-stack-protector -DPERL_HASH_FUNC_SIPHASH13 -DPERL_DISABLE_PMC -Aldflags= -fstack-protector-strong -fno-stack-protector -Aeval:scriptdir=/home/kent/perl5/perlbrew/perls/5.25.11-nossp-sip13-nopmc-nodot/bin'
hint=recommended
useposix=true
d_sigaction=define
useithreads=undef
usemultiplicity=undef
use64bitint=define
use64bitall=define
uselongdouble=undef
usemymalloc=n
default_inc_excludes_dot=define
bincompat5005=undef
Compiler:
cc='cc'
ccflags ='-fstack-protector-strong -fno-stack-protector -DPERL_HASH_FUNC_SIPHASH13 -DPERL_DISABLE_PMC -fwrapv -fno-strict-aliasing -pipe -D_LARGEFILE_SOURCE -D_FILE_OFFSET_BITS=64'
optimize=' -fstack-protector-strong -fno-stack-protector -O3 -march=native -mtune=native'
cppflags='-fstack-protector-strong -fno-stack-protector -DPERL_HASH_FUNC_SIPHASH13 -DPERL_DISABLE_PMC -fwrapv -fno-strict-aliasing -pipe'
ccversion=''
gccversion='6.3.0'
gccosandvers=''
intsize=4
longsize=8
ptrsize=8
doublesize=8
byteorder=12345678
doublekind=3
d_longlong=define
longlongsize=8
d_longdbl=define
longdblsize=16
longdblkind=3
ivtype='long'
ivsize=8
nvtype='double'
nvsize=8
Off_t='off_t'
lseeksize=8
alignbytes=8
prototype=define
Linker and Libraries:
ld='cc'
ldflags =' -fstack-protector-strong -fno-stack-protector -L/usr/local/lib'
libpth=/usr/lib/gcc/x86_64-pc-linux-gnu/6.3.0/include-fixed /usr/lib /usr/local/lib /lib/../lib64 /usr/lib/../lib64 /lib /lib64 /usr/lib64 /usr/local/lib64
libs=-lpthread -lnsl -lndbm -lgdbm -ldb -ldl -lm -lcrypt -lutil -lc -lgdbm_compat
perllibs=-lpthread -lnsl -ldl -lm -lcrypt -lutil -lc
libc=libc-2.24.so
so=so
useshrplib=false
libperl=libperl.a
gnulibc_version='2.24'
Dynamic Linking:
dlsrc=dl_dlopen.xs
dlext=so
d_dlsymun=undef
ccdlflags='-Wl,-E'
cccdlflags='-fPIC'
lddlflags='-shared -fstack-protector-strong -fno-stack-protector -O3 -march=native -mtune=native -L/usr/local/lib'
Characteristics of this binary (from libperl):
Compile-time options:
HAS_TIMES
PERLIO_LAYERS
PERL_COPY_ON_WRITE
PERL_DISABLE_PMC
PERL_DONT_CREATE_GVSV
PERL_MALLOC_WRAP
PERL_OP_PARENT
PERL_PRESERVE_IVUV
PERL_USE_DEVEL
USE_64_BIT_ALL
USE_64_BIT_INT
USE_LARGE_FILES
USE_LOCALE
USE_LOCALE_COLLATE
USE_LOCALE_CTYPE
USE_LOCALE_NUMERIC
USE_LOCALE_TIME
USE_PERLIO
USE_PERL_ATOF
Built under linux
Compiled at Mar 25 2017 19:01:09
%ENV:
PERLBREW_BASHRC_VERSION="0.74"
PERLBREW_HOME="/home/kent/.perlbrew"
PERLBREW_MANPATH="/home/kent/perl5/perlbrew/perls/5.25.11-nossp-sip13-nopmc-nodot/man"
PERLBREW_PATH="/home/kent/perl5/perlbrew/bin:/home/kent/perl5/perlbrew/perls/5.25.11-nossp-sip13-nopmc-nodot/bin"
PERLBREW_PERL="5.25.11-nossp-sip13-nopmc-nodot"
PERLBREW_ROOT="/home/kent/perl5/perlbrew"
PERLBREW_VERSION="0.74"
PERL_CPANM_OPT=" --prompt --reinstall --interactive --with-recommends --with-suggests --mirror http://cpan.metacpan.org/ --no-lwp"
PERL_MM_OPT=" INSTALLDIRS=site"
PERL_USE_UNSAFE_INC="0"
@INC:
/home/kent/perl5/perlbrew/perls/5.25.11-nossp-sip13-nopmc-nodot/lib/site_perl/5.25.11/x86_64-linux
/home/kent/perl5/perlbrew/perls/5.25.11-nossp-sip13-nopmc-nodot/lib/site_perl/5.25.11
/home/kent/perl5/perlbrew/perls/5.25.11-nossp-sip13-nopmc-nodot/lib/5.25.11/x86_64-linux
/home/kent/perl5/perlbrew/perls/5.25.11-nossp-sip13-nopmc-nodot/lib/5.25.11