Archive-Tar-Wrapper v0.33 Perl 5 v5.28.0 OpenBSD.amd64-openbsd-thread-multi
- Status
- Pass
- From
- Alceu Rodrigues de Freitas Junior
- Dist
-
Archive-Tar-Wrapper v0.33
- Platform
- Perl 5 v5.28.0 OpenBSD.amd64-openbsd-thread-multi
- Date
- 2018-08-03 07:44:09
- ID
- 01ecba1c-96f1-11e8-b8a8-80779824804d
This distribution has been tested as part of the CPAN Testers
project, supporting the Perl programming language. See
http://wiki.cpantesters.org/ for more information or email
questions to cpan-testers-discuss@perl.org
--
Dear Alceu Rodrigues de Freitas Junior,
This is a computer-generated report for Archive-Tar-Wrapper-0.33
on perl 5.28.0, created by CPAN-Reporter-1.2018.
Thank you for uploading your work to CPAN. Congratulations!
All tests were successful.
Sections of this report:
* Tester comments
* Program output
* Prerequisites
* Environment and other context
------------------------------
TESTER COMMENTS
------------------------------
Additional comments from tester:
this report is from an automated smoke testing program
and was not reviewed by a human for accuracy
------------------------------
PROGRAM OUTPUT
------------------------------
Output from '/usr/bin/make test':
PERL_DL_NONLAZY=1 "/home/goku/perl5/perlbrew/perls/perl-5.28.0/bin/perl" "-MExtUtils::Command::MM" "-MTest::Harness" "-e" "undef *Test::Harness::Switches; test_harness(0, 'blib/lib', 'blib/arch')" t/*.t
t/001Basic.t .............. ok
t/002Mult.t ............... ok
t/003Dirs.t ............... ok
t/004Utf8.t ............... ok
t/005Cwd.t ................ ok
t/006DirPerms.t ........... ok
t/007bzip.t ............... ok
# with grep: Ran 1337 iterations (320 outliers).
# with grep: Rounded run time per iteration: 0.001102 +/- 0.000001 (0.1%)
# with grep and compiled regex: Ran 1473 iterations (427 outliers).
# with grep and compiled regex: Rounded run time per iteration: 0.001695 +/- 0.000002 (0.1%)
# with eq: Ran 1473 iterations (455 outliers).
# with eq: Rounded run time per iteration: 0.000729 +/- 0.000000 (0.1%)
# with enhanced eq: Ran 1546 iterations (510 outliers).
# with enhanced eq: Rounded run time per iteration: 0.000691 +/- 0.000000 (0.1%)
# with enhanced eq mark2: Ran 1403 iterations (371 outliers).
# with enhanced eq mark2: Rounded run time per iteration: 0.000613 +/- 0.000000 (0.1%)
# with enhanced eq mark3: Ran 1274 iterations (273 outliers).
# with enhanced eq mark3: Rounded run time per iteration: 0.000514 +/- 0.000000 (0.1%)
# sort and shift: Ran 1403 iterations (392 outliers).
# sort and shift: Rounded run time per iteration: 0.000771 +/- 0.000001 (0.1%)
t/008performance.t ........ ok
# with grep: Ran 1403 iterations (394 outliers).
# with grep: Rounded run time per iteration: 0.000126 +/- 0.000000 (0.1%)
# with grep and compiled regex: Ran 1274 iterations (268 outliers).
# with grep and compiled regex: Rounded run time per iteration: 0.000154 +/- 0.000000 (0.2%)
# with eq: Ran 1403 iterations (402 outliers).
# with eq: Rounded run time per iteration: 0.000113 +/- 0.000000 (0.1%)
# with enhanced eq: Ran 1473 iterations (460 outliers).
# with enhanced eq: Rounded run time per iteration: 0.000112 +/- 0.000000 (0.1%)
# with enhanced eq mark2: Ran 1337 iterations (318 outliers).
# with enhanced eq mark2: Rounded run time per iteration: 0.000114 +/- 0.000000 (0.1%)
# with enhanced eq mark3: Ran 1473 iterations (467 outliers).
# with enhanced eq mark3: Rounded run time per iteration: 0.000112 +/- 0.000000 (0.1%)
# sort and shift: Ran 1274 iterations (260 outliers).
# sort and shift: Rounded run time per iteration: 0.000104 +/- 0.000000 (0.2%)
t/009performance-small.t .. ok
All tests successful.
Test Summary Report
-------------------
t/008performance.t (Wstat: 0 Tests: 1 Failed: 0)
TODO passed: 1
t/009performance-small.t (Wstat: 0 Tests: 1 Failed: 0)
TODO passed: 1
Files=9, Tests=54, 110 wallclock secs ( 0.04 usr 0.07 sys + 67.91 cusr 37.46 csys = 105.48 CPU)
Result: PASS
------------------------------
PREREQUISITES
------------------------------
Prerequisite modules loaded:
requires:
Module Need Have
------------------- -------- ----------
Cwd 0 3.74
File::Temp 0 0.2308
File::Which 0 1.22
IPC::Run 0 20180523.0
Log::Log4perl 0 1.49
perl 5.008001 5.028000
build_requires:
Module Need Have
------------------- -------- ----------
Dumbbench 0.111 0.111
ExtUtils::MakeMaker 0 7.34
Test::Simple 1.302073 1.302138
configure_requires:
Module Need Have
------------------- -------- ----------
ExtUtils::MakeMaker 0 7.34
File::Which 0 1.22
------------------------------
ENVIRONMENT AND OTHER CONTEXT
------------------------------
Environment variables:
AUTOMATED_TESTING = 1
DBD_MYSQL_TESTDB = test
DBD_MYSQL_TESTHOST = localhost
DBD_MYSQL_TESTPASSWORD =
DBD_MYSQL_TESTPORT = 3306
DBD_MYSQL_TESTUSER = goku
EXTENDED_TESTING = 1
PATH = /home/goku/perl5/perlbrew/bin:/home/goku/perl5/perlbrew/perls/perl-5.28.0/bin:/home/goku/bin:/usr/bin:/bin:/usr/sbin:/sbin:/usr/X11R6/bin:/usr/local/bin:/usr/local/sbin
PERL5LIB =
PERL5OPT =
PERL5_CPANPLUS_IS_RUNNING = 73295
PERL5_CPAN_IS_RUNNING = 73295
PERL5_CPAN_IS_RUNNING_IN_RECURSION = 24046,73295
PERLBREW_HOME = /home/goku/.perlbrew
PERLBREW_MANPATH = /home/goku/perl5/perlbrew/perls/perl-5.28.0/man
PERLBREW_PATH = /home/goku/perl5/perlbrew/bin:/home/goku/perl5/perlbrew/perls/perl-5.28.0/bin
PERLBREW_PERL = perl-5.28.0
PERLBREW_ROOT = /home/goku/perl5/perlbrew
PERLBREW_SHELLRC_VERSION = 0.84
PERLBREW_VERSION = 0.84
PERL_CR_SMOKER_CURRENT = Dist-Zilla-Plugin-PodKnit-0.0.1
PERL_EXTUTILS_AUTOINSTALL = --defaultdeps
PERL_MM_USE_DEFAULT = 1
PERL_USE_UNSAFE_INC = 1
SHELL = /usr/local/bin/bash
TERM = xterm
Perl special variables (and OS-specific diagnostics, for MSWin32):
$^X = /home/goku/perl5/perlbrew/perls/perl-5.28.0/bin/perl
$UID/$EUID = 1002 / 1002
$GID = 1002 1002 1001
$EGID = 1002 1002 1001
Perl module toolchain versions installed:
Module Have
------------------- --------
CPAN 2.20
CPAN::Meta 2.150010
Cwd 3.74
ExtUtils::CBuilder 0.280230
ExtUtils::Command 7.34
ExtUtils::Install 2.14
ExtUtils::MakeMaker 7.34
ExtUtils::Manifest 1.70
ExtUtils::ParseXS 3.39
File::Spec 3.74
JSON 2.97001
JSON::PP 2.97001
Module::Build 0.4224
Module::Signature n/a
Parse::CPAN::Meta 2.150010
Test::Harness 3.42
Test::More 1.302138
YAML 1.26
YAML::Syck n/a
version 0.9923
--
Summary of my perl5 (revision 5 version 28 subversion 0) configuration:
Platform:
osname=openbsd
osvers=6.3
archname=OpenBSD.amd64-openbsd-thread-multi
uname='openbsd cpan-smoker-openbsd 6.3 generic.mp#107 amd64 '
config_args='-de -Dprefix=/home/goku/perl5/perlbrew/perls/perl-5.28.0 -Dman1dir=none -Dman3dir=none -Dusethreads -Aeval:scriptdir=/home/goku/perl5/perlbrew/perls/perl-5.28.0/bin'
hint=recommended
useposix=true
d_sigaction=define
useithreads=define
usemultiplicity=define
use64bitint=define
use64bitall=define
uselongdouble=undef
usemymalloc=n
default_inc_excludes_dot=define
bincompat5005=undef
Compiler:
cc='cc'
ccflags ='-pthread -fno-strict-aliasing -pipe -fstack-protector-strong -I/usr/local/include -D_FORTIFY_SOURCE=2'
optimize='-O2'
cppflags='-pthread -fno-strict-aliasing -pipe -fstack-protector-strong -I/usr/local/include'
ccversion=''
gccversion='4.2.1 Compatible OpenBSD Clang 5.0.1 (tags/RELEASE_501/final)'
gccosandvers=''
intsize=4
longsize=8
ptrsize=8
doublesize=8
byteorder=12345678
doublekind=3
d_longlong=define
longlongsize=8
d_longdbl=define
longdblsize=16
longdblkind=3
ivtype='long'
ivsize=8
nvtype='double'
nvsize=8
Off_t='off_t'
lseeksize=8
alignbytes=8
prototype=define
Linker and Libraries:
ld='cc'
ldflags ='-pthread -Wl,-E -fstack-protector-strong -L/usr/local/lib'
libpth=/usr/lib /usr/local/lib
libs=-lpthread -lm -lutil -lc
perllibs=-lpthread -lm -lutil -lc
libc=/usr/lib/libc.so.92.3
so=so
useshrplib=false
libperl=libperl.a
gnulibc_version=''
Dynamic Linking:
dlsrc=dl_dlopen.xs
dlext=so
d_dlsymun=undef
ccdlflags=' '
cccdlflags='-DPIC -fPIC '
lddlflags='-shared -fPIC -L/usr/local/lib -fstack-protector-strong'
Characteristics of this binary (from libperl):
Compile-time options:
HAS_TIMES
MULTIPLICITY
PERLIO_LAYERS
PERL_COPY_ON_WRITE
PERL_DONT_CREATE_GVSV
PERL_IMPLICIT_CONTEXT
PERL_MALLOC_WRAP
PERL_OP_PARENT
PERL_PRESERVE_IVUV
USE_64_BIT_ALL
USE_64_BIT_INT
USE_ITHREADS
USE_LARGE_FILES
USE_LOCALE
USE_LOCALE_COLLATE
USE_LOCALE_CTYPE
USE_LOCALE_NUMERIC
USE_LOCALE_TIME
USE_PERLIO
USE_PERL_ATOF
USE_REENTRANT_API
Locally applied patches:
Devel::PatchPerl 1.48
Built under openbsd
Compiled at Aug 2 2018 17:44:44
%ENV:
PERL5LIB=""
PERL5OPT=""
PERL5_CPANPLUS_IS_RUNNING="73295"
PERL5_CPAN_IS_RUNNING="73295"
PERL5_CPAN_IS_RUNNING_IN_RECURSION="24046,73295"
PERLBREW_HOME="/home/goku/.perlbrew"
PERLBREW_MANPATH="/home/goku/perl5/perlbrew/perls/perl-5.28.0/man"
PERLBREW_PATH="/home/goku/perl5/perlbrew/bin:/home/goku/perl5/perlbrew/perls/perl-5.28.0/bin"
PERLBREW_PERL="perl-5.28.0"
PERLBREW_ROOT="/home/goku/perl5/perlbrew"
PERLBREW_SHELLRC_VERSION="0.84"
PERLBREW_VERSION="0.84"
PERL_CR_SMOKER_CURRENT="Dist-Zilla-Plugin-PodKnit-0.0.1"
PERL_EXTUTILS_AUTOINSTALL="--defaultdeps"
PERL_MM_USE_DEFAULT="1"
PERL_USE_UNSAFE_INC="1"
@INC:
/home/goku/perl5/perlbrew/perls/perl-5.28.0/lib/site_perl/5.28.0/OpenBSD.amd64-openbsd-thread-multi
/home/goku/perl5/perlbrew/perls/perl-5.28.0/lib/site_perl/5.28.0
/home/goku/perl5/perlbrew/perls/perl-5.28.0/lib/5.28.0/OpenBSD.amd64-openbsd-thread-multi
/home/goku/perl5/perlbrew/perls/perl-5.28.0/lib/5.28.0
.