Conf-Libconfig v0.08 Perl 5 v5.16.2 i686-linux-thread-multi

Status
Pass
From
Alexandr Ciornii (CHORNY)
Dist
Conf-Libconfig v0.08
Platform
Perl 5 v5.16.2 i686-linux-thread-multi
Date
2013-08-26T16:46:08
ID
01c08ea2-0e6f-11e3-8234-884ef19adca3
This distribution has been tested as part of the CPAN Testers
project, supporting the Perl programming language.  See
http://wiki.cpantesters.org/ for more information or email
questions to cpan-testers-discuss@perl.org


--
Dear Li Jun Liang,

This is a computer-generated report for Conf-Libconfig-0.08
on perl 5.16.2, created by CPAN-Reporter-1.2010.

Thank you for uploading your work to CPAN.  Congratulations!
All tests were successful.

Sections of this report:

    * Tester comments
    * Program output
    * Prerequisites
    * Environment and other context

------------------------------
TESTER COMMENTS
------------------------------

Additional comments from tester:

this report is from an automated smoke testing program
and was not reviewed by a human for accuracy

------------------------------
PROGRAM OUTPUT
------------------------------

Output from '/usr/bin/make test':

PERL_DL_NONLAZY=1 /home/c/perl5/perlbrew/perls/5.16.2i/bin/perl "-MExtUtils::Command::MM" "-e" "test_harness(0, 'inc', 'blib/lib', 'blib/arch')" t/00-load.t t/01-init.t t/02-read.t t/03-write.t t/04-specread.t t/05-add.t t/06-delete.t t/07-memory.t t/08-exception.t t/09-complex.t t/10-mutiinit.t t/11-booltest.t t/11-mutinew.t t/12-includedir.t t/boilerplate.t t/pod-coverage.t t/pod-spell.t t/pod.t
# Testing Conf::Libconfig 0.08, Perl 5.016002, /home/c/perl5/perlbrew/perls/5.16.2i/bin/perl
t/00-load.t ........ ok
t/01-init.t ........ ok
t/02-read.t ........ ok
t/03-write.t ....... ok
t/04-specread.t .... ok
t/05-add.t ......... ok
t/06-delete.t ...... ok
t/07-memory.t ...... ok
t/08-exception.t ... ok
t/09-complex.t ..... ok
t/10-mutiinit.t .... ok
t/11-booltest.t .... ok
t/11-mutinew.t ..... ok
t/12-includedir.t .. skipped: libconfig version is too lower!
t/boilerplate.t .... ok
t/pod-coverage.t ... ok
t/pod-spell.t ...... skipped: Test::Spelling required for testing
t/pod.t ............ ok
All tests successful.

Test Summary Report
-------------------
t/05-add.t       (Wstat: 0 Tests: 16 Failed: 0)
  TODO passed:   14
Files=18, Tests=8987,  6 wallclock secs ( 0.03 usr  1.51 sys +  0.76 cusr  2.44 csys =  4.74 CPU)
Result: PASS

------------------------------
PREREQUISITES
------------------------------

Prerequisite modules loaded:

requires:

    Module              Need     Have    
    ------------------- -------- --------
    ExtUtils::PkgConfig 0        1.13    
    perl                5.006001 5.016002
    Test::Deep          0.1      0.110   
    Test::Exception     0.25     0.31    
    Test::More          0.6      0.98    
    Test::Warn          0.1      0.24    
    XSLoader            0.05     0.16    

build_requires:

    Module              Need     Have    
    ------------------- -------- --------
    ExtUtils::MakeMaker 6.3      6.63_02 
    ExtUtils::PkgConfig 0        1.13    
    Test::Deep          0.1      0.110   
    Test::Exception     0.25     0.31    
    Test::More          0.6      0.98    
    Test::Warn          0.1      0.24    

configure_requires:

    Module              Need     Have    
    ------------------- -------- --------
    ExtUtils::MakeMaker 6.30     6.63_02 
    ExtUtils::PkgConfig 0        1.13    


------------------------------
ENVIRONMENT AND OTHER CONTEXT
------------------------------

Environment variables:

    AUTOMATED_TESTING = 1
    LANG = ru_RU.utf8
    PATH = /home/c/perl5/perlbrew/bin:/home/c/perl5/perlbrew/perls/5.16.2i/bin:/usr/local/bin:/usr/bin:/bin:/usr/local/games:/usr/games
    PERL5LIB = 
    PERL5OPT = 
    PERL5_CPANPLUS_IS_RUNNING = 27896
    PERL5_CPAN_IS_RUNNING = 27896
    PERL5_CPAN_IS_RUNNING_IN_RECURSION = 20338,27896
    PERLBREW_MANPATH = /home/c/perl5/perlbrew/perls/5.16.2i/man
    PERLBREW_PATH = /home/c/perl5/perlbrew/bin:/home/c/perl5/perlbrew/perls/5.16.2i/bin
    PERLBREW_PERL = 5.16.2i
    PERLBREW_ROOT = /home/c/perl5/perlbrew
    PERLBREW_SKIP_INIT = 1
    PERLBREW_VERSION = 0.58
    PERL_CR_SMOKER_CURRENT = Conf-Libconfig-0.08
    PERL_EXTUTILS_AUTOINSTALL = --defaultdeps
    PERL_MM_USE_DEFAULT = 1
    SHELL = /bin/bash
    TERM = xterm

Perl special variables (and OS-specific diagnostics, for MSWin32):

    $^X = /home/c/perl5/perlbrew/perls/5.16.2i/bin/perl
    $UID/$EUID = 1000 / 1000
    $GID = 1000 24 25 27 29 30 44 46 108 109 115 1000 1001
    $EGID = 1000 24 25 27 29 30 44 46 108 109 115 1000 1001

Perl module toolchain versions installed:

    Module              Have    
    ------------------- --------
    CPAN                2.00    
    CPAN::Meta          2.120921
    Cwd                 3.40    
    ExtUtils::CBuilder  0.280206
    ExtUtils::Command   1.17    
    ExtUtils::Install   1.58    
    ExtUtils::MakeMaker 6.63_02 
    ExtUtils::Manifest  1.61    
    ExtUtils::ParseXS   3.16    
    File::Spec          3.40    
    JSON                2.53    
    JSON::PP            2.27200 
    Module::Build       0.4005  
    Module::Signature   0.70    
    Parse::CPAN::Meta   1.4404  
    Test::Harness       3.28    
    Test::More          0.98    
    YAML                0.84    
    YAML::Syck          1.22    
    version             0.9901  


--

Summary of my perl5 (revision 5 version 16 subversion 2) configuration:
   
  Platform:
    osname=linux, osvers=2.6.32-5-686, archname=i686-linux-thread-multi
    uname='linux deb1 2.6.32-5-686 #1 smp sun sep 23 09:49:36 utc 2012 i686 gnulinux '
    config_args='-de -Dprefix=/home/c/perl5/perlbrew/perls/5.16.2i -Dusethreads -Aeval:scriptdir=/home/c/perl5/perlbrew/perls/5.16.2i/bin'
    hint=recommended, useposix=true, d_sigaction=define
    useithreads=define, usemultiplicity=define
    useperlio=define, d_sfio=undef, uselargefiles=define, usesocks=undef
    use64bitint=undef, use64bitall=undef, uselongdouble=undef
    usemymalloc=n, bincompat5005=undef
  Compiler:
    cc='cc', ccflags ='-D_REENTRANT -D_GNU_SOURCE -fno-strict-aliasing -pipe -fstack-protector -I/usr/local/include -D_LARGEFILE_SOURCE -D_FILE_OFFSET_BITS=64',
    optimize='-O2',
    cppflags='-D_REENTRANT -D_GNU_SOURCE -fno-strict-aliasing -pipe -fstack-protector -I/usr/local/include'
    ccversion='', gccversion='4.4.5', gccosandvers=''
    intsize=4, longsize=4, ptrsize=4, doublesize=8, byteorder=1234
    d_longlong=define, longlongsize=8, d_longdbl=define, longdblsize=12
    ivtype='long', ivsize=4, nvtype='double', nvsize=8, Off_t='off_t', lseeksize=8
    alignbytes=4, prototype=define
  Linker and Libraries:
    ld='cc', ldflags =' -fstack-protector -L/usr/local/lib'
    libpth=/usr/local/lib /lib/../lib /usr/lib/../lib /lib /usr/lib /usr/lib/i486-linux-gnu /usr/lib64
    libs=-lnsl -lgdbm -ldb -ldl -lm -lcrypt -lutil -lpthread -lc -lgdbm_compat
    perllibs=-lnsl -ldl -lm -lcrypt -lutil -lpthread -lc
    libc=/lib/libc-2.11.3.so, so=so, useshrplib=false, libperl=libperl.a
    gnulibc_version='2.11.3'
  Dynamic Linking:
    dlsrc=dl_dlopen.xs, dlext=so, d_dlsymun=undef, ccdlflags='-Wl,-E'
    cccdlflags='-fPIC', lddlflags='-shared -O2 -L/usr/local/lib -fstack-protector'


Characteristics of this binary (from libperl): 
  Compile-time options: HAS_TIMES MULTIPLICITY PERLIO_LAYERS
                        PERL_DONT_CREATE_GVSV PERL_IMPLICIT_CONTEXT
                        PERL_MALLOC_WRAP PERL_PRESERVE_IVUV USE_ITHREADS
                        USE_LARGE_FILES USE_LOCALE USE_LOCALE_COLLATE
                        USE_LOCALE_CTYPE USE_LOCALE_NUMERIC USE_PERLIO
                        USE_PERL_ATOF USE_REENTRANT_API
  Built under linux
  Compiled at Jan 26 2013 16:12:36
  %ENV:
    PERL5LIB=""
    PERL5OPT=""
    PERL5_CPANPLUS_IS_RUNNING="27896"
    PERL5_CPAN_IS_RUNNING="27896"
    PERL5_CPAN_IS_RUNNING_IN_RECURSION="20338,27896"
    PERLBREW_MANPATH="/home/c/perl5/perlbrew/perls/5.16.2i/man"
    PERLBREW_PATH="/home/c/perl5/perlbrew/bin:/home/c/perl5/perlbrew/perls/5.16.2i/bin"
    PERLBREW_PERL="5.16.2i"
    PERLBREW_ROOT="/home/c/perl5/perlbrew"
    PERLBREW_SKIP_INIT="1"
    PERLBREW_VERSION="0.58"
    PERL_CR_SMOKER_CURRENT="Conf-Libconfig-0.08"
    PERL_EXTUTILS_AUTOINSTALL="--defaultdeps"
    PERL_MM_USE_DEFAULT="1"
  @INC:
    /home/c/perl5/perlbrew/perls/5.16.2i/lib/site_perl/5.16.2/i686-linux-thread-multi
    /home/c/perl5/perlbrew/perls/5.16.2i/lib/site_perl/5.16.2
    /home/c/perl5/perlbrew/perls/5.16.2i/lib/5.16.2/i686-linux-thread-multi
    /home/c/perl5/perlbrew/perls/5.16.2i/lib/5.16.2
    .