XAS-Collector v0.03 Perl 5 v5.27.9 x86_64-linux

Status
Pass
From
Slaven Rezić (SREZIC)
Dist
XAS-Collector v0.03
Platform
Perl 5 v5.27.9 x86_64-linux
Date
2018-02-25T07:53:45
ID
01930d86-1a01-11e8-95b6-b721ea95a47a
This distribution has been tested as part of the CPAN Testers
project, supporting the Perl programming language.  See
http://wiki.cpantesters.org/ for more information or email
questions to cpan-testers-discuss@perl.org


--
Dear Kevin L. Esteb,

This is a computer-generated report for XAS-Collector-0.03
on perl 5.27.9, created by CPAN-Reporter-1.2018.

Thank you for uploading your work to CPAN.  Congratulations!
All tests were successful.

Sections of this report:

    * Tester comments
    * Program output
    * Prerequisites
    * Environment and other context

------------------------------
TESTER COMMENTS
------------------------------

Additional comments from tester:

none provided

------------------------------
PROGRAM OUTPUT
------------------------------

Output from './Build test':

Name "XAS::Class::EXPORT_AFTER" used only once: possible typo at /opt/perl-5.27.9/lib/site_perl/5.27.9/Badger/Exporter.pm line 458.
Name "XAS::Class::EXPORT_HOOKS" used only once: possible typo at /opt/perl-5.27.9/lib/site_perl/5.27.9/Badger/Exporter.pm line 433.
Name "XAS::Class::EXPORT_BEFORE" used only once: possible typo at /opt/perl-5.27.9/lib/site_perl/5.27.9/Badger/Exporter.pm line 449.
Name "XAS::Class::EXPORT_ALL" used only once: possible typo at /opt/perl-5.27.9/lib/site_perl/5.27.9/Badger/Exporter.pm line 415.
Name "XAS::Constants::EXPORT_AFTER" used only once: possible typo at /opt/perl-5.27.9/lib/site_perl/5.27.9/Badger/Exporter.pm line 458.
Name "XAS::Constants::EXPORT_HOOKS" used only once: possible typo at /opt/perl-5.27.9/lib/site_perl/5.27.9/Badger/Exporter.pm line 433.
Name "XAS::Constants::EXPORT_BEFORE" used only once: possible typo at /opt/perl-5.27.9/lib/site_perl/5.27.9/Badger/Exporter.pm line 449.
Name "XAS::Lib::Stomp::POE::Client::EXPORTABLES" used only once: possible typo at /opt/perl-5.27.9/lib/site_perl/5.27.9/Badger/Exporter.pm line 381.
Name "XAS::Lib::Pidfile::Unix::EXPORT_AFTER" used only once: possible typo at /opt/perl-5.27.9/lib/site_perl/5.27.9/Badger/Exporter.pm line 458.
Name "XAS::Lib::Pidfile::Unix::EXPORT_ALL" used only once: possible typo at /opt/perl-5.27.9/lib/site_perl/5.27.9/Badger/Exporter.pm line 415.
Name "XAS::Lib::Pidfile::Unix::EXPORT_HOOKS" used only once: possible typo at /opt/perl-5.27.9/lib/site_perl/5.27.9/Badger/Exporter.pm line 433.
Name "XAS::Lib::Pidfile::Unix::EXPORT_BEFORE" used only once: possible typo at /opt/perl-5.27.9/lib/site_perl/5.27.9/Badger/Exporter.pm line 449.
Name "XAS::Lib::Mixins::Bufops::EXPORT_AFTER" used only once: possible typo at /opt/perl-5.27.9/lib/site_perl/5.27.9/Badger/Exporter.pm line 458.
Name "XAS::Lib::Mixins::Bufops::EXPORT_ALL" used only once: possible typo at /opt/perl-5.27.9/lib/site_perl/5.27.9/Badger/Exporter.pm line 415.
Name "XAS::Lib::Mixins::Bufops::EXPORT_HOOKS" used only once: possible typo at /opt/perl-5.27.9/lib/site_perl/5.27.9/Badger/Exporter.pm line 433.
Name "XAS::Lib::Mixins::Bufops::EXPORT_BEFORE" used only once: possible typo at /opt/perl-5.27.9/lib/site_perl/5.27.9/Badger/Exporter.pm line 449.
Name "XAS::Lib::Mixins::Handlers::EXPORT_AFTER" used only once: possible typo at /opt/perl-5.27.9/lib/site_perl/5.27.9/Badger/Exporter.pm line 458.
Name "XAS::Lib::Mixins::Handlers::EXPORT_ALL" used only once: possible typo at /opt/perl-5.27.9/lib/site_perl/5.27.9/Badger/Exporter.pm line 415.
Name "XAS::Lib::Mixins::Handlers::EXPORT_HOOKS" used only once: possible typo at /opt/perl-5.27.9/lib/site_perl/5.27.9/Badger/Exporter.pm line 433.
Name "XAS::Lib::Mixins::Handlers::EXPORT_BEFORE" used only once: possible typo at /opt/perl-5.27.9/lib/site_perl/5.27.9/Badger/Exporter.pm line 449.
Name "XAS::Lib::Mixins::Keepalive::EXPORT_AFTER" used only once: possible typo at /opt/perl-5.27.9/lib/site_perl/5.27.9/Badger/Exporter.pm line 458.
Name "XAS::Lib::Mixins::Keepalive::EXPORT_BEFORE" used only once: possible typo at /opt/perl-5.27.9/lib/site_perl/5.27.9/Badger/Exporter.pm line 449.
Name "XAS::Lib::Mixins::Keepalive::EXPORT_ALL" used only once: possible typo at /opt/perl-5.27.9/lib/site_perl/5.27.9/Badger/Exporter.pm line 415.
Name "XAS::Lib::Mixins::Keepalive::EXPORT_HOOKS" used only once: possible typo at /opt/perl-5.27.9/lib/site_perl/5.27.9/Badger/Exporter.pm line 433.
Name "XAS::Lib::Mixins::Configs::EXPORT_AFTER" used only once: possible typo at /opt/perl-5.27.9/lib/site_perl/5.27.9/Badger/Exporter.pm line 458.
Name "XAS::Lib::Mixins::Configs::EXPORT_ALL" used only once: possible typo at /opt/perl-5.27.9/lib/site_perl/5.27.9/Badger/Exporter.pm line 415.
Name "XAS::Lib::Mixins::Configs::EXPORT_HOOKS" used only once: possible typo at /opt/perl-5.27.9/lib/site_perl/5.27.9/Badger/Exporter.pm line 433.
Name "XAS::Lib::Mixins::Configs::EXPORT_BEFORE" used only once: possible typo at /opt/perl-5.27.9/lib/site_perl/5.27.9/Badger/Exporter.pm line 449.
Name "XAS::Lib::App::Service::Unix::EXPORT_AFTER" used only once: possible typo at /opt/perl-5.27.9/lib/site_perl/5.27.9/Badger/Exporter.pm line 458.
Name "XAS::Lib::App::Service::Unix::EXPORT_HOOKS" used only once: possible typo at /opt/perl-5.27.9/lib/site_perl/5.27.9/Badger/Exporter.pm line 433.
Name "XAS::Lib::App::Service::Unix::EXPORT_BEFORE" used only once: possible typo at /opt/perl-5.27.9/lib/site_perl/5.27.9/Badger/Exporter.pm line 449.
Name "XAS::Lib::App::Service::Unix::EXPORT_ALL" used only once: possible typo at /opt/perl-5.27.9/lib/site_perl/5.27.9/Badger/Exporter.pm line 415.
Name "XAS::Lib::Service::Unix::EXPORT_AFTER" used only once: possible typo at /opt/perl-5.27.9/lib/site_perl/5.27.9/Badger/Exporter.pm line 458.
Name "XAS::Lib::Service::Unix::EXPORT_HOOKS" used only once: possible typo at /opt/perl-5.27.9/lib/site_perl/5.27.9/Badger/Exporter.pm line 433.
Name "XAS::Lib::Service::Unix::EXPORT_BEFORE" used only once: possible typo at /opt/perl-5.27.9/lib/site_perl/5.27.9/Badger/Exporter.pm line 449.
Name "XAS::Lib::Service::Unix::EXPORT_ALL" used only once: possible typo at /opt/perl-5.27.9/lib/site_perl/5.27.9/Badger/Exporter.pm line 415.
Name "XAS::Collector::Output::Socket::Logstash::EXPORT_AFTER" used only once: possible typo at /opt/perl-5.27.9/lib/site_perl/5.27.9/Badger/Exporter.pm line 458.
Name "XAS::Collector::Output::Socket::Logstash::EXPORT_HOOKS" used only once: possible typo at /opt/perl-5.27.9/lib/site_perl/5.27.9/Badger/Exporter.pm line 433.
Name "XAS::Collector::Output::Socket::Logstash::EXPORT_BEFORE" used only once: possible typo at /opt/perl-5.27.9/lib/site_perl/5.27.9/Badger/Exporter.pm line 449.
Name "XAS::Collector::Output::Socket::Logstash::EXPORT_ANY" used only once: possible typo at /opt/perl-5.27.9/lib/site_perl/5.27.9/Badger/Exporter.pm line 406.
Name "XAS::Collector::Output::Socket::Logstash::EXPORT_ALL" used only once: possible typo at /opt/perl-5.27.9/lib/site_perl/5.27.9/Badger/Exporter.pm line 415.
Name "XAS::Collector::Output::Socket::Logstash::EXPORTABLES" used only once: possible typo at /opt/perl-5.27.9/lib/site_perl/5.27.9/Badger/Exporter.pm line 381.
Name "XAS::Collector::Output::Socket::Base::EXPORTABLES" used only once: possible typo at /opt/perl-5.27.9/lib/site_perl/5.27.9/Badger/Exporter.pm line 381.
Name "XAS::Collector::Output::Socket::OpenTSDB::EXPORT_AFTER" used only once: possible typo at /opt/perl-5.27.9/lib/site_perl/5.27.9/Badger/Exporter.pm line 458.
Name "XAS::Collector::Output::Socket::OpenTSDB::EXPORT_HOOKS" used only once: possible typo at /opt/perl-5.27.9/lib/site_perl/5.27.9/Badger/Exporter.pm line 433.
Name "XAS::Collector::Output::Socket::OpenTSDB::EXPORT_BEFORE" used only once: possible typo at /opt/perl-5.27.9/lib/site_perl/5.27.9/Badger/Exporter.pm line 449.
Name "XAS::Collector::Output::Socket::OpenTSDB::EXPORT_ANY" used only once: possible typo at /opt/perl-5.27.9/lib/site_perl/5.27.9/Badger/Exporter.pm line 406.
Name "XAS::Collector::Output::Socket::OpenTSDB::EXPORT_ALL" used only once: possible typo at /opt/perl-5.27.9/lib/site_perl/5.27.9/Badger/Exporter.pm line 415.
Name "XAS::Collector::Output::Socket::OpenTSDB::EXPORTABLES" used only once: possible typo at /opt/perl-5.27.9/lib/site_perl/5.27.9/Badger/Exporter.pm line 381.
Name "XAS::Collector::Input::Stomp::EXPORT_AFTER" used only once: possible typo at /opt/perl-5.27.9/lib/site_perl/5.27.9/Badger/Exporter.pm line 458.
Name "XAS::Collector::Input::Stomp::EXPORT_HOOKS" used only once: possible typo at /opt/perl-5.27.9/lib/site_perl/5.27.9/Badger/Exporter.pm line 433.
Name "XAS::Collector::Input::Stomp::EXPORT_BEFORE" used only once: possible typo at /opt/perl-5.27.9/lib/site_perl/5.27.9/Badger/Exporter.pm line 449.
Name "XAS::Collector::Input::Stomp::EXPORT_ANY" used only once: possible typo at /opt/perl-5.27.9/lib/site_perl/5.27.9/Badger/Exporter.pm line 406.
Name "XAS::Collector::Input::Stomp::EXPORT_ALL" used only once: possible typo at /opt/perl-5.27.9/lib/site_perl/5.27.9/Badger/Exporter.pm line 415.
Name "XAS::Collector::Input::Stomp::EXPORTABLES" used only once: possible typo at /opt/perl-5.27.9/lib/site_perl/5.27.9/Badger/Exporter.pm line 381.
Name "XAS::Exception::EXPORT_AFTER" used only once: possible typo at /opt/perl-5.27.9/lib/site_perl/5.27.9/Badger/Exporter.pm line 458.
Name "XAS::Exception::EXPORT_BEFORE" used only once: possible typo at /opt/perl-5.27.9/lib/site_perl/5.27.9/Badger/Exporter.pm line 449.
Name "XAS::Exception::EXPORT_ALL" used only once: possible typo at /opt/perl-5.27.9/lib/site_perl/5.27.9/Badger/Exporter.pm line 415.
Name "XAS::Exception::EXPORT_HOOKS" used only once: possible typo at /opt/perl-5.27.9/lib/site_perl/5.27.9/Badger/Exporter.pm line 433.
Name "XAS::Exception::EXPORT_ANY" used only once: possible typo at /opt/perl-5.27.9/lib/site_perl/5.27.9/Badger/Exporter.pm line 406.
Name "XAS::Utils::EXPORT_AFTER" used only once: possible typo at /opt/perl-5.27.9/lib/site_perl/5.27.9/Badger/Exporter.pm line 458.
Name "XAS::Utils::EXPORT_HOOKS" used only once: possible typo at /opt/perl-5.27.9/lib/site_perl/5.27.9/Badger/Exporter.pm line 433.
Name "XAS::Utils::EXPORT_BEFORE" used only once: possible typo at /opt/perl-5.27.9/lib/site_perl/5.27.9/Badger/Exporter.pm line 449.
Name "XAS::Model::DBM::EXPORT_AFTER" used only once: possible typo at /opt/perl-5.27.9/lib/site_perl/5.27.9/Badger/Exporter.pm line 458.
Name "XAS::Model::DBM::EXPORT_ALL" used only once: possible typo at /opt/perl-5.27.9/lib/site_perl/5.27.9/Badger/Exporter.pm line 415.
Name "XAS::Model::DBM::EXPORT_HOOKS" used only once: possible typo at /opt/perl-5.27.9/lib/site_perl/5.27.9/Badger/Exporter.pm line 433.
Name "XAS::Model::DBM::EXPORT_BEFORE" used only once: possible typo at /opt/perl-5.27.9/lib/site_perl/5.27.9/Badger/Exporter.pm line 449.
Name "XAS::Model::Database::EXPORT_AFTER" used only once: possible typo at /opt/perl-5.27.9/lib/site_perl/5.27.9/Badger/Exporter.pm line 458.
Name "XAS::Model::Database::EXPORT_ALL" used only once: possible typo at /opt/perl-5.27.9/lib/site_perl/5.27.9/Badger/Exporter.pm line 415.
Name "XAS::Model::Database::EXPORT_BEFORE" used only once: possible typo at /opt/perl-5.27.9/lib/site_perl/5.27.9/Badger/Exporter.pm line 449.
Name "XAS::Model::Database::EXPORT_ANY" used only once: possible typo at /opt/perl-5.27.9/lib/site_perl/5.27.9/Badger/Exporter.pm line 406.
Name "XAS::Factory::EXPORT_AFTER" used only once: possible typo at /opt/perl-5.27.9/lib/site_perl/5.27.9/Badger/Exporter.pm line 458.
Name "XAS::Factory::EXPORT_ALL" used only once: possible typo at /opt/perl-5.27.9/lib/site_perl/5.27.9/Badger/Exporter.pm line 415.
Name "XAS::Factory::EXPORT_HOOKS" used only once: possible typo at /opt/perl-5.27.9/lib/site_perl/5.27.9/Badger/Exporter.pm line 433.
Name "XAS::Factory::EXPORT_BEFORE" used only once: possible typo at /opt/perl-5.27.9/lib/site_perl/5.27.9/Badger/Exporter.pm line 449.
Name "XAS::Factory::EXPORT_ANY" used only once: possible typo at /opt/perl-5.27.9/lib/site_perl/5.27.9/Badger/Exporter.pm line 406.
Name "Badger::Class::Methods::EXPORT_AFTER" used only once: possible typo at /opt/perl-5.27.9/lib/site_perl/5.27.9/Badger/Exporter.pm line 458.
Name "Badger::Class::Methods::EXPORT_BEFORE" used only once: possible typo at /opt/perl-5.27.9/lib/site_perl/5.27.9/Badger/Exporter.pm line 449.
Name "Badger::Class::Methods::EXPORT_ANY" used only once: possible typo at /opt/perl-5.27.9/lib/site_perl/5.27.9/Badger/Exporter.pm line 406.
Name "Badger::Class::Methods::EXPORT_ALL" used only once: possible typo at /opt/perl-5.27.9/lib/site_perl/5.27.9/Badger/Exporter.pm line 415.
Name "Badger::Class::Methods::EXPORTABLES" used only once: possible typo at /opt/perl-5.27.9/lib/site_perl/5.27.9/Badger/Exporter.pm line 381.
Name "Badger::Codec::EXPORT_AFTER" used only once: possible typo at /opt/perl-5.27.9/lib/site_perl/5.27.9/Badger/Exporter.pm line 458.
Name "Badger::Codec::Chain::EXPORT_AFTER" used only once: possible typo at /opt/perl-5.27.9/lib/site_perl/5.27.9/Badger/Exporter.pm line 458.
Name "Badger::Codec::Chain::EXPORT_ALL" used only once: possible typo at /opt/perl-5.27.9/lib/site_perl/5.27.9/Badger/Exporter.pm line 415.
Name "Badger::Codec::Chain::EXPORTABLES" used only once: possible typo at /opt/perl-5.27.9/lib/site_perl/5.27.9/Badger/Exporter.pm line 381.
Name "Badger::Codec::Chain::EXPORT_HOOKS" used only once: possible typo at /opt/perl-5.27.9/lib/site_perl/5.27.9/Badger/Exporter.pm line 433.
Name "Badger::Codec::Chain::EXPORT_BEFORE" used only once: possible typo at /opt/perl-5.27.9/lib/site_perl/5.27.9/Badger/Exporter.pm line 449.
Name "Badger::Codec::EXPORT_ALL" used only once: possible typo at /opt/perl-5.27.9/lib/site_perl/5.27.9/Badger/Exporter.pm line 415.
Name "Badger::Codec::EXPORT_HOOKS" used only once: possible typo at /opt/perl-5.27.9/lib/site_perl/5.27.9/Badger/Exporter.pm line 433.
Name "Badger::Codec::EXPORT_BEFORE" used only once: possible typo at /opt/perl-5.27.9/lib/site_perl/5.27.9/Badger/Exporter.pm line 449.
Name "Badger::Codec::EXPORT_ANY" used only once: possible typo at /opt/perl-5.27.9/lib/site_perl/5.27.9/Badger/Exporter.pm line 406.
Name "Badger::Debug::EXPORT_AFTER" used only once: possible typo at /opt/perl-5.27.9/lib/site_perl/5.27.9/Badger/Exporter.pm line 458.
Name "Badger::Debug::EXPORT_BEFORE" used only once: possible typo at /opt/perl-5.27.9/lib/site_perl/5.27.9/Badger/Exporter.pm line 449.
Name "Badger::Debug::EXPORT_ALL" used only once: possible typo at /opt/perl-5.27.9/lib/site_perl/5.27.9/Badger/Exporter.pm line 415.
Name "Badger::Rainbow::EXPORT_AFTER" used only once: possible typo at /opt/perl-5.27.9/lib/site_perl/5.27.9/Badger/Exporter.pm line 458.
Name "Badger::Rainbow::EXPORT_ALL" used only once: possible typo at /opt/perl-5.27.9/lib/site_perl/5.27.9/Badger/Exporter.pm line 415.
Name "Badger::Rainbow::EXPORT_BEFORE" used only once: possible typo at /opt/perl-5.27.9/lib/site_perl/5.27.9/Badger/Exporter.pm line 449.
Name "Badger::Mixin::EXPORTABLES" used only once: possible typo at /opt/perl-5.27.9/lib/site_perl/5.27.9/Badger/Exporter.pm line 381.
Name "Badger::Codecs::EXPORT_AFTER" used only once: possible typo at /opt/perl-5.27.9/lib/site_perl/5.27.9/Badger/Exporter.pm line 458.
Name "Badger::Codecs::EXPORT_BEFORE" used only once: possible typo at /opt/perl-5.27.9/lib/site_perl/5.27.9/Badger/Exporter.pm line 449.
Name "Badger::Codecs::EXPORT_ALL" used only once: possible typo at /opt/perl-5.27.9/lib/site_perl/5.27.9/Badger/Exporter.pm line 415.
Name "Badger::Codecs::EXPORTABLES" used only once: possible typo at /opt/perl-5.27.9/lib/site_perl/5.27.9/Badger/Exporter.pm line 381.
Name "Badger::Exception::EXPORTABLES" used only once: possible typo at /opt/perl-5.27.9/lib/site_perl/5.27.9/Badger/Exporter.pm line 381.
Name "Badger::Filesystem::EXPORT_ALL" used only once: possible typo at /opt/perl-5.27.9/lib/site_perl/5.27.9/Badger/Exporter.pm line 415.
Name "Badger::Filesystem::EXPORT_AFTER" used only once: possible typo at /opt/perl-5.27.9/lib/site_perl/5.27.9/Badger/Exporter.pm line 458.
Name "Badger::Filesystem::Directory::EXPORT_AFTER" used only once: possible typo at /opt/perl-5.27.9/lib/site_perl/5.27.9/Badger/Exporter.pm line 458.
Name "Badger::Filesystem::Directory::EXPORT_HOOKS" used only once: possible typo at /opt/perl-5.27.9/lib/site_perl/5.27.9/Badger/Exporter.pm line 433.
Name "Badger::Filesystem::Directory::EXPORT_BEFORE" used only once: possible typo at /opt/perl-5.27.9/lib/site_perl/5.27.9/Badger/Exporter.pm line 449.
Name "Badger::Filesystem::Directory::EXPORT_ANY" used only once: possible typo at /opt/perl-5.27.9/lib/site_perl/5.27.9/Badger/Exporter.pm line 406.
Name "Badger::Filesystem::Directory::EXPORT_ALL" used only once: possible typo at /opt/perl-5.27.9/lib/site_perl/5.27.9/Badger/Exporter.pm line 415.
Name "Badger::Filesystem::Path::EXPORTABLES" used only once: possible typo at /opt/perl-5.27.9/lib/site_perl/5.27.9/Badger/Exporter.pm line 381.
Name "Badger::Filesystem::EXPORT_BEFORE" used only once: possible typo at /opt/perl-5.27.9/lib/site_perl/5.27.9/Badger/Exporter.pm line 449.
Name "Badger::Filesystem::File::EXPORT_AFTER" used only once: possible typo at /opt/perl-5.27.9/lib/site_perl/5.27.9/Badger/Exporter.pm line 458.
Name "Badger::Filesystem::File::EXPORT_HOOKS" used only once: possible typo at /opt/perl-5.27.9/lib/site_perl/5.27.9/Badger/Exporter.pm line 433.
Name "Badger::Filesystem::File::EXPORT_BEFORE" used only once: possible typo at /opt/perl-5.27.9/lib/site_perl/5.27.9/Badger/Exporter.pm line 449.
Name "Badger::Filesystem::File::EXPORT_ANY" used only once: possible typo at /opt/perl-5.27.9/lib/site_perl/5.27.9/Badger/Exporter.pm line 406.
Name "Badger::Filesystem::File::EXPORT_ALL" used only once: possible typo at /opt/perl-5.27.9/lib/site_perl/5.27.9/Badger/Exporter.pm line 415.
Name "Badger::Filesystem::File::EXPORTABLES" used only once: possible typo at /opt/perl-5.27.9/lib/site_perl/5.27.9/Badger/Exporter.pm line 381.
Name "Badger::Factory::Class::EXPORT_AFTER" used only once: possible typo at /opt/perl-5.27.9/lib/site_perl/5.27.9/Badger/Exporter.pm line 458.
Name "Badger::Factory::Class::EXPORT_HOOKS" used only once: possible typo at /opt/perl-5.27.9/lib/site_perl/5.27.9/Badger/Exporter.pm line 433.
Name "Badger::Factory::Class::EXPORT_ALL" used only once: possible typo at /opt/perl-5.27.9/lib/site_perl/5.27.9/Badger/Exporter.pm line 415.
Name "Badger::Factory::EXPORTABLES" used only once: possible typo at /opt/perl-5.27.9/lib/site_perl/5.27.9/Badger/Exporter.pm line 381.
Name "Badger::Timestamp::EXPORT_ALL" used only once: possible typo at /opt/perl-5.27.9/lib/site_perl/5.27.9/Badger/Exporter.pm line 415.
Name "Badger::Timestamp::EXPORT_AFTER" used only once: possible typo at /opt/perl-5.27.9/lib/site_perl/5.27.9/Badger/Exporter.pm line 458.
Name "Badger::Timestamp::EXPORT_HOOKS" used only once: possible typo at /opt/perl-5.27.9/lib/site_perl/5.27.9/Badger/Exporter.pm line 433.
Name "Badger::Timestamp::EXPORT_BEFORE" used only once: possible typo at /opt/perl-5.27.9/lib/site_perl/5.27.9/Badger/Exporter.pm line 449.
Name "Badger::Timestamp::EXPORTABLES" used only once: possible typo at /opt/perl-5.27.9/lib/site_perl/5.27.9/Badger/Exporter.pm line 381.
# Testing XAS Collector 0.03, Perl 5.027009, /bbbike/perl-5.27.9/bin/perl5.27.9
t/00-load.t ...... ok
t/boilerplate.t .. skipped: Author tests not required for installation
t/manifest.t ..... skipped: Author tests not required for installation
t/pod.t .......... skipped: Author tests not required for installation
All tests successful.
Files=4, Tests=18,  1 wallclock secs ( 0.02 usr  0.03 sys +  0.53 cusr  0.14 csys =  0.72 CPU)
Result: PASS

------------------------------
PREREQUISITES
------------------------------

Prerequisite modules loaded:

requires:

    Module        Need    Have    
    ------------- ------- --------
    perl          5.00808 5.027009
    XAS           0.08    0.15    
    XAS::Model    0.01    0.02    

build_requires:

    Module        Need    Have    
    ------------- ------- --------
    Test::More    0       1.302125

configure_requires:

    Module        Need    Have    
    ------------- ------- --------
    Module::Build 0       0.4224  


------------------------------
ENVIRONMENT AND OTHER CONTEXT
------------------------------

Environment variables:

    LANG = C
    LC_ALL = de_DE.UTF-8
    PATH = /usr/local/bin:/usr/bin:/bin:/usr/local/sbin:/usr/sbin:/sbin:/home/cpansand/bin/linux-gnu:/home/cpansand/bin/sh:/home/cpansand/bin:/usr/games:/home/cpansand/devel:/home/eserte/src/srezic-misc/scripts
    PERL5LIB = /home/cpansand/.cpan/build/2018022506/XAS-Model-0.02-0/blib/arch:/home/cpansand/.cpan/build/2018022506/XAS-Model-0.02-0/blib/lib:/home/cpansand/.cpan/build/2018022506/XAS-0.15-0/blib/arch:/home/cpansand/.cpan/build/2018022506/XAS-0.15-0/blib/lib
    PERL5OPT = 
    PERL5_CPANPLUS_IS_RUNNING = 19933
    PERL5_CPAN_IS_RUNNING = 19933
    PERL5_CPAN_IS_RUNNING_IN_RECURSION = 30691,19933
    PERLDOC = -MPod::Perldoc::ToTextOverstrike
    PERL_BATCH = yes
    PERL_CANARY_STABILITY_NOPROMPT = 1
    PERL_CPAN_REPORTER_CONFIG = /var/tmp/cpansmoker-1023/2018022503/cpanreporter_001_config.ini
    PERL_EXTUTILS_AUTOINSTALL = --defaultdeps
    PERL_PARALLEL_SMOKER = yes
    PERL_USE_UNSAFE_INC = 1
    SHELL = /bin/zsh
    TERM = screen
    TMPDIR = /var/tmp/cpansmoker-1023/2018022503

Perl special variables (and OS-specific diagnostics, for MSWin32):

    $^X = /bbbike/perl-5.27.9/bin/perl5.27.9
    $UID/$EUID = 1023 / 1023
    $GID = 1023 1023
    $EGID = 1023 1023

Perl module toolchain versions installed:

    Module              Have    
    ------------------- --------
    CPAN                2.20    
    CPAN::Meta          2.150010
    Cwd                 3.74    
    ExtUtils::CBuilder  0.280230
    ExtUtils::Command   7.32    
    ExtUtils::Install   2.14    
    ExtUtils::MakeMaker 7.32    
    ExtUtils::Manifest  1.70    
    ExtUtils::ParseXS   3.35    
    File::Spec          3.74    
    JSON                2.97001 
    JSON::PP            2.97001 
    Module::Build       0.4224  
    Module::Signature   0.81    
    Parse::CPAN::Meta   2.150010
    Test::Harness       3.39    
    Test::More          1.302125
    YAML                1.24    
    YAML::Syck          1.30    
    version             0.9918  


--

Summary of my perl5 (revision 5 version 27 subversion 9) configuration:
   
  Platform:
    osname=linux
    osvers=3.16.0-4-amd64
    archname=x86_64-linux
    uname='linux eserte 3.16.0-4-amd64 #1 smp debian 3.16.51-2 (2017-12-03) x86_64 gnulinux '
    config_args='-ds -e -Dprefix=/opt/perl-5.27.9 -Dusedevel -Dusemallocwrap=no -Dcf_email=srezic@cpan.org'
    hint=recommended
    useposix=true
    d_sigaction=define
    useithreads=undef
    usemultiplicity=undef
    use64bitint=define
    use64bitall=define
    uselongdouble=undef
    usemymalloc=n
    default_inc_excludes_dot=define
    bincompat5005=undef
  Compiler:
    cc='cc'
    ccflags ='-fwrapv -fno-strict-aliasing -pipe -fstack-protector-strong -I/usr/local/include -D_LARGEFILE_SOURCE -D_FILE_OFFSET_BITS=64 -D_FORTIFY_SOURCE=2'
    optimize='-O2'
    cppflags='-fwrapv -fno-strict-aliasing -pipe -fstack-protector-strong -I/usr/local/include'
    ccversion=''
    gccversion='4.9.2'
    gccosandvers=''
    intsize=4
    longsize=8
    ptrsize=8
    doublesize=8
    byteorder=12345678
    doublekind=3
    d_longlong=define
    longlongsize=8
    d_longdbl=define
    longdblsize=16
    longdblkind=3
    ivtype='long'
    ivsize=8
    nvtype='double'
    nvsize=8
    Off_t='off_t'
    lseeksize=8
    alignbytes=8
    prototype=define
  Linker and Libraries:
    ld='cc'
    ldflags =' -fstack-protector-strong -L/usr/local/lib'
    libpth=/usr/local/lib /usr/lib/gcc/x86_64-linux-gnu/4.9/include-fixed /usr/include/x86_64-linux-gnu /usr/lib /lib/x86_64-linux-gnu /lib/../lib /usr/lib/x86_64-linux-gnu /usr/lib/../lib /lib
    libs=-lpthread -lnsl -lgdbm -ldb -ldl -lm -lcrypt -lutil -lc -lgdbm_compat
    perllibs=-lpthread -lnsl -ldl -lm -lcrypt -lutil -lc
    libc=libc-2.19.so
    so=so
    useshrplib=false
    libperl=libperl.a
    gnulibc_version='2.19'
  Dynamic Linking:
    dlsrc=dl_dlopen.xs
    dlext=so
    d_dlsymun=undef
    ccdlflags='-Wl,-E'
    cccdlflags='-fPIC'
    lddlflags='-shared -O2 -L/usr/local/lib -fstack-protector-strong'


Characteristics of this binary (from libperl): 
  Compile-time options:
    HAS_TIMES
    PERLIO_LAYERS
    PERL_COPY_ON_WRITE
    PERL_DONT_CREATE_GVSV
    PERL_OP_PARENT
    PERL_PRESERVE_IVUV
    PERL_USE_DEVEL
    USE_64_BIT_ALL
    USE_64_BIT_INT
    USE_LARGE_FILES
    USE_LOCALE
    USE_LOCALE_COLLATE
    USE_LOCALE_CTYPE
    USE_LOCALE_NUMERIC
    USE_LOCALE_TIME
    USE_PERLIO
    USE_PERL_ATOF
  Built under linux
  Compiled at Feb 20 2018 21:07:44
  %ENV:
    PERL5LIB="/home/cpansand/.cpan/build/2018022506/XAS-Model-0.02-0/blib/arch:/home/cpansand/.cpan/build/2018022506/XAS-Model-0.02-0/blib/lib:/home/cpansand/.cpan/build/2018022506/XAS-0.15-0/blib/arch:/home/cpansand/.cpan/build/2018022506/XAS-0.15-0/blib/lib"
    PERL5OPT=""
    PERL5_CPANPLUS_IS_RUNNING="19933"
    PERL5_CPAN_IS_RUNNING="19933"
    PERL5_CPAN_IS_RUNNING_IN_RECURSION="30691,19933"
    PERLDOC="-MPod::Perldoc::ToTextOverstrike"
    PERL_BATCH="yes"
    PERL_CANARY_STABILITY_NOPROMPT="1"
    PERL_CPAN_REPORTER_CONFIG="/var/tmp/cpansmoker-1023/2018022503/cpanreporter_001_config.ini"
    PERL_EXTUTILS_AUTOINSTALL="--defaultdeps"
    PERL_PARALLEL_SMOKER="yes"
    PERL_USE_UNSAFE_INC="1"
  @INC:
    /home/cpansand/.cpan/build/2018022506/XAS-Model-0.02-0/blib/arch
    /home/cpansand/.cpan/build/2018022506/XAS-Model-0.02-0/blib/lib
    /home/cpansand/.cpan/build/2018022506/XAS-0.15-0/blib/arch
    /home/cpansand/.cpan/build/2018022506/XAS-0.15-0/blib/lib
    /opt/perl-5.27.9/lib/site_perl/5.27.9/x86_64-linux
    /opt/perl-5.27.9/lib/site_perl/5.27.9
    /opt/perl-5.27.9/lib/5.27.9/x86_64-linux
    /opt/perl-5.27.9/lib/5.27.9
    .