DB-Pluggable v1.111751 Perl 5 v5.12.2 x86_64-dragonfly-thread-multi

Status
Pass
From
Tom Molesworth
Dist
DB-Pluggable v1.111751
Platform
Perl 5 v5.12.2 x86_64-dragonfly-thread-multi
Date
2011-07-16 05:32:32
ID
014b4c2c-af6d-11e0-ba3f-8c166f542168
This distribution has been tested as part of the CPAN Testers
project, supporting the Perl programming language.  See
http://wiki.cpantesters.org/ for more information or email
questions to cpan-testers-discuss@perl.org


--
Dear Marcel Gruenauer,

This is a computer-generated report for DB-Pluggable-1.111751
on perl 5.12.2, created by CPAN-Reporter-1.1902.

Thank you for uploading your work to CPAN.  Congratulations!
All tests were successful.

Sections of this report:

    * Tester comments
    * Program output
    * Prerequisites
    * Environment and other context

------------------------------
TESTER COMMENTS
------------------------------

Additional comments from tester:

this report is from an automated smoke testing program
and was not reviewed by a human for accuracy

------------------------------
PROGRAM OUTPUT
------------------------------

Output from '/usr/bin/make test':

PERL_DL_NONLAZY=1 /usr/pkg/bin/perl "-MExtUtils::Command::MM" "-e" "test_harness(0, 'blib/lib', 'blib/arch')" t/*.t
t/00-compile.t ............... ok
# Testing with Perl 5.012002, /usr/pkg/bin/perl
#     Brickyard version is 1.111750
#     Brickyard::Accessor version is 1.111750
#     Brickyard::Role::Plugin version is 1.111750
#     Carp version is 1.17
#     Data::Printer version is 0.21
#     English version is 1.04
#     ExtUtils::MakeMaker version is 6.58
#     File::Find version is 1.15
#     File::Temp version is 0.22
#     Hook::LexWrap version is 0.24
#     Role::Basic version is 0.12
#     Scalar::Util version is 1.23
#     Test::Builder version is 0.98
#     Test::More version is 0.98
t/000-report-versions.t ...... ok
t/01_misc.t .................. ok
t/author-critic.t ............ skipped: these tests are for testing by the author
t/release-check-changes.t .... skipped: these tests are for release candidate testing
t/release-dist-manifest.t .... skipped: these tests are for release candidate testing
t/release-distmeta.t ......... skipped: these tests are for release candidate testing
t/release-eol.t .............. skipped: these tests are for release candidate testing
t/release-has-version.t ...... skipped: these tests are for release candidate testing
t/release-kwalitee.t ......... skipped: these tests are for release candidate testing
t/release-minimum-version.t .. skipped: these tests are for release candidate testing
t/release-no-tabs.t .......... skipped: these tests are for release candidate testing
t/release-pod-coverage.t ..... skipped: these tests are for release candidate testing
t/release-pod-spell.t ........ skipped: these tests are for release candidate testing
t/release-pod-syntax.t ....... skipped: these tests are for release candidate testing
t/release-portability.t ...... skipped: these tests are for release candidate testing
t/release-synopsis.t ......... skipped: these tests are for release candidate testing
t/release-unused-vars.t ...... skipped: these tests are for release candidate testing
All tests successful.
Files=18, Tests=23,  2 wallclock secs ( 0.10 usr  0.19 sys +  1.54 cusr  0.80 csys =  2.63 CPU)
Result: PASS

------------------------------
PREREQUISITES
------------------------------

Prerequisite modules loaded:

requires:

    Module                  Need     Have    
    ----------------------- -------- --------
    Brickyard               1.111750 1.111750
    Brickyard::Accessor     0        1.111750
    Brickyard::Role::Plugin 0        1.111750
    Data::Printer           0        0.21    
    Hook::LexWrap           0        0.24    
    Role::Basic             0        0.12    
    Test::Builder           0        0.98    

build_requires:

    Module                  Need     Have    
    ----------------------- -------- --------
    Carp                    0        1.17    
    English                 0        1.04    
    File::Find              0        1.15    
    File::Temp              0        0.22    
    Scalar::Util            0        1.23    
    Test::More              0.94     0.98    

configure_requires:

    Module                  Need     Have    
    ----------------------- -------- --------
    ExtUtils::MakeMaker     6.30     6.58    


------------------------------
ENVIRONMENT AND OTHER CONTEXT
------------------------------

Environment variables:

    AUTOMATED_TESTING = 1
    PATH = /home/cpan/perl5/bin:/sbin:/bin:/usr/sbin:/usr/bin:/usr/games:/usr/pkg/sbin:/usr/pkg/bin:/usr/pkg/xorg/bin:/usr/local/sbin:/usr/local/bin:/home/cpan/bin
    PERL5LIB = /home/cpan/perl5/lib/perl5/x86_64-dragonfly-thread-multi:/home/cpan/perl5/lib/perl5
    PERL5OPT = 
    PERL5_CPANPLUS_IS_RUNNING = 10910
    PERL5_CPAN_IS_RUNNING = 10910
    PERL5_CPAN_IS_RUNNING_IN_RECURSION = 39531,10910
    PERL_CR_SMOKER_CURRENT = DB-Pluggable-1.111751
    PERL_EXTUTILS_AUTOINSTALL = --defaultdeps
    PERL_LOCAL_LIB_ROOT = /home/cpan/perl5
    PERL_MB_OPT = --install_base /home/cpan/perl5
    PERL_MM_OPT = INSTALL_BASE=/home/cpan/perl5
    PERL_MM_USE_DEFAULT = 1
    SHELL = /bin/sh
    TERM = xterm

Perl special variables (and OS-specific diagnostics, for MSWin32):

    $^X = /usr/pkg/bin/perl
    $UID/$EUID = 1001 / 1001
    $GID = 1002 1002
    $EGID = 1002 1002

Perl module toolchain versions installed:

    Module              Have   
    ------------------- -------
    CPAN                1.97_51
    Cwd                 3.33   
    ExtUtils::CBuilder  0.27   
    ExtUtils::Command   1.16   
    ExtUtils::Install   1.55   
    ExtUtils::MakeMaker 6.58   
    ExtUtils::Manifest  1.58   
    ExtUtils::ParseXS   3.00_02
    File::Spec          3.33   
    Module::Build       0.3800 
    Module::Signature   0.68   
    Test::Harness       3.23   
    Test::More          0.98   
    YAML                0.73   
    YAML::Syck          1.17   
    version             0.91   


--

Summary of my perl5 (revision 5 version 12 subversion 2) configuration:
   
  Platform:
    osname=dragonfly, osvers=2.10-release, archname=x86_64-dragonfly-thread-multi
    uname='dragonfly pkgbox64.dragonflybsd.org 2.10-release dragonfly v2.10.1.1.gf7ba0-release #9: mon apr 25 12:15:59 pdt 2011 root@pkgbox64.dragonflybsd.org:usrobjusrsrcsyspkgbox64 x86_64 '
    config_args='-sde -D ccflags=  -pthread  -I/usr/include -D ldflags=  -L/usr/lib -Wl,-R/usr/lib -Wl,-R/usr/pkg/lib -Duseshrplib -Duseithreads -Uusemymalloc'
    hint=recommended, useposix=true, d_sigaction=define
    useithreads=define, usemultiplicity=define
    useperlio=define, d_sfio=undef, uselargefiles=define, usesocks=undef
    use64bitint=define, use64bitall=define, uselongdouble=undef
    usemymalloc=n, bincompat5005=undef
  Compiler:
    cc='cc', ccflags ='-pthread -I/usr/include -DHAS_FPSETMASK -DHAS_FLOATINGPOINT_H -fno-strict-aliasing -pipe -fstack-protector -I/usr/local/include',
    optimize='  -pthread  -I/usr/include',
    cppflags='-pthread -I/usr/include -DHAS_FPSETMASK -DHAS_FLOATINGPOINT_H -fno-strict-aliasing -pipe -fstack-protector -I/usr/local/include'
    ccversion='', gccversion='4.4.5', gccosandvers=''
    intsize=4, longsize=8, ptrsize=8, doublesize=8, byteorder=12345678
    d_longlong=define, longlongsize=8, d_longdbl=define, longdblsize=16
    ivtype='long', ivsize=8, nvtype='double', nvsize=8, Off_t='off_t', lseeksize=8
    alignbytes=8, prototype=define
  Linker and Libraries:
    ld='cc', ldflags ='-Wl,-R/usr/pkg/lib -pthread -Wl,-E -fstack-protector'
    libpth=/usr/lib /usr/local/lib
    libs=-lm -lcrypt -lpthread -lrt
    perllibs=-lm -lcrypt -lpthread -lrt
    libc=, so=so, useshrplib=true, libperl=libperl.so
    gnulibc_version=''
  Dynamic Linking:
    dlsrc=dl_dlopen.xs, dlext=so, d_dlsymun=undef, ccdlflags='  -Wl,-R/usr/pkg/lib/perl5/5.12.0/x86_64-dragonfly-thread-multi/CORE'
    cccdlflags='-DPIC -fPIC', lddlflags='-Wl,-R/usr/pkg/lib -shared  -L/usr/local/lib -fstack-protector'


Characteristics of this binary (from libperl): 
  Compile-time options: MULTIPLICITY PERL_DONT_CREATE_GVSV
                        PERL_IMPLICIT_CONTEXT PERL_MALLOC_WRAP USE_64_BIT_ALL
                        USE_64_BIT_INT USE_ITHREADS USE_LARGE_FILES
                        USE_PERLIO USE_PERL_ATOF USE_REENTRANT_API
  Built under dragonfly
  Compiled at Apr 25 2011 23:58:51
  %ENV:
    PERL5LIB="/home/cpan/perl5/lib/perl5/x86_64-dragonfly-thread-multi:/home/cpan/perl5/lib/perl5"
    PERL5OPT=""
    PERL5_CPANPLUS_IS_RUNNING="10910"
    PERL5_CPAN_IS_RUNNING="10910"
    PERL5_CPAN_IS_RUNNING_IN_RECURSION="39531,10910"
    PERL_CR_SMOKER_CURRENT="DB-Pluggable-1.111751"
    PERL_EXTUTILS_AUTOINSTALL="--defaultdeps"
    PERL_LOCAL_LIB_ROOT="/home/cpan/perl5"
    PERL_MB_OPT="--install_base /home/cpan/perl5"
    PERL_MM_OPT="INSTALL_BASE=/home/cpan/perl5"
    PERL_MM_USE_DEFAULT="1"
  @INC:
    /home/cpan/perl5/lib/perl5/x86_64-dragonfly-thread-multi
    /home/cpan/perl5/lib/perl5/x86_64-dragonfly-thread-multi
    /home/cpan/perl5/lib/perl5
    /usr/pkg/lib/perl5/site_perl/5.12.0/x86_64-dragonfly-thread-multi
    /usr/pkg/lib/perl5/site_perl/5.12.0
    /usr/pkg/lib/perl5/vendor_perl/5.12.0/x86_64-dragonfly-thread-multi
    /usr/pkg/lib/perl5/vendor_perl/5.12.0
    /usr/pkg/lib/perl5/5.12.0/x86_64-dragonfly-thread-multi
    /usr/pkg/lib/perl5/5.12.0
    .