MouseX-NativeTraits v1.09 Perl 5 v5.16.2 x86_64-linux

Status
Pass
From
Glen Solsberry
Dist
MouseX-NativeTraits v1.09
Platform
Perl 5 v5.16.2 x86_64-linux
Date
2012-11-27 15:13:31
ID
013fde42-38a5-11e2-9fcf-44e8104a914d
This distribution has been tested as part of the CPAN Testers
project, supporting the Perl programming language.  See
http://wiki.cpantesters.org/ for more information or email
questions to cpan-testers-discuss@perl.org


--
Dear Goro Fuji,

This is a computer-generated report for MouseX-NativeTraits-1.09
on perl 5.16.2, created by CPAN-Reporter-1.2006.

Thank you for uploading your work to CPAN.  Congratulations!
All tests were successful.

Sections of this report:

    * Tester comments
    * Program output
    * Prerequisites
    * Environment and other context

------------------------------
TESTER COMMENTS
------------------------------

Additional comments from tester:

this report is from an automated smoke testing program
and was not reviewed by a human for accuracy

------------------------------
PROGRAM OUTPUT
------------------------------

Output from '/usr/bin/make test':

PERL_DL_NONLAZY=1 /root/perl5/perlbrew/perls/perl-5.16.2/bin/perl "-MExtUtils::Command::MM" "-e" "\$ENV{q{ANY_MOOSE}} = q{Mouse}; test_harness(0, 'inc', 'blib/lib', 'blib/arch'); " t/*.t t/070_native_traits/*.t
# Testing MouseX::NativeTraits/1.09
# Dependencies:
#     Mouse/1.02
t/00_load.t ...................................... ok
t/01_basic.t ..................................... ok
t/02_meta.t ...................................... ok
t/03_extra.t ..................................... ok
t/04_counter.t ................................... ok
t/05_remain_tied.t ............................... ok
t/070_native_traits/010_trait_array.t ............ ok
t/070_native_traits/011_array_subtypes.t ......... ok
t/070_native_traits/012_array_trigger.t .......... ok
t/070_native_traits/013_array_coerce.t ........... skipped: Not supported by MouseX::NativeTraits
t/070_native_traits/020_trait_bool.t ............. ok
t/070_native_traits/030_trait_code.t ............. ok
t/070_native_traits/040_trait_counter.t .......... ok
t/070_native_traits/050_trait_hash.t ............. ok
t/070_native_traits/051_hash_subtypes.t .......... ok
t/070_native_traits/052_hash_trigger.t ........... ok
t/070_native_traits/053_hash_coerce.t ............ skipped: Not supported by MouseX::NativeTraits
t/070_native_traits/060_trait_number.t ........... ok
t/070_native_traits/070_trait_string.t ........... ok
t/070_native_traits/100_array_from_role.t ........ ok
t/070_native_traits/101_remove_attribute.t ....... skipped: Not supported by MouseX::NativeTraits
t/070_native_traits/102_collection_with_roles.t .. ok
t/070_native_traits/103_custom_instance.t ........ skipped: not supproted by MouseX::NativeTraits
All tests successful.
Files=23, Tests=3482,  2 wallclock secs ( 0.39 usr  0.06 sys +  1.63 cusr  0.16 csys =  2.24 CPU)
Result: PASS

------------------------------
PREREQUISITES
------------------------------

Prerequisite modules loaded:

requires:

    Module              Need     Have    
    ------------------- -------- --------
    Mouse               0.82     1.02    
    perl                5.006002 5.016002

build_requires:

    Module              Need     Have    
    ------------------- -------- --------
    Any::Moose          0.13     0.18    
    ExtUtils::MakeMaker 6.59     6.63_02 
    Test::Fatal         0.003    0.010   
    Test::More          0.88     0.98    

configure_requires:

    Module              Need     Have    
    ------------------- -------- --------
    ExtUtils::MakeMaker 6.59     6.63_02 


------------------------------
ENVIRONMENT AND OTHER CONTEXT
------------------------------

Environment variables:

    AUTOMATED_TESTING = 1
    LANG = en_US.UTF-8
    PATH = /root/perl5/perlbrew/bin:/root/perl5/perlbrew/perls/perl-5.16.2/bin:/home/glens/.gem/ruby/1.9.1/bin:/home/glens/bin:~/bin:/home/glens/.gem/ruby/1.9.1/bin:/home/glens/bin:~/bin:/home/glens/.gem/ruby/1.9.1/bin:/home/glens/bin:~/bin:/usr/lib64/qt-3.3/bin:/usr/local/sbin:/usr/local/bin:/sbin:/bin:/usr/sbin:/usr/bin
    PERL5LIB = /root/.cpan/build/Test-HTTP-AnyEvent-Server-0.005-y1yxyp/blib/arch:/root/.cpan/build/Test-HTTP-AnyEvent-Server-0.005-y1yxyp/blib/lib:/root/.cpan/build/AnyEvent-HTTP-2.15-0ylZuY/blib/arch:/root/.cpan/build/AnyEvent-HTTP-2.15-0ylZuY/blib/lib:/root/.cpan/build/Net-Curl-0.25-eVRRgD/blib/arch:/root/.cpan/build/Net-Curl-0.25-eVRRgD/blib/lib:/root/.cpan/build/ExtUtils-PkgConfig-1.13-XwRSUu/blib/arch:/root/.cpan/build/ExtUtils-PkgConfig-1.13-XwRSUu/blib/lib:/root/.cpan/build/AnyEvent-7.04-bkN3UO/blib/arch:/root/.cpan/build/AnyEvent-7.04-bkN3UO/blib/lib:/root/.cpan/build/Test-Fatal-0.010-tflQ9P/blib/arch:/root/.cpan/build/Test-Fatal-0.010-tflQ9P/blib/lib:/root/.cpan/build/Any-Moose-0.18-5Cpmx1/blib/arch:/root/.cpan/build/Any-Moose-0.18-5Cpmx1/blib/lib:/root/.cpan/build/Mouse-1.02-7fyJ9b/blib/arch:/root/.cpan/build/Mouse-1.02-7fyJ9b/blib/lib
    PERL5OPT = 
    PERL5_CPANPLUS_IS_RUNNING = 4032
    PERL5_CPAN_IS_RUNNING = 4032
    PERL5_CPAN_IS_RUNNING_IN_RECURSION = 45022,4032
    PERLBREW_BASHRC_VERSION = 0.58
    PERLBREW_HOME = /root/.perlbrew
    PERLBREW_MANPATH = /root/perl5/perlbrew/perls/perl-5.16.2/man
    PERLBREW_PATH = /root/perl5/perlbrew/bin:/root/perl5/perlbrew/perls/perl-5.16.2/bin
    PERLBREW_PERL = perl-5.16.2
    PERLBREW_ROOT = /root/perl5/perlbrew
    PERLBREW_VERSION = 0.58
    PERL_CR_SMOKER_CURRENT = AnyEvent-Net-Curl-Queued-0.037
    PERL_EXTUTILS_AUTOINSTALL = --defaultdeps
    PERL_MM_USE_DEFAULT = 1
    SHELL = /bin/bash
    TERM = xterm

Perl special variables (and OS-specific diagnostics, for MSWin32):

    $^X = /root/perl5/perlbrew/perls/perl-5.16.2/bin/perl
    $UID/$EUID = 0 / 0
    $GID = 0 0 1 2 3 4 6 10
    $EGID = 0 0 1 2 3 4 6 10

Perl module toolchain versions installed:

    Module              Have    
    ------------------- --------
    CPAN                1.9800  
    CPAN::Meta          2.120630
    Cwd                 3.39_02 
    ExtUtils::CBuilder  0.280206
    ExtUtils::Command   1.17    
    ExtUtils::Install   1.58    
    ExtUtils::MakeMaker 6.63_02 
    ExtUtils::Manifest  1.61    
    ExtUtils::ParseXS   3.16    
    File::Spec          3.39_02 
    JSON                2.53    
    JSON::PP            2.27200 
    Module::Build       0.39_01 
    Module::Signature   n/a     
    Parse::CPAN::Meta   1.4402  
    Test::Harness       3.23    
    Test::More          0.98    
    YAML                0.84    
    YAML::Syck          n/a     
    version             0.99    


--

Summary of my perl5 (revision 5 version 16 subversion 2) configuration:
   
  Platform:
    osname=linux, osvers=2.6.32-279.11.1.el6.x86_64, archname=x86_64-linux
    uname='linux tlhdevvm 2.6.32-279.11.1.el6.x86_64 #1 smp tue oct 16 15:57:10 utc 2012 x86_64 x86_64 x86_64 gnulinux '
    config_args='-de -Dprefix=/root/perl5/perlbrew/perls/perl-5.16.2 -Aeval:scriptdir=/root/perl5/perlbrew/perls/perl-5.16.2/bin'
    hint=recommended, useposix=true, d_sigaction=define
    useithreads=undef, usemultiplicity=undef
    useperlio=define, d_sfio=undef, uselargefiles=define, usesocks=undef
    use64bitint=define, use64bitall=define, uselongdouble=undef
    usemymalloc=n, bincompat5005=undef
  Compiler:
    cc='cc', ccflags ='-fno-strict-aliasing -pipe -fstack-protector -I/usr/local/include -D_LARGEFILE_SOURCE -D_FILE_OFFSET_BITS=64',
    optimize='-O2',
    cppflags='-fno-strict-aliasing -pipe -fstack-protector -I/usr/local/include'
    ccversion='', gccversion='4.4.6 20120305 (Red Hat 4.4.6-4)', gccosandvers=''
    intsize=4, longsize=8, ptrsize=8, doublesize=8, byteorder=12345678
    d_longlong=define, longlongsize=8, d_longdbl=define, longdblsize=16
    ivtype='long', ivsize=8, nvtype='double', nvsize=8, Off_t='off_t', lseeksize=8
    alignbytes=8, prototype=define
  Linker and Libraries:
    ld='cc', ldflags =' -fstack-protector -L/usr/local/lib'
    libpth=/usr/local/lib /lib/../lib64 /usr/lib/../lib64 /lib /usr/lib /lib64 /usr/lib64 /usr/local/lib64
    libs=-lnsl -ldb -ldl -lm -lcrypt -lutil -lc
    perllibs=-lnsl -ldl -lm -lcrypt -lutil -lc
    libc=, so=so, useshrplib=false, libperl=libperl.a
    gnulibc_version='2.12'
  Dynamic Linking:
    dlsrc=dl_dlopen.xs, dlext=so, d_dlsymun=undef, ccdlflags='-Wl,-E'
    cccdlflags='-fPIC', lddlflags='-shared -O2 -L/usr/local/lib -fstack-protector'


Characteristics of this binary (from libperl): 
  Compile-time options: HAS_TIMES PERLIO_LAYERS PERL_DONT_CREATE_GVSV
                        PERL_MALLOC_WRAP PERL_PRESERVE_IVUV USE_64_BIT_ALL
                        USE_64_BIT_INT USE_LARGE_FILES USE_LOCALE
                        USE_LOCALE_COLLATE USE_LOCALE_CTYPE
                        USE_LOCALE_NUMERIC USE_PERLIO USE_PERL_ATOF
  Built under linux
  Compiled at Nov  8 2012 15:44:56
  %ENV:
    PERL5LIB="/root/.cpan/build/Test-HTTP-AnyEvent-Server-0.005-y1yxyp/blib/arch:/root/.cpan/build/Test-HTTP-AnyEvent-Server-0.005-y1yxyp/blib/lib:/root/.cpan/build/AnyEvent-HTTP-2.15-0ylZuY/blib/arch:/root/.cpan/build/AnyEvent-HTTP-2.15-0ylZuY/blib/lib:/root/.cpan/build/Net-Curl-0.25-eVRRgD/blib/arch:/root/.cpan/build/Net-Curl-0.25-eVRRgD/blib/lib:/root/.cpan/build/ExtUtils-PkgConfig-1.13-XwRSUu/blib/arch:/root/.cpan/build/ExtUtils-PkgConfig-1.13-XwRSUu/blib/lib:/root/.cpan/build/AnyEvent-7.04-bkN3UO/blib/arch:/root/.cpan/build/AnyEvent-7.04-bkN3UO/blib/lib:/root/.cpan/build/Test-Fatal-0.010-tflQ9P/blib/arch:/root/.cpan/build/Test-Fatal-0.010-tflQ9P/blib/lib:/root/.cpan/build/Any-Moose-0.18-5Cpmx1/blib/arch:/root/.cpan/build/Any-Moose-0.18-5Cpmx1/blib/lib:/root/.cpan/build/Mouse-1.02-7fyJ9b/blib/arch:/root/.cpan/build/Mouse-1.02-7fyJ9b/blib/lib"
    PERL5OPT=""
    PERL5_CPANPLUS_IS_RUNNING="4032"
    PERL5_CPAN_IS_RUNNING="4032"
    PERL5_CPAN_IS_RUNNING_IN_RECURSION="45022,4032"
    PERLBREW_BASHRC_VERSION="0.58"
    PERLBREW_HOME="/root/.perlbrew"
    PERLBREW_MANPATH="/root/perl5/perlbrew/perls/perl-5.16.2/man"
    PERLBREW_PATH="/root/perl5/perlbrew/bin:/root/perl5/perlbrew/perls/perl-5.16.2/bin"
    PERLBREW_PERL="perl-5.16.2"
    PERLBREW_ROOT="/root/perl5/perlbrew"
    PERLBREW_VERSION="0.58"
    PERL_CR_SMOKER_CURRENT="AnyEvent-Net-Curl-Queued-0.037"
    PERL_EXTUTILS_AUTOINSTALL="--defaultdeps"
    PERL_MM_USE_DEFAULT="1"
  @INC:
    /root/.cpan/build/Test-HTTP-AnyEvent-Server-0.005-y1yxyp/blib/arch
    /root/.cpan/build/Test-HTTP-AnyEvent-Server-0.005-y1yxyp/blib/lib
    /root/.cpan/build/AnyEvent-HTTP-2.15-0ylZuY/blib/arch
    /root/.cpan/build/AnyEvent-HTTP-2.15-0ylZuY/blib/lib
    /root/.cpan/build/Net-Curl-0.25-eVRRgD/blib/arch
    /root/.cpan/build/Net-Curl-0.25-eVRRgD/blib/lib
    /root/.cpan/build/ExtUtils-PkgConfig-1.13-XwRSUu/blib/arch
    /root/.cpan/build/ExtUtils-PkgConfig-1.13-XwRSUu/blib/lib
    /root/.cpan/build/AnyEvent-7.04-bkN3UO/blib/arch
    /root/.cpan/build/AnyEvent-7.04-bkN3UO/blib/lib
    /root/.cpan/build/Test-Fatal-0.010-tflQ9P/blib/arch
    /root/.cpan/build/Test-Fatal-0.010-tflQ9P/blib/lib
    /root/.cpan/build/Any-Moose-0.18-5Cpmx1/blib/arch
    /root/.cpan/build/Any-Moose-0.18-5Cpmx1/blib/lib
    /root/.cpan/build/Mouse-1.02-7fyJ9b/blib/arch
    /root/.cpan/build/Mouse-1.02-7fyJ9b/blib/lib
    /root/perl5/perlbrew/perls/perl-5.16.2/lib/site_perl/5.16.2/x86_64-linux
    /root/perl5/perlbrew/perls/perl-5.16.2/lib/site_perl/5.16.2
    /root/perl5/perlbrew/perls/perl-5.16.2/lib/5.16.2/x86_64-linux
    /root/perl5/perlbrew/perls/perl-5.16.2/lib/5.16.2
    .