Bread-Board-Declare v0.16 Perl 5 v5.24.1 amd64-freebsd

Status
Pass
From
Slaven Rezić (SREZIC)
Dist
Bread-Board-Declare v0.16
Platform
Perl 5 v5.24.1 amd64-freebsd
Date
2017-07-12 05:57:36
ID
012873ce-66c7-11e7-bfa3-beb6d02d6751
This distribution has been tested as part of the CPAN Testers
project, supporting the Perl programming language.  See
http://wiki.cpantesters.org/ for more information or email
questions to cpan-testers-discuss@perl.org


--
Dear Jesse Luehrs,

This is a computer-generated report for Bread-Board-Declare-0.16
on perl 5.24.1, created by CPAN-Reporter-1.2018.

Thank you for uploading your work to CPAN.  Congratulations!
All tests were successful.

Sections of this report:

    * Tester comments
    * Program output
    * Prerequisites
    * Environment and other context

------------------------------
TESTER COMMENTS
------------------------------

Additional comments from tester:

none provided

------------------------------
PROGRAM OUTPUT
------------------------------

Output from '/usr/bin/make test':

PERL_DL_NONLAZY=1 "/usr/perl5.24.1p/bin/perl" "-MExtUtils::Command::MM" "-MTest::Harness" "-e" "undef *Test::Harness::Switches; test_harness(0, 'blib/lib', 'blib/arch')" t/*.t
t/00-compile.t .............. ok
t/auto-deref.t .............. ok
t/basic.t ................... ok
t/block.t ................... ok
t/circular-dependency.t ..... ok
t/constructor-name.t ........ ok
t/defaults.t ................ ok
t/deps.t .................... ok
t/extends.t ................. ok
t/infer-loading.t ........... ok
t/infer-subclasses.t ........ ok
t/infer.t ................... ok
t/inheritance.t ............. ok
t/inline-services.t ......... ok
t/inlining.t ................ ok
t/leak.t .................... ok
t/lifecycle.t ............... ok
t/mop.t ..................... ok
t/more-inheritance.t ........ ok
t/multiple-instantiation.t .. ok
t/no-service.t .............. ok
t/parameters.t .............. ok
t/roles.t ................... ok
t/subcontainers.t ........... ok
t/type-checks.t ............. ok
All tests successful.
Files=25, Tests=358, 19 wallclock secs ( 0.00 usr  0.24 sys +  4.18 cusr  9.20 csys = 13.62 CPU)
Result: PASS

------------------------------
PREREQUISITES
------------------------------

Prerequisite modules loaded:

requires:

    Module                             Need Have    
    ---------------------------------- ---- --------
    Bread::Board                       0    0.34    
    Bread::Board::BlockInjection       0    0.34    
    Bread::Board::ConstructorInjection 0    0.34    
    Bread::Board::Literal              0    0.34    
    Bread::Board::Service              0    0.34    
    Bread::Board::Types                0    0.34    
    Class::Load                        0    0.23    
    Moose                              0    2.2005  
    Moose::Exporter                    0    2.2005  
    Moose::Role                        0    2.2005  
    Moose::Util                        0    2.2005  

build_requires:

    Module                             Need Have    
    ---------------------------------- ---- --------
    File::Spec                         0    3.63_01 
    IO::Handle                         0    1.36    
    IPC::Open3                         0    1.20    
    lib                                0    0.63    
    Moose::Util::TypeConstraints       0    2.2005  
    strict                             0    1.11    
    Test::Fatal                        0    0.014   
    Test::Moose                        0    2.2005  
    Test::More                         0.88 1.302086
    warnings                           0    1.36    

configure_requires:

    Module                             Need Have    
    ---------------------------------- ---- --------
    ExtUtils::MakeMaker                6.30 7.24    


------------------------------
ENVIRONMENT AND OTHER CONTEXT
------------------------------

Environment variables:

    LC_ALL = de_DE.ISO8859-1
    PATH = /usr/local/bin:/usr/bin:/bin:/usr/local/sbin:/usr/sbin:/sbin:/home/cpansand/bin/freebsd10.3:/home/cpansand/bin/sh:/home/cpansand/bin:/usr/games:/home/cpansand/devel:/home/eserte/src/srezic-misc/scripts
    PERL5LIB = /home/cpansand/.cpan/build/2017071206/Bread-Board-0.34-0/blib/arch:/home/cpansand/.cpan/build/2017071206/Bread-Board-0.34-0/blib/lib:/home/cpansand/.cpan/build/2017071206/Log-ger-Manual-0.015001-1/blib/arch:/home/cpansand/.cpan/build/2017071206/Log-ger-Manual-0.015001-1/blib/lib:/home/cpansand/.cpan/build/2017071206/Renard-Incunabula-Frontend-Gtk3-0.003-4/blib/arch:/home/cpansand/.cpan/build/2017071206/Renard-Incunabula-Frontend-Gtk3-0.003-4/blib/lib:/home/cpansand/.cpan/build/2017071206/Renard-Incunabula-0.003-4/blib/arch:/home/cpansand/.cpan/build/2017071206/Renard-Incunabula-0.003-4/blib/lib:/home/cpansand/.cpan/build/2017071206/Type-Libraries-0.002-2/blib/arch:/home/cpansand/.cpan/build/2017071206/Type-Libraries-0.002-2/blib/lib
    PERL5OPT = 
    PERL5_CPANPLUS_IS_RUNNING = 76734
    PERL5_CPAN_IS_RUNNING = 76734
    PERL5_CPAN_IS_RUNNING_IN_RECURSION = 76452,76734
    PERLDOC = -MPod::Perldoc::ToTextOverstrike
    PERL_BATCH = yes
    PERL_CANARY_STABILITY_NOPROMPT = 1
    PERL_CPAN_REPORTER_CONFIG = /var/tmp/cpansmoker-1023/2017071206/cpanreporter_002_config.ini
    PERL_EXTUTILS_AUTOINSTALL = --defaultdeps
    SHELL = /usr/local/bin/zsh
    TERM = screen
    TMPDIR = /var/tmp/cpansmoker-1023/2017071206

Perl special variables (and OS-specific diagnostics, for MSWin32):

    $^X = /usr/perl5.24.1p/bin/perl
    $UID/$EUID = 1023 / 1023
    $GID = 1023 1023
    $EGID = 1023 1023

Perl module toolchain versions installed:

    Module              Have      
    ------------------- ----------
    CPAN                2.16      
    CPAN::Meta          2.150005  
    Cwd                 3.63_01   
    ExtUtils::CBuilder  0.280225  
    ExtUtils::Command   7.24      
    ExtUtils::Install   2.12      
    ExtUtils::MakeMaker 7.24      
    ExtUtils::Manifest  1.70      
    ExtUtils::ParseXS   3.31      
    File::Spec          3.63_01   
    JSON                2.94      
    JSON::PP            2.27400   
    Module::Build       0.4222    
    Module::Signature   0.81      
    Parse::CPAN::Meta   1.4417_001
    Test::Harness       3.38      
    Test::More          1.302086  
    YAML                1.22      
    YAML::Syck          1.29      
    version             0.9916    


--

Summary of my perl5 (revision 5 version 24 subversion 1) configuration:
   
  Platform:
    osname=freebsd, osvers=10.1-release, archname=amd64-freebsd
    uname='freebsd cvrsnica-freebsd-101.herceg.de 10.1-release freebsd 10.1-release #0 r274401: tue nov 11 21:02:49 utc 2014 root@releng1.nyi.freebsd.org:usrobjusrsrcsysgeneric amd64 '
    config_args='-ds -e -Dprefix=/usr/perl5.24.1p -Dcf_email=srezic@cpan.org -Doptimize=-O2 -pipe'
    hint=recommended, useposix=true, d_sigaction=define
    useithreads=undef, usemultiplicity=undef
    use64bitint=define, use64bitall=define, uselongdouble=undef
    usemymalloc=n, bincompat5005=undef
  Compiler:
    cc='cc', ccflags ='-DHAS_FPSETMASK -DHAS_FLOATINGPOINT_H -fno-strict-aliasing -pipe -fstack-protector -I/usr/local/include -D_FORTIFY_SOURCE=2',
    optimize='-O2 -pipe',
    cppflags='-DHAS_FPSETMASK -DHAS_FLOATINGPOINT_H -fno-strict-aliasing -pipe -fstack-protector -I/usr/local/include'
    ccversion='', gccversion='4.2.1 Compatible FreeBSD Clang 3.4.1 (tags/RELEASE_34/dot1-final 208032)', gccosandvers=''
    intsize=4, longsize=8, ptrsize=8, doublesize=8, byteorder=12345678, doublekind=3
    d_longlong=define, longlongsize=8, d_longdbl=define, longdblsize=16, longdblkind=3
    ivtype='long', ivsize=8, nvtype='double', nvsize=8, Off_t='off_t', lseeksize=8
    alignbytes=8, prototype=define
  Linker and Libraries:
    ld='cc', ldflags ='-pthread -Wl,-E  -fstack-protector -L/usr/local/lib'
    libpth=/usr/lib /usr/local/lib /usr/include/clang/3.4.1 /usr/lib
    libs=-lpthread -lgdbm -lm -lcrypt -lutil -lc
    perllibs=-lpthread -lm -lcrypt -lutil -lc
    libc=, so=so, useshrplib=false, libperl=libperl.a
    gnulibc_version=''
  Dynamic Linking:
    dlsrc=dl_dlopen.xs, dlext=so, d_dlsymun=undef, ccdlflags=' '
    cccdlflags='-DPIC -fPIC', lddlflags='-shared  -L/usr/local/lib -fstack-protector'


Characteristics of this binary (from libperl): 
  Compile-time options: HAS_TIMES PERLIO_LAYERS PERL_COPY_ON_WRITE
                        PERL_DONT_CREATE_GVSV
                        PERL_HASH_FUNC_ONE_AT_A_TIME_HARD PERL_MALLOC_WRAP
                        PERL_PRESERVE_IVUV USE_64_BIT_ALL USE_64_BIT_INT
                        USE_LARGE_FILES USE_LOCALE USE_LOCALE_COLLATE
                        USE_LOCALE_CTYPE USE_LOCALE_NUMERIC USE_LOCALE_TIME
                        USE_PERLIO USE_PERL_ATOF
  Built under freebsd
  Compiled at Jan 15 2017 11:45:26
  %ENV:
    PERL5LIB="/home/cpansand/.cpan/build/2017071206/Bread-Board-0.34-0/blib/arch:/home/cpansand/.cpan/build/2017071206/Bread-Board-0.34-0/blib/lib:/home/cpansand/.cpan/build/2017071206/Log-ger-Manual-0.015001-1/blib/arch:/home/cpansand/.cpan/build/2017071206/Log-ger-Manual-0.015001-1/blib/lib:/home/cpansand/.cpan/build/2017071206/Renard-Incunabula-Frontend-Gtk3-0.003-4/blib/arch:/home/cpansand/.cpan/build/2017071206/Renard-Incunabula-Frontend-Gtk3-0.003-4/blib/lib:/home/cpansand/.cpan/build/2017071206/Renard-Incunabula-0.003-4/blib/arch:/home/cpansand/.cpan/build/2017071206/Renard-Incunabula-0.003-4/blib/lib:/home/cpansand/.cpan/build/2017071206/Type-Libraries-0.002-2/blib/arch:/home/cpansand/.cpan/build/2017071206/Type-Libraries-0.002-2/blib/lib"
    PERL5OPT=""
    PERL5_CPANPLUS_IS_RUNNING="76734"
    PERL5_CPAN_IS_RUNNING="76734"
    PERL5_CPAN_IS_RUNNING_IN_RECURSION="76452,76734"
    PERLDOC="-MPod::Perldoc::ToTextOverstrike"
    PERL_BATCH="yes"
    PERL_CANARY_STABILITY_NOPROMPT="1"
    PERL_CPAN_REPORTER_CONFIG="/var/tmp/cpansmoker-1023/2017071206/cpanreporter_002_config.ini"
    PERL_EXTUTILS_AUTOINSTALL="--defaultdeps"
  @INC:
    /home/cpansand/.cpan/build/2017071206/Bread-Board-0.34-0/blib/arch
    /home/cpansand/.cpan/build/2017071206/Bread-Board-0.34-0/blib/lib
    /home/cpansand/.cpan/build/2017071206/Log-ger-Manual-0.015001-1/blib/arch
    /home/cpansand/.cpan/build/2017071206/Log-ger-Manual-0.015001-1/blib/lib
    /home/cpansand/.cpan/build/2017071206/Renard-Incunabula-Frontend-Gtk3-0.003-4/blib/arch
    /home/cpansand/.cpan/build/2017071206/Renard-Incunabula-Frontend-Gtk3-0.003-4/blib/lib
    /home/cpansand/.cpan/build/2017071206/Renard-Incunabula-0.003-4/blib/arch
    /home/cpansand/.cpan/build/2017071206/Renard-Incunabula-0.003-4/blib/lib
    /home/cpansand/.cpan/build/2017071206/Type-Libraries-0.002-2/blib/arch
    /home/cpansand/.cpan/build/2017071206/Type-Libraries-0.002-2/blib/lib
    /usr/perl5.24.1p/lib/site_perl/5.24.1/amd64-freebsd
    /usr/perl5.24.1p/lib/site_perl/5.24.1
    /usr/perl5.24.1p/lib/5.24.1/amd64-freebsd
    /usr/perl5.24.1p/lib/5.24.1
    .