Dist-Zilla-Plugin-Git v2.043 Perl 5 v5.24.3 darwin-thread-multi-2level
- Status
- Pass
- From
- aero
- Dist
-
Dist-Zilla-Plugin-Git v2.043
- Platform
- Perl 5 v5.24.3 darwin-thread-multi-2level
- Date
- 2017-12-11 00:34:10
- ID
- 00fd3d7e-de0b-11e7-90a3-ce356ca32b25
This distribution has been tested as part of the CPAN Testers
project, supporting the Perl programming language. See
http://wiki.cpantesters.org/ for more information or email
questions to cpan-testers-discuss@perl.org
--
Dear Karen Etheridge,
This is a computer-generated report for Dist-Zilla-Plugin-Git-2.043
on perl 5.24.3, created by CPAN-Reporter-1.2018.
Thank you for uploading your work to CPAN. Congratulations!
All tests were successful.
Sections of this report:
* Tester comments
* Program output
* Prerequisites
* Environment and other context
------------------------------
TESTER COMMENTS
------------------------------
Additional comments from tester:
none provided
------------------------------
PROGRAM OUTPUT
------------------------------
Output from '/usr/bin/make test':
"/Users/chadwick/CASE_SENSITIVE_FS/perl5/perlbrew/perls/perl-5.24/bin/perl" "-Iblib/arch" "-Iblib/lib" Makefile_git.PL Makefile_git
PERL_DL_NONLAZY=1 "/Users/chadwick/CASE_SENSITIVE_FS/perl5/perlbrew/perls/perl-5.24/bin/perl" "-MExtUtils::Command::MM" "-MTest::Harness" "-e" "undef *Test::Harness::Switches; test_harness(0, 'blib/lib', 'blib/arch')" t/*.t
#
# Versions for all modules listed in MYMETA.json (including optional ones):
#
# === Configure Requires ===
#
# Module Want Have
# ------------------- ---- ------
# ExtUtils::MakeMaker any 7.30
# Text::ParseWords any 3.30
# version any 0.9918
#
# === Build Requires ===
#
# Module Want Have
# ------------------- ---- ----
# ExtUtils::MakeMaker any 7.30
#
# === Test Requires ===
#
# Module Want Have
# -------------------------------- ----- --------
# CPAN::Meta::Check 0.011 0.014
# CPAN::Meta::Requirements any 2.140
# Devel::SimpleTrace any 0.08
# Dist::Zilla::File::InMemory any 6.010
# Dist::Zilla::Plugin::Config::Git any 0.92
# Dist::Zilla::Role::Releaser any 6.010
# Dist::Zilla::Tester any 6.010
# Encode any 2.93
# Exporter any 5.72
# ExtUtils::MakeMaker any 7.30
# File::Copy any 2.31
# File::Copy::Recursive any 0.38
# File::Path 2.07 2.15
# File::Spec any 3.63_01
# File::Which any 1.22
# File::pushd any 1.014
# Log::Dispatchouli any 2.015
# Test::DZil any 6.010
# Test::Fatal any 0.014
# Test::More 0.88 1.302120
# lib any 0.63
# utf8 any 1.19
#
# === Test Recommends ===
#
# Module Want Have
# ---------- -------- --------
# CPAN::Meta 2.120900 2.150010
#
# === Runtime Requires ===
#
# Module Want Have
# ---------------------------------- -------- --------
# Cwd any 3.63_01
# DateTime any 1.44
# Dist::Zilla 4 6.010
# Dist::Zilla::Plugin::GatherDir 4.200016 6.010
# Dist::Zilla::Role::AfterBuild any 6.010
# Dist::Zilla::Role::AfterMint any 6.010
# Dist::Zilla::Role::AfterRelease any 6.010
# Dist::Zilla::Role::BeforeRelease any 6.010
# Dist::Zilla::Role::FilePruner any 6.010
# Dist::Zilla::Role::GitConfig any 0.92
# Dist::Zilla::Role::PluginBundle any 6.010
# Dist::Zilla::Role::VersionProvider any 6.010
# File::Spec::Functions any 3.63_01
# File::Temp any 0.2304
# File::chdir any 0.1010
# Git::Wrapper 0.021 0.047
# IPC::Open3 any 1.20
# IPC::System::Simple any 1.25
# List::Util 1.45 1.49
# Module::Runtime any 0.016
# Moose any 2.2009
# Moose::Role any 2.2009
# Moose::Util::TypeConstraints any 2.2009
# MooseX::Has::Sugar any 1.000006
# MooseX::Types::Moose any 0.50
# MooseX::Types::Path::Tiny 0.010 0.012
# Path::Tiny 0.048 0.104
# String::Formatter any 0.102084
# Try::Tiny any 0.28
# Version::Next any 1.000
# constant any 1.33
# namespace::autoclean 0.09 0.28
# strict any 1.11
# version 0.80 0.9918
# warnings any 1.36
#
# === Other Modules ===
#
# Module Have
# ------------- -------
# JSON::PP 2.97000
# Pod::Coverage 0.23
# Sub::Name 0.21
# YAML 1.24
# autodie 2.29
#
t/00-report-prereqs.t ........... ok
# git version 2.15.1
t/000-report-git-version.t ...... ok
t/check.t ....................... ok
t/commit-build-custom.t ......... ok
t/commit-build-src-as-parent.t .. ok
t/commit-build.t ................ ok
t/commit-dirtydir.t ............. ok
t/commit-message.t .............. ok
t/commit-utf8.t ................. ok
t/commit-ws.t ................... ok
t/commit.t ...................... ok
t/gatherdir-multi.t ............. ok
t/gatherdir.t ................... ok
t/push-gitconfig.t .............. ok
t/push-multi.t .................. ok
t/push.t ........................ ok
t/repo-dir.t .................... ok
t/tag-signed.t .................. ok
t/tag.t ......................... ok
t/version-by-branch.t ........... ok
t/version-default.t ............. ok
t/version-extraction.t .......... ok
t/version-regexp.t .............. ok
t/zzz-check-breaks.t ............ ok
All tests successful.
Files=24, Tests=207, 28 wallclock secs ( 0.09 usr 0.04 sys + 19.74 cusr 6.45 csys = 26.32 CPU)
Result: PASS
------------------------------
PREREQUISITES
------------------------------
Prerequisite modules loaded:
requires:
Module Need Have
---------------------------------- -------- --------
constant 0 1.33
Cwd 0 3.63_01
DateTime 0 1.44
Dist::Zilla 4 6.010
Dist::Zilla::Plugin::GatherDir 4.200016 6.010
Dist::Zilla::Role::AfterBuild 0 6.010
Dist::Zilla::Role::AfterMint 0 6.010
Dist::Zilla::Role::AfterRelease 0 6.010
Dist::Zilla::Role::BeforeRelease 0 6.010
Dist::Zilla::Role::FilePruner 0 6.010
Dist::Zilla::Role::GitConfig 0 0.92
Dist::Zilla::Role::PluginBundle 0 6.010
Dist::Zilla::Role::VersionProvider 0 6.010
File::chdir 0 0.1010
File::Spec::Functions 0 3.63_01
File::Temp 0 0.2304
Git::Wrapper 0.021 0.047
IPC::Open3 0 1.20
IPC::System::Simple 0 1.25
List::Util 1.45 1.49
Module::Runtime 0 0.016
Moose 0 2.2009
Moose::Role 0 2.2009
Moose::Util::TypeConstraints 0 2.2009
MooseX::Has::Sugar 0 1.000006
MooseX::Types::Moose 0 0.50
MooseX::Types::Path::Tiny 0.010 0.012
namespace::autoclean 0.09 0.28
Path::Tiny 0.048 0.104
perl 5.010 5.024003
strict 0 1.11
String::Formatter 0 0.102084
Try::Tiny 0 0.28
version 0.80 0.9918
Version::Next 0 1.000
warnings 0 1.36
build_requires:
Module Need Have
---------------------------------- -------- --------
CPAN::Meta::Check 0.011 0.014
CPAN::Meta::Requirements 0 2.140
Devel::SimpleTrace 0 0.08
Dist::Zilla::File::InMemory 0 6.010
Dist::Zilla::Plugin::Config::Git 0 0.92
Dist::Zilla::Role::Releaser 0 6.010
Dist::Zilla::Tester 0 6.010
Encode 0 2.93
Exporter 0 5.72
ExtUtils::MakeMaker 0 7.30
File::Copy 0 2.31
File::Copy::Recursive 0 0.38
File::Path 2.07 2.15
File::pushd 0 1.014
File::Spec 0 3.63_01
File::Which 0 1.22
lib 0 0.63
Log::Dispatchouli 0 2.015
Test::DZil 0 6.010
Test::Fatal 0 0.014
Test::More 0.88 1.302120
utf8 0 1.19
configure_requires:
Module Need Have
---------------------------------- -------- --------
ExtUtils::MakeMaker 0 7.30
perl 5.010 5.024003
Text::ParseWords 0 3.30
version 0 0.9918
opt_build_requires:
Module Need Have
---------------------------------- -------- --------
CPAN::Meta 2.120900 2.150010
------------------------------
ENVIRONMENT AND OTHER CONTEXT
------------------------------
Environment variables:
LANG = ko_KR.UTF-8
NONINTERACTIVE_TESTING = 1
PATH = /Users/chadwick/.anyenv/envs/pyenv/shims:/Users/chadwick/.anyenv/envs/pyenv/bin:/Users/chadwick/.anyenv/envs/ndenv/shims:/Users/chadwick/.anyenv/envs/ndenv/bin:/Users/chadwick/.anyenv/envs/jenv/shims:/Users/chadwick/.anyenv/envs/jenv/bin:/Users/chadwick/.anyenv/envs/goenv/shims:/Users/chadwick/.anyenv/envs/goenv/bin:/Users/chadwick/.anyenv/bin:/Users/chadwick/.rakudobrew/bin:/Users/chadwick/perl5/perlbrew/bin:/Users/chadwick/perl5/perlbrew/perls/perl-5.24/bin:/Users/chadwick/bin:/usr/local/bin:/usr/local/sbin:/usr/local/bin:/usr/bin:/bin:/usr/sbin:/sbin:/opt/X11/bin
PERL5LIB =
PERL5OPT =
PERL5_CPANPLUS_IS_RUNNING = 3054
PERL5_CPAN_IS_RUNNING = 3054
PERLBREW_BASHRC_VERSION = 0.80
PERLBREW_HOME = /Users/chadwick/.perlbrew
PERLBREW_MANPATH = /Users/chadwick/perl5/perlbrew/perls/perl-5.24/man
PERLBREW_PATH = /Users/chadwick/perl5/perlbrew/bin:/Users/chadwick/perl5/perlbrew/perls/perl-5.24/bin
PERLBREW_PERL = perl-5.24
PERLBREW_ROOT = /Users/chadwick/perl5/perlbrew
PERLBREW_VERSION = 0.80
PERL_MM_USE_DEFAULT = 1
SHELL = /usr/local/bin/bash
TERM = xterm-256color
TMPDIR = /var/folders/5v/bskbxfxj1dd1rvy3btm829v00000gn/T/
Perl special variables (and OS-specific diagnostics, for MSWin32):
$^X = /Users/chadwick/CASE_SENSITIVE_FS/perl5/perlbrew/perls/perl-5.24/bin/perl
$UID/$EUID = 501 / 501
$GID = 20 20 12 61 79 80 81 98 701 33 100 204 250 395 398 399
$EGID = 20 20 12 61 79 80 81 98 701 33 100 204 250 395 398 399
Perl module toolchain versions installed:
Module Have
------------------- --------
CPAN 2.16
CPAN::Meta 2.150010
Cwd 3.63_01
ExtUtils::CBuilder 0.280230
ExtUtils::Command 7.30
ExtUtils::Install 2.14
ExtUtils::MakeMaker 7.30
ExtUtils::Manifest 1.70
ExtUtils::ParseXS 3.35
File::Spec 3.63_01
JSON 2.97000
JSON::PP 2.97000
Module::Build 0.4224
Module::Signature n/a
Parse::CPAN::Meta 2.150010
Test::Harness 3.39
Test::More 1.302120
YAML 1.24
YAML::Syck 1.30
version 0.9918
--
Summary of my perl5 (revision 5 version 24 subversion 3) configuration:
Platform:
osname=darwin, osvers=16.7.0, archname=darwin-thread-multi-2level
uname='darwin chadwick.local 16.7.0 darwin kernel version 16.7.0: thu jun 15 17:36:27 pdt 2017; root:xnu-3789.70.16~2release_x86_64 x86_64 '
config_args='-de -Dprefix=/Users/chadwick/perl5/perlbrew/perls/perl-5.24 -Dman1dir=none -Dman3dir=none -Dusethreads -Aeval:scriptdir=/Users/chadwick/perl5/perlbrew/perls/perl-5.24/bin'
hint=recommended, useposix=true, d_sigaction=define
useithreads=define, usemultiplicity=define
use64bitint=define, use64bitall=define, uselongdouble=undef
usemymalloc=n, bincompat5005=undef
Compiler:
cc='cc', ccflags ='-fno-common -DPERL_DARWIN -fno-strict-aliasing -pipe -fstack-protector-strong -I/usr/local/include',
optimize='-O3',
cppflags='-fno-common -DPERL_DARWIN -fno-strict-aliasing -pipe -fstack-protector-strong -I/usr/local/include'
ccversion='', gccversion='4.2.1 Compatible Apple LLVM 9.0.0 (clang-900.0.37)', gccosandvers=''
intsize=4, longsize=8, ptrsize=8, doublesize=8, byteorder=12345678, doublekind=3
d_longlong=define, longlongsize=8, d_longdbl=define, longdblsize=16, longdblkind=3
ivtype='long', ivsize=8, nvtype='double', nvsize=8, Off_t='off_t', lseeksize=8
alignbytes=8, prototype=define
Linker and Libraries:
ld='env MACOSX_DEPLOYMENT_TARGET=10.3 cc', ldflags =' -fstack-protector-strong -L/usr/local/lib'
libpth=/usr/local/lib /Applications/Xcode.app/Contents/Developer/Toolchains/XcodeDefault.xctoolchain/usr/lib/clang/9.0.0/lib /Applications/Xcode.app/Contents/Developer/Toolchains/XcodeDefault.xctoolchain/usr/lib /usr/lib
libs=-lpthread -lgdbm -ldbm -ldb -ldl -lm -lutil -lc
perllibs=-lpthread -ldl -lm -lutil -lc
libc=, so=dylib, useshrplib=false, libperl=libperl.a
gnulibc_version=''
Dynamic Linking:
dlsrc=dl_dlopen.xs, dlext=bundle, d_dlsymun=undef, ccdlflags=' '
cccdlflags=' ', lddlflags=' -bundle -undefined dynamic_lookup -L/usr/local/lib -fstack-protector-strong'
Characteristics of this binary (from libperl):
Compile-time options: HAS_TIMES MULTIPLICITY PERLIO_LAYERS
PERL_COPY_ON_WRITE PERL_DONT_CREATE_GVSV
PERL_HASH_FUNC_ONE_AT_A_TIME_HARD
PERL_IMPLICIT_CONTEXT PERL_MALLOC_WRAP
PERL_PRESERVE_IVUV USE_64_BIT_ALL USE_64_BIT_INT
USE_ITHREADS USE_LARGE_FILES USE_LOCALE
USE_LOCALE_COLLATE USE_LOCALE_CTYPE
USE_LOCALE_NUMERIC USE_LOCALE_TIME USE_PERLIO
USE_PERL_ATOF USE_REENTRANT_API
Locally applied patches:
Devel::PatchPerl 1.34
Built under darwin
Compiled at Sep 25 2017 09:41:39
%ENV:
PERL5LIB=""
PERL5OPT=""
PERL5_CPANPLUS_IS_RUNNING="3054"
PERL5_CPAN_IS_RUNNING="3054"
PERLBREW_BASHRC_VERSION="0.80"
PERLBREW_HOME="/Users/chadwick/.perlbrew"
PERLBREW_MANPATH="/Users/chadwick/perl5/perlbrew/perls/perl-5.24/man"
PERLBREW_PATH="/Users/chadwick/perl5/perlbrew/bin:/Users/chadwick/perl5/perlbrew/perls/perl-5.24/bin"
PERLBREW_PERL="perl-5.24"
PERLBREW_ROOT="/Users/chadwick/perl5/perlbrew"
PERLBREW_VERSION="0.80"
PERL_MM_USE_DEFAULT="1"
@INC:
/Users/chadwick/perl5/perlbrew/perls/perl-5.24/lib/site_perl/5.24.3/darwin-thread-multi-2level
/Users/chadwick/perl5/perlbrew/perls/perl-5.24/lib/site_perl/5.24.3
/Users/chadwick/perl5/perlbrew/perls/perl-5.24/lib/5.24.3/darwin-thread-multi-2level
/Users/chadwick/perl5/perlbrew/perls/perl-5.24/lib/5.24.3
/Users/chadwick/perl5/perlbrew/perls/perl-5.24/lib/site_perl/5.24.2/darwin-thread-multi-2level
/Users/chadwick/perl5/perlbrew/perls/perl-5.24/lib/site_perl/5.24.2
/Users/chadwick/perl5/perlbrew/perls/perl-5.24/lib/site_perl/5.24.1/darwin-thread-multi-2level
/Users/chadwick/perl5/perlbrew/perls/perl-5.24/lib/site_perl/5.24.1
/Users/chadwick/perl5/perlbrew/perls/perl-5.24/lib/site_perl/5.24.0/darwin-thread-multi-2level
/Users/chadwick/perl5/perlbrew/perls/perl-5.24/lib/site_perl/5.24.0
/Users/chadwick/perl5/perlbrew/perls/perl-5.24/lib/site_perl
.