Business-AU-Data-ANZIC v0.01 Perl 5 v5.10.1 MSWin32-x86-multi-thread
        
            - Status
 
            - Pass
 
            - From
 
            - Christian Walde
 
            - Dist
 
            - 
                Business-AU-Data-ANZIC v0.01
            
 
            - Platform
 
            - Perl 5 v5.10.1 MSWin32-x86-multi-thread
 
            - Date
 
            - 2011-04-16 09:36:56
 
            - ID
 
            - 00f0c747-70b2-1014-b55c-d45aa9f09604
 
        
        This distribution has been tested as part of the CPAN Testers
project, supporting the Perl programming language.  See
http://wiki.cpantesters.org/ for more information or email
questions to cpan-testers-discuss@perl.org
--
Dear Adam Kennedy,
This is a computer-generated report for Business-AU-Data-ANZIC-0.01
on perl 5.10.1, created by CPAN-Reporter-1.1902.
Thank you for uploading your work to CPAN.  Congratulations!
All tests were successful.
Sections of this report:
    * Tester comments
    * Program output
    * Prerequisites
    * Environment and other context
------------------------------
TESTER COMMENTS
------------------------------
Additional comments from tester:
this report is from an automated smoke testing program
and was not reviewed by a human for accuracy
------------------------------
PROGRAM OUTPUT
------------------------------
Output from 'C:\Perl10\site\bin\dmake.exe test':
C:\Perl10\bin\perl.exe "-MExtUtils::Command::MM" "-e" "test_harness(0, 'inc', 'blib\lib', 'blib\arch')" t/*.t
t/01_compile.t .. ok
t/02_main.t ..... ok
t/99_author.t ... skipped: Test::Pod 1.00 required for testing POD
All tests successful.
Files=3, Tests=4,  1 wallclock secs ( 0.03 usr +  0.00 sys =  0.03 CPU)
Result: PASS
------------------------------
PREREQUISITES
------------------------------
Prerequisite modules loaded:
requires:
    Module              Need Have   
    ------------------- ---- -------
    Carp                0    1.11   
    Data::Package       1.00 1.05   
    ExtUtils::MakeMaker 6.11 6.55_02
    File::ShareDir      0.05 1.03   
    IO::File            1.14 1.14   
    Params::Util        0.22 1.00   
    Parse::CSV          1.00 1.00   
    Test::More          0.42 0.94   
------------------------------
ENVIRONMENT AND OTHER CONTEXT
------------------------------
Environment variables:
    ACTIVEPERL_CONFIG_SILENT = 1
    AUTOMATED_TESTING = 1
    COMSPEC = C:\Windows\system32\cmd.exe
    NUMBER_OF_PROCESSORS = 2
    PATH = C:\Perl10\site\bin;C:\Perl10\bin;C:\Program Files\Common Files\Microsoft Shared\Windows Live;C:\Program Files (x86)\ActiveState Komodo IDE 6\;C:\Program Files (x86)\PC Connectivity Solution\;c:\Program Files (x86)\NVIDIA Corporation\PhysX\Common;C:\Windows\system32;C:\Windows;C:\Windows\System32\Wbem;C:\Windows\System32\WindowsPowerShell\v1.0\;C:\Program Files (x86)\TortoiseSVN\bin
    PERL5LIB = C:\Perl10\cpan\build\Parse-CSV-1.00-6pJm2f/blib/arch;C:\Perl10\cpan\build\Parse-CSV-1.00-6pJm2f/blib/lib;C:\Perl10\cpan\build\Data-Package-1.05-VJPD3p/blib/arch;C:\Perl10\cpan\build\Data-Package-1.05-VJPD3p/blib/lib;C:\Perl10\cpan\build\Params-Coerce-0.14-PkuBog/blib/arch;C:\Perl10\cpan\build\Params-Coerce-0.14-PkuBog/blib/lib;C:\Perl10\cpan\build\File-ShareDir-1.03-sTcKyn/blib/arch;C:\Perl10\cpan\build\File-ShareDir-1.03-sTcKyn/blib/lib;C:\Perl10\cpan\build\Class-Inspector-1.25-4KLHpp/blib/arch;C:\Perl10\cpan\build\Class-Inspector-1.25-4KLHpp/blib/lib
    PERL5OPT = 
    PERL5_CPANPLUS_IS_RUNNING = 7196
    PERL5_CPAN_IS_RUNNING = 7196
    PERL5_CPAN_IS_RUNNING_IN_RECURSION = 3272,7196
    PERL_CR_SMOKER_CURRENT = Business-AU-Data-ANZIC-0.01
    PERL_EXTUTILS_AUTOINSTALL = --defaultdeps
    PERL_MM_USE_DEFAULT = 1
    PROCESSOR_IDENTIFIER = AMD64 Family 16 Model 4 Stepping 2, AuthenticAMD
    TEMP = C:\Users\Mithaldu\AppData\Local\Temp
    TERM = dumb
Perl special variables (and OS-specific diagnostics, for MSWin32):
    $^X = C:\Perl10\bin\perl.exe
    $UID/$EUID = 0 / 0
    $GID = 0
    $EGID = 0
    Win32::GetOSName = Win7
    Win32::GetOSVersion = , 6, 1, 7600, 2, 0, 0, 256, 1
    Win32::FsType = NTFS
    Win32::IsAdminUser = 0
Perl module toolchain versions installed:
    Module              Have   
    ------------------- -------
    CPAN                1.9402 
    Cwd                 3.31   
    ExtUtils::CBuilder  0.27   
    ExtUtils::Command   1.16   
    ExtUtils::Install   1.54_01
    ExtUtils::MakeMaker 6.55_02
    ExtUtils::Manifest  1.58   
    ExtUtils::ParseXS   2.22   
    File::Spec          3.31   
    Module::Build       0.3601 
    Module::Signature   n/a    
    Test::Harness       3.17   
    Test::More          0.94   
    YAML                n/a    
    YAML::Syck          n/a    
    version             0.88   
--
Summary of my perl5 (revision 5 version 10 subversion 1) configuration:
   
  Platform:
    osname=MSWin32, osvers=5.00, archname=MSWin32-x86-multi-thread
    uname=''
    config_args='undef'
    hint=recommended, useposix=true, d_sigaction=undef
    useithreads=define, usemultiplicity=define
    useperlio=define, d_sfio=undef, uselargefiles=define, usesocks=undef
    use64bitint=undef, use64bitall=undef, uselongdouble=undef
    usemymalloc=n, bincompat5005=undef
  Compiler:
    cc='C:/Perl10/site/bin/gcc.exe', ccflags ='-DNDEBUG -DWIN32 -D_CONSOLE -DNO_STRICT -DHAVE_DES_FCRYPT -DUSE_SITECUSTOMIZE -DPRIVLIB_LAST_IN_INC -DPERL_IMPLICIT_CONTEXT -DPERL_IMPLICIT_SYS -DUSE_PERLIO -DPERL_MSVCRT_READFIX -DHASATTRIBUTE -fno-strict-aliasing -mms-bitfields',
    optimize='-O2',
    cppflags='-DWIN32'
    ccversion='', gccversion='3.4.5 (mingw-vista special r3)', gccosandvers=''
    intsize=4, longsize=4, ptrsize=4, doublesize=8, byteorder=1234
    d_longlong=undef, longlongsize=8, d_longdbl=define, longdblsize=8
    ivtype='long', ivsize=4, nvtype='double', nvsize=8, Off_t='__int64', lseeksize=8
    alignbytes=8, prototype=define
  Linker and Libraries:
    ld='C:\Perl10\site\bin\g++.exe', ldflags ='-L"C:\Perl10\lib\CORE"'
    libpth=\lib
    libs=-lkernel32 -luser32 -lgdi32 -lwinspool -lcomdlg32 -ladvapi32 -lshell32 -lole32 -loleaut32 -lnetapi32 -luuid -lws2_32 -lmpr -lwinmm -lversion -lodbc32 -lodbccp32 -lcomctl32 -lmsvcrt
    perllibs=-lkernel32 -luser32 -lgdi32 -lwinspool -lcomdlg32 -ladvapi32 -lshell32 -lole32 -loleaut32 -lnetapi32 -luuid -lws2_32 -lmpr -lwinmm -lversion -lodbc32 -lodbccp32 -lcomctl32 -lmsvcrt
    libc=msvcrt.lib, so=dll, useshrplib=true, libperl=perl510.lib
    gnulibc_version=''
  Dynamic Linking:
    dlsrc=dl_win32.xs, dlext=dll, d_dlsymun=undef, ccdlflags=' '
    cccdlflags=' ', lddlflags='-mdll -L"C:\Perl10\lib\CORE"'
Characteristics of this binary (from libperl): 
  Compile-time options: MULTIPLICITY PERL_DONT_CREATE_GVSV
                        PERL_IMPLICIT_CONTEXT PERL_IMPLICIT_SYS
                        PERL_MALLOC_WRAP PL_OP_SLAB_ALLOC USE_ITHREADS
                        USE_LARGE_FILES USE_PERLIO USE_SITECUSTOMIZE
  Locally applied patches:
	ActivePerl Build 1007 [291969]
	0abd0d disable non-unicode case insensitive trie matching
  Built under MSWin32
  Compiled at Jan 26 2010 23:15:11
  %ENV:
    PERL5LIB="C:\Perl10\cpan\build\Parse-CSV-1.00-6pJm2f/blib/arch;C:\Perl10\cpan\build\Parse-CSV-1.00-6pJm2f/blib/lib;C:\Perl10\cpan\build\Data-Package-1.05-VJPD3p/blib/arch;C:\Perl10\cpan\build\Data-Package-1.05-VJPD3p/blib/lib;C:\Perl10\cpan\build\Params-Coerce-0.14-PkuBog/blib/arch;C:\Perl10\cpan\build\Params-Coerce-0.14-PkuBog/blib/lib;C:\Perl10\cpan\build\File-ShareDir-1.03-sTcKyn/blib/arch;C:\Perl10\cpan\build\File-ShareDir-1.03-sTcKyn/blib/lib;C:\Perl10\cpan\build\Class-Inspector-1.25-4KLHpp/blib/arch;C:\Perl10\cpan\build\Class-Inspector-1.25-4KLHpp/blib/lib"
    PERL5_CPANPLUS_IS_RUNNING="7196"
    PERL5_CPAN_IS_RUNNING="7196"
    PERL5_CPAN_IS_RUNNING_IN_RECURSION="3272,7196"
    PERL_CR_SMOKER_CURRENT="Business-AU-Data-ANZIC-0.01"
    PERL_EXTUTILS_AUTOINSTALL="--defaultdeps"
    PERL_MM_USE_DEFAULT="1"
  @INC:
    C:\Perl10\cpan\build\Parse-CSV-1.00-6pJm2f/blib/arch
    C:\Perl10\cpan\build\Parse-CSV-1.00-6pJm2f/blib/lib
    C:\Perl10\cpan\build\Data-Package-1.05-VJPD3p/blib/arch
    C:\Perl10\cpan\build\Data-Package-1.05-VJPD3p/blib/lib
    C:\Perl10\cpan\build\Params-Coerce-0.14-PkuBog/blib/arch
    C:\Perl10\cpan\build\Params-Coerce-0.14-PkuBog/blib/lib
    C:\Perl10\cpan\build\File-ShareDir-1.03-sTcKyn/blib/arch
    C:\Perl10\cpan\build\File-ShareDir-1.03-sTcKyn/blib/lib
    C:\Perl10\cpan\build\Class-Inspector-1.25-4KLHpp/blib/arch
    C:\Perl10\cpan\build\Class-Inspector-1.25-4KLHpp/blib/lib
    C:/Perl10/site/lib
    C:/Perl10/lib
    .