Apache-AuthenLDAP v1.00 Perl 5 v5.12.4 amd64-netbsd-thread-multi

Status
Pass
From
Chris Williams (BINGOS)
Dist
Apache-AuthenLDAP v1.00
Platform
Perl 5 v5.12.4 amd64-netbsd-thread-multi
Date
2011-07-25T07:59:20
ID
00de042c-b694-11e0-b626-d211c9b7ec30
This distribution has been tested as part of the CPAN Testers
project, supporting the Perl programming language.  See
http://wiki.cpantesters.org/ for more information or email
questions to cpan-testers-discuss@perl.org


--

Dear CGILMORE,

This is a computer-generated error report created automatically by
CPANPLUS, version 0.9109. Testers personal comments may appear
at the end of this report.

MAKE TEST passed: PERL_DL_NONLAZY=1 /home/cpan/pit/thr/perl-5.12.4/bin/perl "-MExtUtils::Command::MM" "-e" "test_harness(0, 'inc', 'blib/lib', 'blib/arch')" t/00ldif-entry.t t/01canon_dn.t t/02filter.t t/03schema.t t/04refloop.t t/05dsml.t t/06constant.t t/50populate.t t/51search.t t/52modify.t t/53schema.t t/54dse.t t/55ssl.t t/56ipc.t t/57url.t t/58lwp.t t/70sortctrl.t
t/00ldif-entry.t .. ok
t/01canon_dn.t .... ok
t/02filter.t ...... ok
t/03schema.t ...... ok
t/04refloop.t ..... ok
t/05dsml.t ........ skipped: (no reason given)
t/06constant.t .... ok
t/50populate.t .... skipped: No server
t/51search.t ...... skipped: No server
t/52modify.t ...... skipped: No server
t/53schema.t ...... skipped: No server
t/54dse.t ......... skipped: No server
t/55ssl.t ......... skipped: (no reason given)
t/56ipc.t ......... skipped: No server
t/57url.t ......... skipped: No server
t/58lwp.t ......... skipped: Need LWP::UserAgent
t/70sortctrl.t .... skipped: External tests disabled
All tests successful.
Files=17, Tests=528,  2 wallclock secs ( 0.18 usr  0.04 sys +  1.63 cusr  0.25 csys =  2.10 CPU)
Result: PASS

[MSG] [Mon Jul 25 08:59:08 2011] Sending test report for 'perl-ldap-0.4001'
[MSG] [Mon Jul 25 08:59:08 2011] Successfully sent 'pass' report for 'perl-ldap-0.4001'
[MSG] [Mon Jul 25 08:59:09 2011] cp AuthenLDAP.pm blib/lib/Apache/AuthenLDAP.pm
Manifying blib/man3/Apache::AuthenLDAP.3

[MSG] [Mon Jul 25 08:59:09 2011] No tests defined for Apache::AuthenLDAP extension.
[MSG] [Mon Jul 25 08:59:09 2011] Sending test report for 'Apache-AuthenLDAP-1.00'

This report was machine-generated by CPANPLUS::Dist::YACSmoke 0.64.
Powered by minismokebox version 0.54

------------------------------
ENVIRONMENT AND OTHER CONTEXT
------------------------------

Environment variables:

    AUTOMATED_TESTING = 1
    PATH = /home/cpan/bin:/bin:/sbin:/usr/bin:/usr/sbin:/usr/X11R7/bin:/usr/X11R6/bin:/usr/pkg/bin:/usr/pkg/sbin:/usr/games:/usr/local/bin:/usr/local/sbin
    PERL5LIB = :/home/cpan/pit/thr/conf/perl-5.12.4/.cpanplus/5.12.4/build/Convert-ASN1-0.22/blib/lib:/home/cpan/pit/thr/conf/perl-5.12.4/.cpanplus/5.12.4/build/Convert-ASN1-0.22/blib/arch:/home/cpan/pit/thr/conf/perl-5.12.4/.cpanplus/5.12.4/build/perl-ldap-0.4001/blib/lib:/home/cpan/pit/thr/conf/perl-5.12.4/.cpanplus/5.12.4/build/perl-ldap-0.4001/blib/arch:/home/cpan/pit/thr/conf/perl-5.12.4/.cpanplus/5.12.4/build/Apache-AuthenLDAP-1.00/blib/lib:/home/cpan/pit/thr/conf/perl-5.12.4/.cpanplus/5.12.4/build/Apache-AuthenLDAP-1.00/blib/arch
    PERL5_CPANPLUS_IS_RUNNING = 3139
    PERL5_CPANPLUS_IS_VERSION = 0.9109
    PERL5_MINISMOKEBOX = 0.54
    PERL5_YACSMOKE_BASE = /home/cpan/pit/thr/conf/perl-5.12.4
    PERL_EXTUTILS_AUTOINSTALL = --defaultdeps
    PERL_MM_USE_DEFAULT = 1
    SHELL = /usr/pkg/bin/bash
    TERM = screen

Perl special variables (and OS-specific diagnostics, for MSWin32):

    Perl: $^X = /home/cpan/pit/thr/perl-5.12.4/bin/perl
    UID:  $<  = 1001
    EUID: $>  = 1001
    GID:  $(  = 100 100
    EGID: $)  = 100 100


-------------------------------


--

Summary of my perl5 (revision 5 version 12 subversion 4) configuration:
   
  Platform:
    osname=netbsd, osvers=5.99.55, archname=amd64-netbsd-thread-multi
    uname='netbsd glissade.bingosnet.co.uk 5.99.55 netbsd 5.99.55 (generic) #0: sat jul 16 05:30:59 utc 2011 builds@b6.netbsd.org:homebuildsabheadamd64201107160350z-objhomebuildsabheadsrcsysarchamd64compilegeneric amd64 '
    config_args='-des -Dprefix=/home/cpan/pit/thr/perl-5.12.4 -Dusethreads'
    hint=recommended, useposix=true, d_sigaction=define
    useithreads=define, usemultiplicity=define
    useperlio=define, d_sfio=undef, uselargefiles=define, usesocks=undef
    use64bitint=define, use64bitall=define, uselongdouble=undef
    usemymalloc=n, bincompat5005=undef
  Compiler:
    cc='cc', ccflags ='-fno-strict-aliasing -pipe -fstack-protector -I/usr/pkg/include',
    optimize='-O',
    cppflags='-fno-strict-aliasing -pipe -fstack-protector -I/usr/pkg/include'
    ccversion='', gccversion='4.1.3 20080704 prerelease (NetBSD nb2 20081120)', gccosandvers=''
    intsize=4, longsize=8, ptrsize=8, doublesize=8, byteorder=12345678
    d_longlong=define, longlongsize=8, d_longdbl=define, longdblsize=16
    ivtype='long', ivsize=8, nvtype='double', nvsize=8, Off_t='off_t', lseeksize=8
    alignbytes=8, prototype=define
  Linker and Libraries:
    ld='cc', ldflags =' -Wl,-rpath,/usr/pkg/lib -Wl,-rpath,/usr/local/lib -fstack-protector -L/usr/pkg/lib'
    libpth=/usr/pkg/lib /lib /usr/lib
    libs=-lgdbm -lm -lcrypt -lutil -lc -lposix -lpthread
    perllibs=-lm -lcrypt -lutil -lc -lposix -lpthread
    libc=/lib/libc.so, so=so, useshrplib=false, libperl=libperl.a
    gnulibc_version=''
  Dynamic Linking:
    dlsrc=dl_dlopen.xs, dlext=so, d_dlsymun=undef, ccdlflags='-Wl,-E '
    cccdlflags='-DPIC -fPIC ', lddlflags='--whole-archive -shared  -L/usr/pkg/lib -fstack-protector'


Characteristics of this binary (from libperl): 
  Compile-time options: MULTIPLICITY PERL_DONT_CREATE_GVSV
                        PERL_IMPLICIT_CONTEXT PERL_MALLOC_WRAP USE_64_BIT_ALL
                        USE_64_BIT_INT USE_ITHREADS USE_LARGE_FILES
                        USE_PERLIO USE_PERL_ATOF USE_REENTRANT_API
  Built under netbsd
  Compiled at Jul 17 2011 14:38:53
  %ENV:
    PERL5LIB=":/home/cpan/pit/thr/conf/perl-5.12.4/.cpanplus/5.12.4/build/Convert-ASN1-0.22/blib/lib:/home/cpan/pit/thr/conf/perl-5.12.4/.cpanplus/5.12.4/build/Convert-ASN1-0.22/blib/arch:/home/cpan/pit/thr/conf/perl-5.12.4/.cpanplus/5.12.4/build/perl-ldap-0.4001/blib/lib:/home/cpan/pit/thr/conf/perl-5.12.4/.cpanplus/5.12.4/build/perl-ldap-0.4001/blib/arch:/home/cpan/pit/thr/conf/perl-5.12.4/.cpanplus/5.12.4/build/Apache-AuthenLDAP-1.00/blib/lib:/home/cpan/pit/thr/conf/perl-5.12.4/.cpanplus/5.12.4/build/Apache-AuthenLDAP-1.00/blib/arch"
    PERL5_CPANPLUS_IS_RUNNING="3139"
    PERL5_CPANPLUS_IS_VERSION="0.9109"
    PERL5_MINISMOKEBOX="0.54"
    PERL5_YACSMOKE_BASE="/home/cpan/pit/thr/conf/perl-5.12.4"
    PERL_EXTUTILS_AUTOINSTALL="--defaultdeps"
    PERL_MM_USE_DEFAULT="1"
  @INC:
    /home/cpan/pit/thr/conf/perl-5.12.4/.cpanplus/5.12.4/build/Convert-ASN1-0.22/blib/lib
    /home/cpan/pit/thr/conf/perl-5.12.4/.cpanplus/5.12.4/build/Convert-ASN1-0.22/blib/arch
    /home/cpan/pit/thr/conf/perl-5.12.4/.cpanplus/5.12.4/build/perl-ldap-0.4001/blib/lib
    /home/cpan/pit/thr/conf/perl-5.12.4/.cpanplus/5.12.4/build/perl-ldap-0.4001/blib/arch
    /home/cpan/pit/thr/conf/perl-5.12.4/.cpanplus/5.12.4/build/Apache-AuthenLDAP-1.00/blib/lib
    /home/cpan/pit/thr/conf/perl-5.12.4/.cpanplus/5.12.4/build/Apache-AuthenLDAP-1.00/blib/arch
    /home/cpan/pit/thr/perl-5.12.4/lib/site_perl/5.12.4/amd64-netbsd-thread-multi
    /home/cpan/pit/thr/perl-5.12.4/lib/site_perl/5.12.4
    /home/cpan/pit/thr/perl-5.12.4/lib/5.12.4/amd64-netbsd-thread-multi
    /home/cpan/pit/thr/perl-5.12.4/lib/5.12.4
    .