Plack v1.0051 Perl 5 v5.40.0 MSWin32-x64-multi-thread
- Status
- Pass
- From
- twata
- Dist
-
Plack v1.0051
- Platform
- Perl 5 v5.40.0 MSWin32-x64-multi-thread
- Date
- 2024-09-10 15:56:31
- ID
- 00d6996d-6c86-1014-8029-c6b14ba7b76c
This distribution has been tested as part of the CPAN Testers
project, supporting the Perl programming language. See
http://wiki.cpantesters.org/ for more information or email
questions to cpan-testers-discuss@perl.org
--
Dear Tatsuhiko Miyagawa,
This is a computer-generated report for Plack-1.0051
on perl 5.40.0, created by CPAN-Reporter-1.2020.
Thank you for uploading your work to CPAN. Congratulations!
All tests were successful.
Sections of this report:
* Tester comments
* Program output
* Prerequisites
* Environment and other context
------------------------------
TESTER COMMENTS
------------------------------
Additional comments from tester:
none provided
------------------------------
PROGRAM OUTPUT
------------------------------
Output from 'C:\strawberry-perl-5.40.0.1-64bit-portable\c\bin\gmake.exe test':
Skip blib\lib\auto\share\dist\Plack\face.jpg (unchanged)
Skip blib\lib\auto\share\dist\Plack\baybridge.jpg (unchanged)
"C:\strawberry-perl-5.40.0.1-64bit-portable\perl\bin\perl.exe" "-MExtUtils::Command::MM" "-MTest::Harness" "-e" "undef *Test::Harness::Switches; test_harness(0, 'blib\lib', 'blib\arch')" t/*.t t/HTTP-Message-PSGI/*.t t/HTTP-Server-PSGI/*.t t/Plack-Builder/*.t t/Plack-HTTPParser-PP/*.t t/Plack-Handler/*.t t/Plack-Loader/*.t t/Plack-MIME/*.t t/Plack-Middleware/*.t t/Plack-Middleware/cascade/*.t t/Plack-Middleware/recursive/*.t t/Plack-Middleware/stacktrace/*.t t/Plack-Request/*.t t/Plack-Response/*.t t/Plack-Runner/*.t t/Plack-TempBuffer/*.t t/Plack-Test/*.t t/Plack-Util/*.t
t/author-pod-syntax.t ................................ skipped: these tests are for testing by the author
t/HTTP-Message-PSGI/content_length.t ................. ok
t/HTTP-Message-PSGI/empty_delayed_writer.t ........... ok
t/HTTP-Message-PSGI/empty_streamed_response.t ........ ok
t/HTTP-Message-PSGI/host.t ........................... ok
t/HTTP-Message-PSGI/path_info.t ...................... ok
t/HTTP-Message-PSGI/unknown_response.t ............... ok
t/HTTP-Message-PSGI/utf8_req.t ....................... ok
t/HTTP-Server-PSGI/harakiri.t ........................ ok
t/HTTP-Server-PSGI/listen.t .......................... ok
t/HTTP-Server-PSGI/post.t ............................ ok
t/Plack-Builder/builder.t ............................ ok
t/Plack-Builder/mount.t .............................. ok
t/Plack-Builder/oo_interface.t ....................... ok
t/Plack-Handler/apache1.t ............................ skipped: TEST_APACHE1 is not set
t/Plack-Handler/apache2-registry.t ................... skipped: TEST_APACHE2 is not set
t/Plack-Handler/apache2.t ............................ skipped: TEST_APACHE2 is not set
t/Plack-Handler/cgi.t ................................ skipped: Test requires module 'HTTP::Request::AsCGI' but it's not found
t/Plack-Handler/fcgi.t ............................... skipped: Test requires module 'FCGI::ProcManager' but it's not found
t/Plack-Handler/fcgi_cleanup.t ....................... skipped: Test requires module 'FCGI::ProcManager' but it's not found
t/Plack-Handler/output_encoding.t .................... ok
t/Plack-Handler/standalone.t ......................... ok
t/Plack-HTTPParser-PP/simple.t ....................... ok
t/Plack-Loader/auto.t ................................ ok
t/Plack-Loader/auto_fallback.t ....................... ok
t/Plack-Loader/delayed.t ............................. ok
t/Plack-Loader/restarter.t ........................... skipped: author test only
t/Plack-Loader/restarter_valid.t ..................... ok
t/Plack-Loader/shotgun.t ............................. skipped: Skip on Win32
t/Plack-Middleware/access_log.t ...................... ok
t/Plack-Middleware/access_log_timed.t ................ ok
t/Plack-Middleware/access_log_value_zero.t ........... ok
t/Plack-Middleware/auth_basic.t ...................... ok
t/Plack-Middleware/auth_basic_env.t .................. ok
t/Plack-Middleware/auth_basic_simple.t ............... skipped: Test requires module 'Authen::Simple::Passwd' but it's not found
t/Plack-Middleware/bufferedstreaming.t ............... ok
t/Plack-Middleware/cascade/basic.t ................... ok
t/Plack-Middleware/cascade/streaming.t ............... ok
t/Plack-Middleware/cgibin.t .......................... skipped: Test requires module 'CGI::Compile' but it's not found
t/Plack-Middleware/cgibin_exec.t ..................... skipped: Test requires module 'CGI::Compile' but it's not found
t/Plack-Middleware/chunked.t ......................... skipped: Test requires module 'IO::Handle::Util' but it's not found
t/Plack-Middleware/component-leak.t .................. ok
t/Plack-Middleware/component.t ....................... skipped: Test requires module 'IO::Handle::Util' but it's not found
t/Plack-Middleware/conditional.t ..................... ok
t/Plack-Middleware/conditional_new.t ................. ok
t/Plack-Middleware/conditionalget.t .................. ok
t/Plack-Middleware/conditionalget_writer.t ........... ok
t/Plack-Middleware/content_length.t .................. ok
t/Plack-Middleware/directory.t ....................... ok
t/Plack-Middleware/error_document.t .................. ok
t/Plack-Middleware/error_document_streaming_app.t .... ok
t/Plack-Middleware/file.t ............................ ok
t/Plack-Middleware/head.t ............................ ok
t/Plack-Middleware/head_streaming.t .................. ok
t/Plack-Middleware/httpexceptions.t .................. ok
t/Plack-Middleware/httpexceptions_streaming.t ........ ok
t/Plack-Middleware/iis6_script_name_fix.t ............ ok
t/Plack-Middleware/iis7_keep_alive_fix.t ............. ok
t/Plack-Middleware/jsonp.t ........................... ok
t/Plack-Middleware/lint.t ............................ ok
t/Plack-Middleware/lint_env.t ........................ ok
t/Plack-Middleware/lint_utf8_false_alarm.t ........... ok
t/Plack-Middleware/lint_wrong_header_info.t .......... ok
t/Plack-Middleware/log4perl-category.t ............... skipped: Test requires module 'Log::Log4perl' but it's not found
t/Plack-Middleware/log4perl.t ........................ skipped: Test requires module 'Log::Log4perl' but it's not found
t/Plack-Middleware/log_dispatch.t .................... skipped: Test requires module 'Log::Dispatch::Array' but it's not found
t/Plack-Middleware/order.t ........................... ok
t/Plack-Middleware/prefix.t .......................... ok
t/Plack-Middleware/psgibin.t ......................... ok
t/Plack-Middleware/rearrange_headers.t ............... ok
t/Plack-Middleware/recursive/base.t .................. ok
t/Plack-Middleware/recursive/streaming.t ............. ok
t/Plack-Middleware/recursive/throw.t ................. ok
t/Plack-Middleware/recursive/throw_streaming.t ....... ok
t/Plack-Middleware/refresh-init.t .................... skipped: Test requires module 'Module::Refresh' but it's not found
t/Plack-Middleware/runtime.t ......................... skipped: Skipping on MSWin32 platform
t/Plack-Middleware/simple_content_filter.t ........... ok
t/Plack-Middleware/simple_logger.t ................... ok
t/Plack-Middleware/stacktrace/basic.t ................ ok
t/Plack-Middleware/stacktrace/force.t ................ ok
t/Plack-Middleware/stacktrace/multiple_exceptions.t .. ok
t/Plack-Middleware/stacktrace/sigdie.t ............... ok
t/Plack-Middleware/stacktrace/streaming.t ............ ok
t/Plack-Middleware/stacktrace/utf8.t ................. ok
t/Plack-Middleware/static.t .......................... ok
t/Plack-Middleware/static_env.t ...................... ok
t/Plack-Middleware/urlmap.t .......................... ok
t/Plack-Middleware/urlmap_builder.t .................. ok
t/Plack-Middleware/urlmap_env.t ...................... ok
t/Plack-Middleware/urlmap_ports.t .................... ok
t/Plack-Middleware/wrapcgi.t ......................... skipped: Test requires module 'CGI::Compile' but it's not found
t/Plack-Middleware/wrapcgi_exec.t .................... skipped: Test requires module 'CGI::Emulate::PSGI' but it's not found
t/Plack-Middleware/xframework.t ...................... ok
t/Plack-Middleware/xsendfile.t ....................... ok
t/Plack-MIME/add_type.t .............................. ok
t/Plack-MIME/basic.t ................................. ok
t/Plack-MIME/fallback.t .............................. ok
t/Plack-Request/base.t ............................... ok
t/Plack-Request/body-unbuffered.t .................... ok
t/Plack-Request/body.t ............................... ok
t/Plack-Request/content-on-get.t ..................... ok
t/Plack-Request/content.t ............................ ok
t/Plack-Request/cookie.t ............................. ok
t/Plack-Request/double_port.t ........................ ok
t/Plack-Request/headers.t ............................ ok
t/Plack-Request/hostname.t ........................... ok
t/Plack-Request/many_upload.t ........................ ok
t/Plack-Request/multi_read.t ......................... ok
t/Plack-Request/new.t ................................ ok
t/Plack-Request/parameters.t ......................... ok
t/Plack-Request/params.t ............................. ok
t/Plack-Request/path_info.t .......................... ok
t/Plack-Request/path_info_escaped.t .................. ok
t/Plack-Request/query_string.t ....................... ok
t/Plack-Request/readbody.t ........................... ok
t/Plack-Request/request_uri.t ........................ ok
t/Plack-Request/upload-basename.t .................... ok
cannot remove directory for C:/Users/USER/AppData/Local/Temp/GYVM7: Directory not empty at C:/strawberry-perl-5.40.0.1-64bit-portable/perl/lib/File/Temp.pm line 2643.
t/Plack-Request/upload-large.t ....................... ok
t/Plack-Request/upload.t ............................. ok
t/Plack-Request/uri.t ................................ ok
t/Plack-Request/uri_utf8.t ........................... ok
t/Plack-Response/body.t .............................. ok
t/Plack-Response/compatible.t ........................ ok
t/Plack-Response/cookie.t ............................ ok
t/Plack-Response/headers.t ........................... ok
t/Plack-Response/new.t ............................... ok
t/Plack-Response/redirect.t .......................... ok
t/Plack-Response/response.t .......................... ok
t/Plack-Response/to_app.t ............................ ok
t/Plack-Runner/options.t ............................. ok
t/Plack-Runner/path.t ................................ skipped: release test only
t/Plack-TempBuffer/print.t ........................... ok
t/Plack-Test/2args.t ................................. ok
t/Plack-Test/cookie.t ................................ ok
t/Plack-Test/hello.t ................................. ok
t/Plack-Test/hello_server.t .......................... ok
t/Plack-Test/suite.t ................................. ok
t/Plack-Util/can.t ................................... ok
t/Plack-Util/foreach.t ............................... ok
t/Plack-Util/header_exists.t ......................... ok
t/Plack-Util/header_get.t ............................ ok
t/Plack-Util/header_push.t ........................... ok
t/Plack-Util/header_remove.t ......................... ok
t/Plack-Util/header_set.t ............................ ok
t/Plack-Util/headers_obj.t ........................... ok
t/Plack-Util/inline_object.t ......................... ok
t/Plack-Util/io_with_path.t .......................... ok
t/Plack-Util/is_real_fh.t ............................ ok
t/Plack-Util/load.t .................................. ok
t/Plack-Util/response_cb.t ........................... ok
All tests successful.
Files=150, Tests=1108, 87 wallclock secs ( 0.64 usr + 0.33 sys = 0.97 CPU)
Result: PASS
------------------------------
PREREQUISITES
------------------------------
Prerequisite modules loaded:
requires:
Module Need Have
--------------------------- -------- --------
Apache::LogFormat::Compiler 0.33 0.36
Cookie::Baker 0.07 0.12
Devel::StackTrace 1.23 2.05
Devel::StackTrace::AsHTML 0.11 0.15
File::ShareDir 1.00 1.118
Filesys::Notify::Simple 0 0.14
Hash::MultiValue 0.05 0.16
HTTP::Entity::Parser 0.25 0.25
HTTP::Headers::Fast 0.18 0.22
HTTP::Message 5.814 6.46
HTTP::Tiny 0.034 0.088
parent 0 0.241
perl 5.012000 5.040000
Pod::Usage 1.36 2.03
Stream::Buffered 0.02 0.03
Test::TCP 2.15 2.22
Try::Tiny 0 0.31
URI 1.59 5.28
WWW::Form::UrlEncoded 0.23 0.26
build_requires:
Module Need Have
--------------------------- -------- --------
ExtUtils::MakeMaker 0 7.70
Test::More 0.88 1.302203
Test::Requires 0 0.11
configure_requires:
Module Need Have
--------------------------- -------- --------
ExtUtils::MakeMaker 0 7.70
File::ShareDir::Install 0.06 0.14
------------------------------
ENVIRONMENT AND OTHER CONTEXT
------------------------------
Environment variables:
COMSPEC = C:\WINDOWS\system32\cmd.exe
LC_ALL = C
NONINTERACTIVE_TESTING = 1
NUMBER_OF_PROCESSORS = 4
PATH = C:\strawberry-perl-5.40.0.1-64bit-portable\perl\site\bin;C:\strawberry-perl-5.40.0.1-64bit-portable\perl\bin;C:\strawberry-perl-5.40.0.1-64bit-portable\c\bin;C:\WINDOWS\system32;C:\WINDOWS;C:\WINDOWS\System32\Wbem;C:\WINDOWS\System32\WindowsPowerShell\v1.0
PERL5LIB =
PERL5OPT =
PERL5_CPANPLUS_IS_RUNNING = 7340
PERL5_CPAN_IS_RUNNING = 7340
PERL_MM_USE_DEFAULT = 1
PERL_USE_UNSAFE_INC = 1
PROCESSOR_IDENTIFIER = Intel64 Family 6 Model 58 Stepping 9, GenuineIntel
TEMP = C:\Users\USER\AppData\Local\Temp
TERM = dumb
Perl special variables (and OS-specific diagnostics, for MSWin32):
$^X = C:\strawberry-perl-5.40.0.1-64bit-portable\perl\bin\perl.exe
$UID/$EUID = 0 / 0
$GID = 0
$EGID = 0
Win32::GetOSName = Win8.1
Win32::GetOSVersion = , 6, 3, 9600, 2, 0, 0, 256, 1
Win32::FsType = NTFS
Win32::IsAdminUser = 0
Perl module toolchain versions installed:
Module Have
------------------- --------
CPAN 2.36
CPAN::Meta 2.150010
Cwd 3.90
ExtUtils::CBuilder 0.280240
ExtUtils::Command 7.70
ExtUtils::Install 2.22
ExtUtils::MakeMaker 7.70
ExtUtils::Manifest 1.75
ExtUtils::ParseXS 3.51
File::Spec 3.90
JSON 4.10
JSON::PP 4.16
Module::Build 0.4234
Module::Signature n/a
Parse::CPAN::Meta 2.150010
Test2 1.302203
Test::Harness 3.48
Test::More 1.302203
YAML 1.31
YAML::Syck n/a
version 0.9933
--
Summary of my perl5 (revision 5 version 40 subversion 0) configuration:
Platform:
osname=MSWin32
osvers=10.0.22621.3880
archname=MSWin32-x64-multi-thread
uname='Win32 strawberry-perl 5.40.0.1 # 02:45:15 Sat August 10 2024 x64'
config_args='undef'
hint=recommended
useposix=true
d_sigaction=undef
useithreads=define
usemultiplicity=define
use64bitint=define
use64bitall=undef
uselongdouble=undef
usemymalloc=n
default_inc_excludes_dot=define
Compiler:
cc='gcc'
ccflags ='-std=c99 -DWIN32 -DWIN64 -DPERL_TEXTMODE_SCRIPTS -DMULTIPLICITY -DPERL_IMPLICIT_SYS -DUSE_PERLIO -D__USE_MINGW_ANSI_STDIO -fwrapv -fno-strict-aliasing -mms-bitfields'
optimize='-Os -falign-functions -falign-jumps -falign-labels -falign-loops -freorder-blocks -freorder-blocks-algorithm=stc -freorder-blocks-and-partition'
cppflags='-DWIN32'
ccversion=''
gccversion='13.2.0'
gccosandvers=''
intsize=4
longsize=4
ptrsize=8
doublesize=8
byteorder=12345678
doublekind=3
d_longlong=define
longlongsize=8
d_longdbl=define
longdblsize=16
longdblkind=3
ivtype='long long'
ivsize=8
nvtype='double'
nvsize=8
Off_t='long long'
lseeksize=8
alignbytes=8
prototype=define
Linker and Libraries:
ld='g++.exe'
ldflags ='-s -L"C:\strawberry-perl-5.40.0.1-64bit-portable\perl\lib\CORE" -L"C:\strawberry-perl-5.40.0.1-64bit-portable\c\lib"'
libpth=C:\strawberry-perl-5.40.0.1-64bit-portable\c\lib C:\strawberry-perl-5.40.0.1-64bit-portable\c\x86_64-w64-mingw32\lib C:\strawberry-perl-5.40.0.1-64bit-portable\c\lib\gcc\x86_64-w64-mingw32\13.1.0
libs= -lmoldname -lkernel32 -luser32 -lgdi32 -lwinspool -lcomdlg32 -ladvapi32 -lshell32 -lole32 -loleaut32 -lnetapi32 -luuid -lws2_32 -lmpr -lwinmm -lversion -lodbc32 -lodbccp32 -lcomctl32
perllibs= -lmoldname -lkernel32 -luser32 -lgdi32 -lwinspool -lcomdlg32 -ladvapi32 -lshell32 -lole32 -loleaut32 -lnetapi32 -luuid -lws2_32 -lmpr -lwinmm -lversion -lodbc32 -lodbccp32 -lcomctl32
libc=-lucrt
so=dll
useshrplib=true
libperl=libperl540.a
gnulibc_version=''
Dynamic Linking:
dlsrc=dl_win32.xs
dlext=xs.dll
d_dlsymun=undef
ccdlflags=' '
cccdlflags=' '
lddlflags='-mdll -s -L"C:\strawberry-perl-5.40.0.1-64bit-portable\perl\lib\CORE" -L"C:\strawberry-perl-5.40.0.1-64bit-portable\c\lib"'
Characteristics of this binary (from libperl):
Compile-time options:
HAS_LONG_DOUBLE
HAS_TIMES
HAVE_INTERP_INTERN
MULTIPLICITY
PERLIO_LAYERS
PERL_COPY_ON_WRITE
PERL_DONT_CREATE_GVSV
PERL_HASH_FUNC_SIPHASH13
PERL_HASH_USE_SBOX32
PERL_IMPLICIT_SYS
PERL_MALLOC_WRAP
PERL_OP_PARENT
PERL_PRESERVE_IVUV
PERL_USE_SAFE_PUTENV
USE_64_BIT_INT
USE_ITHREADS
USE_LARGE_FILES
USE_LOCALE
USE_LOCALE_COLLATE
USE_LOCALE_CTYPE
USE_LOCALE_NUMERIC
USE_LOCALE_TIME
USE_PERLIO
USE_PERL_ATOF
USE_THREAD_SAFE_LOCALE
Built under MSWin32
Compiled at Aug 10 2024 12:45:35
%ENV:
PERL5_CPANPLUS_IS_RUNNING="7340"
PERL5_CPAN_IS_RUNNING="7340"
PERL_MM_USE_DEFAULT="1"
PERL_USE_UNSAFE_INC="1"
@INC:
C:/strawberry-perl-5.40.0.1-64bit-portable/perl/site/lib/MSWin32-x64-multi-thread
C:/strawberry-perl-5.40.0.1-64bit-portable/perl/site/lib
C:/strawberry-perl-5.40.0.1-64bit-portable/perl/vendor/lib
C:/strawberry-perl-5.40.0.1-64bit-portable/perl/lib
.