Data-Conveyor v1.103130 Perl 5 v5.14.2 x86_64-linux-ld

Status
Pass
From
Andreas J. König (ANDK)
Dist
Data-Conveyor v1.103130
Platform
Perl 5 v5.14.2 x86_64-linux-ld
Date
2011-09-16 06:20:41
ID
00c32334-e02c-11e0-811c-3041e1a039fc
This distribution has been tested as part of the CPAN Testers
project, supporting the Perl programming language.  See
http://wiki.cpantesters.org/ for more information or email
questions to cpan-testers-discuss@perl.org


--
Dear Marcel Gruenauer,

This is a computer-generated report for Data-Conveyor-1.103130
on perl 5.14.2, created by CPAN-Reporter-1.1902.

Thank you for uploading your work to CPAN.  Congratulations!
All tests were successful.

Sections of this report:

    * Tester comments
    * Program output
    * Prerequisites
    * Environment and other context

------------------------------
TESTER COMMENTS
------------------------------

Additional comments from tester:

none provided

------------------------------
PROGRAM OUTPUT
------------------------------

Output from '/usr/bin/make test':

make[1]: Entering directory `/home/sand/.cpan/build/Data-Conveyor-1.103130-tDLg70'
PERL_DL_NONLAZY=1 /home/sand/src/perl/repoperls/installed-perls/perl/v5.14.1-38-g3feb3f4/2b65/bin/perl "-MExtUtils::Command::MM" "-e" "test_harness(0, 'blib/lib', 'blib/arch')" t/*.t
t/00-compile.t ............... ok
# Testing with Perl 5.014002, /home/sand/src/perl/repoperls/installed-perls/perl/v5.14.1-38-g3feb3f4/2b65/bin/perl
#     Carp version is 1.20
#     Class::Accessor::Complex version is 1.100880
#     Class::Scaffold::Accessor version is 1.102280
#     Class::Scaffold::App::CommandLine version is 1.102280
#     Class::Scaffold::App::Test::Classes version is 1.102280
#     Class::Scaffold::App::Test::YAMLDriven version is 1.102280
#     Class::Scaffold::Base version is 1.102280
#     Class::Scaffold::ConstantImporter version is 1.102280
#     Class::Scaffold::Delegate::Mixin version is 1.102280
#     Class::Scaffold::Environment version is 1.102280
#     Class::Scaffold::Exception version is 1.102280
#     Class::Scaffold::Exception::Business version is 1.102280
#     Class::Scaffold::Exception::Container version is 1.102280
#     Class::Scaffold::Exception::Util version is 1.102280
#     Class::Scaffold::Factory version is 1.102280
#     Class::Scaffold::Factory::Type version is 1.102280
#     Class::Scaffold::HierarchicalDirty version is 1.102280
#     Class::Scaffold::Log version is 1.102280
#     Class::Scaffold::Storable version is 1.102280
#     Class::Scaffold::Test version is 1.102280
#     Class::Scaffold::Test::Inherited version is 1.102280
#     Class::Scaffold::Test::UtilLoader version is 1.102280
#     Class::Scaffold::Util version is 1.102280
#     Class::Scaffold::YAML::Active version is 1.102280
#     Class::Scaffold::YAML::Active::Hash version is 1.102280
#     Class::Scaffold::YAML::Marshall version is 1.102280
#     Class::Value version is 1.100840
#     Class::Value::Enum version is 1.100840
#     Class::Value::Exception::Base version is 1.100840
#     Class::Value::Exception::NotWellFormedValue version is 1.100840
#     Class::Value::String version is 1.100840
#     Compress::Zlib version is 2.037
#     DBI version is 1.616
#     Data::Container version is 1.100840
#     Data::Dumper version is 2.131
#     Data::Inherited version is 1.100860
#     Data::Miscellany version is 1.100850
#     Data::Storage::DBI::Mock version is 1.102720
#     Data::Storage::DBI::Oracle version is 1.102720
#     Data::Storage::DBI::Pg version is 1.102720
#     Data::Storage::DBI::SQLite version is 1.102720
#     Data::Storage::Memory version is 1.102720
#     Data::Storage::Null version is 1.102720
#     Date::Calc version is 6.3
#     English version is 1.04
#     Error version is 0.17016
#     Error::Hierarchy version is 1.103530
#     Error::Hierarchy::Internal version is 1.103530
#     Error::Hierarchy::Internal::CustomMessage version is 1.103530
#     Error::Hierarchy::Internal::DBI::STH version is 1.103530
#     Error::Hierarchy::Test version is 1.103530
#     Error::Hierarchy::Util version is 1.103530
#     Exporter version is 5.64_03
#     ExtUtils::MakeMaker version is 6.59
#     Fcntl version is 1.11
#     File::Find version is 1.19
#     File::Temp version is 0.22
#     FindBin version is 1.50
#     Getopt::Long version is 2.38
#     Hash::Flatten version is 1.19
#     Hook::Modular version is 1.101050
#     IO::Handle version is 1.31
#     IO::Pager version is 0.05
#     Pod::Text version is 3.15
#     Scalar::Util version is 1.23
#     Storable version is 2.27
#     String::FlexMatch::Test version is 1.100820
#     Sys::Hostname version is 1.16
#     Term::Shell::Enhanced version is 1.101420
#     Test::Builder version is 0.98
#     Test::Class version is 0.36
#     Test::More version is 0.98
#     Text::Table version is 1.124
#     Time::HiRes version is 1.972101
#     YAML version is 0.73
#     YAML::Active version is 1.100810
#     YAML::Marshall version is 0.72
#     charnames version is 1.18
#     constant version is 1.21
#     once version is 1.101420
#     overload version is 1.13
#     parent version is 0.225
t/000-report-versions.t ...... ok
t/01_companion_classes.t ..... ok
t/author-critic.t ............ skipped: these tests are for testing by the author
t/release-check-changes.t .... skipped: these tests are for release candidate testing
t/release-dist-manifest.t .... skipped: these tests are for release candidate testing
t/release-distmeta.t ......... skipped: these tests are for release candidate testing
t/release-eol.t .............. skipped: these tests are for release candidate testing
t/release-has-version.t ...... skipped: these tests are for release candidate testing
t/release-kwalitee.t ......... skipped: these tests are for release candidate testing
t/release-minimum-version.t .. skipped: these tests are for release candidate testing
t/release-no-tabs.t .......... skipped: these tests are for release candidate testing
t/release-pod-coverage.t ..... skipped: these tests are for release candidate testing
t/release-pod-spell.t ........ skipped: these tests are for release candidate testing
t/release-pod-syntax.t ....... skipped: these tests are for release candidate testing
t/release-portability.t ...... skipped: these tests are for release candidate testing
t/release-synopsis.t ......... skipped: these tests are for release candidate testing
t/release-unused-vars.t ...... skipped: these tests are for release candidate testing
All tests successful.
Files=18, Tests=223, 10 wallclock secs ( 0.09 usr  0.04 sys +  7.49 cusr  1.63 csys =  9.25 CPU)
Result: PASS
make[1]: Leaving directory `/home/sand/.cpan/build/Data-Conveyor-1.103130-tDLg70'

------------------------------
PREREQUISITES
------------------------------

Prerequisite modules loaded:

requires:

    Module                                      Need Have     
    ------------------------------------------- ---- ---------
    charnames                                   0    1.18     
    Class::Accessor::Complex                    0    1.100880 
    Class::Scaffold::Accessor                   0    1.102280 
    Class::Scaffold::App::CommandLine           0    1.102280 
    Class::Scaffold::App::Test::YAMLDriven      0    1.102280 
    Class::Scaffold::Base                       0    1.102280 
    Class::Scaffold::ConstantImporter           0    1.102280 
    Class::Scaffold::Delegate::Mixin            0    1.102280 
    Class::Scaffold::Environment                0    1.102280 
    Class::Scaffold::Exception                  0    1.102280 
    Class::Scaffold::Exception::Business        0    1.102280 
    Class::Scaffold::Exception::Container       0    1.102280 
    Class::Scaffold::Exception::Util            0    1.102280 
    Class::Scaffold::Factory                    0    1.102280 
    Class::Scaffold::Factory::Type              0    1.102280 
    Class::Scaffold::HierarchicalDirty          0    1.102280 
    Class::Scaffold::Log                        0    1.102280 
    Class::Scaffold::Storable                   0    1.102280 
    Class::Scaffold::Test                       0    1.102280 
    Class::Scaffold::Test::Inherited            0    1.102280 
    Class::Scaffold::Test::UtilLoader           0    1.102280 
    Class::Scaffold::Util                       0    1.102280 
    Class::Scaffold::YAML::Active               0    1.102280 
    Class::Scaffold::YAML::Active::Hash         0    1.102280 
    Class::Scaffold::YAML::Marshall             0    1.102280 
    Class::Value                                0    1.100840 
    Class::Value::Enum                          0    1.100840 
    Class::Value::Exception::Base               0    1.100840 
    Class::Value::Exception::NotWellFormedValue 0    1.100840 
    Class::Value::String                        0    1.100840 
    Compress::Zlib                              0    2.037    
    constant                                    0    1.21     
    Data::Container                             0    1.100840 
    Data::Dumper                                0    2.131    
    Data::Inherited                             0    1.100860 
    Data::Miscellany                            0    1.100850 
    Data::Storage::DBI::Mock                    0    1.102720 
    Data::Storage::DBI::Oracle                  0    1.102720 
    Data::Storage::DBI::Pg                      0    1.102720 
    Data::Storage::DBI::SQLite                  0    1.102720 
    Data::Storage::Memory                       0    1.102720 
    Data::Storage::Null                         0    1.102720 
    Date::Calc                                  0    6.3      
    DBI                                         0    1.616    
    Error                                       0    0.17016  
    Error::Hierarchy                            0    1.103530 
    Error::Hierarchy::Internal                  0    1.103530 
    Error::Hierarchy::Internal::CustomMessage   0    1.103530 
    Error::Hierarchy::Internal::DBI::STH        0    1.103530 
    Error::Hierarchy::Test                      0    1.103530 
    Error::Hierarchy::Util                      0    1.103530 
    Exporter                                    0    5.64_03  
    Fcntl                                       0    1.11     
    FindBin                                     0    1.50     
    Getopt::Long                                0    2.38     
    Hash::Flatten                               0    1.19     
    Hook::Modular                               0    1.101050 
    IO::Handle                                  0    1.31     
    IO::Pager                                   0    0.05     
    once                                        0    1.101420 
    overload                                    0    1.13     
    parent                                      0    0.225    
    Pod::Text                                   0    3.15     
    Storable                                    0    2.27     
    String::FlexMatch::Test                     0    1.100820 
    Sys::Hostname                               0    1.16     
    Term::Shell::Enhanced                       0    1.101420 
    Test::Builder                               0    0.98     
    Test::Class                                 0    0.36     
    Test::More                                  0    0.98     
    Text::Table                                 0    1.124    
    Time::HiRes                                 0    1.9721_01
    YAML                                        0    0.73     
    YAML::Active                                0    1.100810 
    YAML::Marshall                              0    0.72     

build_requires:

    Module                                      Need Have     
    ------------------------------------------- ---- ---------
    Carp                                        0    1.20     
    Class::Scaffold::App::Test::Classes         0    1.102280 
    English                                     0    1.04     
    File::Find                                  0    1.19     
    File::Temp                                  0    0.22     
    Scalar::Util                                0    1.23     
    Test::More                                  0.94 0.98     

configure_requires:

    Module                                      Need Have     
    ------------------------------------------- ---- ---------
    ExtUtils::MakeMaker                         6.31 6.59     


------------------------------
ENVIRONMENT AND OTHER CONTEXT
------------------------------

Environment variables:

    LANG = en_US.UTF-8
    LANGUAGE = en_US:en
    PATH = /usr/lib/ccache:/home/sand/bin:/usr/local/bin:/usr/bin:/bin:/usr/bin/X11:/usr/games:/usr/local/perl/bin:/usr/X11/bin:/sbin:/usr/sbin
    PERL5LIB = 
    PERL5OPT = 
    PERL5_CPANPLUS_IS_RUNNING = 21443
    PERL5_CPAN_IS_RUNNING = 21443
    SHELL = /usr/bin/zsh
    TERM = screen

Perl special variables (and OS-specific diagnostics, for MSWin32):

    $^X = /home/sand/src/perl/repoperls/installed-perls/perl/v5.14.1-38-g3feb3f4/2b65/bin/perl
    $UID/$EUID = 1001 / 1001
    $GID = 1001 1001
    $EGID = 1001 1001

Perl module toolchain versions installed:

    Module              Have    
    ------------------- --------
    CPAN                1.9800  
    Cwd                 3.36    
    ExtUtils::CBuilder  0.280203
    ExtUtils::Command   1.17    
    ExtUtils::Install   1.56    
    ExtUtils::MakeMaker 6.59    
    ExtUtils::Manifest  1.58    
    ExtUtils::ParseXS   2.2210  
    File::Spec          3.33    
    Module::Build       0.3800  
    Module::Signature   0.68    
    Test::Harness       3.23    
    Test::More          0.98    
    YAML                0.73    
    YAML::Syck          1.17    
    version             0.94    


--

Summary of my perl5 (revision 5 version 14 subversion 2) configuration:
  Commit id: 3feb3f49884efa2c4078dbbd3a4b68af4174b641
  Platform:
    osname=linux, osvers=3.0.0-1-amd64, archname=x86_64-linux-ld
    uname='linux k81 3.0.0-1-amd64 #1 smp sat aug 27 16:21:11 utc 2011 x86_64 gnulinux '
    config_args='-Dprefix=/home/src/perl/repoperls/installed-perls/perl/v5.14.1-38-g3feb3f4/2b65 -Dinstallusrbinperl=n -Uversiononly -Dusedevel -des -Ui_db -Uuseithreads -Duselongdouble -DDEBUGGING=-g'
    hint=recommended, useposix=true, d_sigaction=define
    useithreads=undef, usemultiplicity=undef
    useperlio=define, d_sfio=undef, uselargefiles=define, usesocks=undef
    use64bitint=define, use64bitall=define, uselongdouble=define
    usemymalloc=n, bincompat5005=undef
  Compiler:
    cc='cc', ccflags ='-fno-strict-aliasing -pipe -fstack-protector -I/usr/local/include -D_LARGEFILE_SOURCE -D_FILE_OFFSET_BITS=64',
    optimize='-O2 -g',
    cppflags='-fno-strict-aliasing -pipe -fstack-protector -I/usr/local/include'
    ccversion='', gccversion='4.6.1', gccosandvers=''
    intsize=4, longsize=8, ptrsize=8, doublesize=8, byteorder=12345678
    d_longlong=define, longlongsize=8, d_longdbl=define, longdblsize=16
    ivtype='long', ivsize=8, nvtype='long double', nvsize=16, Off_t='off_t', lseeksize=8
    alignbytes=16, prototype=define
  Linker and Libraries:
    ld='cc', ldflags =' -fstack-protector -L/usr/local/lib'
    libpth=/usr/local/lib /lib/x86_64-linux-gnu /usr/lib/x86_64-linux-gnu /lib /usr/lib /lib64 /usr/lib64
    libs=-lnsl -ldb -ldl -lm -lcrypt -lutil -lc
    perllibs=-lnsl -ldl -lm -lcrypt -lutil -lc
    libc=, so=so, useshrplib=false, libperl=libperl.a
    gnulibc_version='2.13'
  Dynamic Linking:
    dlsrc=dl_dlopen.xs, dlext=so, d_dlsymun=undef, ccdlflags='-Wl,-E'
    cccdlflags='-fPIC', lddlflags='-shared -O2 -g -L/usr/local/lib -fstack-protector'


Characteristics of this binary (from libperl): 
  Compile-time options: PERL_DONT_CREATE_GVSV PERL_MALLOC_WRAP
                        PERL_PRESERVE_IVUV PERL_USE_DEVEL USE_64_BIT_ALL
                        USE_64_BIT_INT USE_LARGE_FILES USE_LONG_DOUBLE
                        USE_PERLIO USE_PERL_ATOF
  Built under linux
  Compiled at Sep 15 2011 21:38:51
  %ENV:
    PERL5LIB=""
    PERL5OPT=""
    PERL5_CPANPLUS_IS_RUNNING="21443"
    PERL5_CPAN_IS_RUNNING="21443"
  @INC:
    /home/src/perl/repoperls/installed-perls/perl/v5.14.1-38-g3feb3f4/2b65/lib/site_perl/5.14.2/x86_64-linux-ld
    /home/src/perl/repoperls/installed-perls/perl/v5.14.1-38-g3feb3f4/2b65/lib/site_perl/5.14.2
    /home/src/perl/repoperls/installed-perls/perl/v5.14.1-38-g3feb3f4/2b65/lib/5.14.2/x86_64-linux-ld
    /home/src/perl/repoperls/installed-perls/perl/v5.14.1-38-g3feb3f4/2b65/lib/5.14.2
    .