Module-Build-Deprecated v0.4210 Perl 5 v5.18.2 i686-linux
- Status
- Pass
- From
- Michiel Beijen
- Dist
-
Module-Build-Deprecated v0.4210
- Platform
- Perl 5 v5.18.2 i686-linux
- Date
- 2015-01-12 19:20:00
- ID
- 00a33a0c-9a90-11e4-b44f-130e469bf5eb
This distribution has been tested as part of the CPAN Testers
project, supporting the Perl programming language. See
http://wiki.cpantesters.org/ for more information or email
questions to cpan-testers-discuss@perl.org
--
Dear Leon Timmermans,
This is a computer-generated report for Module-Build-Deprecated-0.4210
on perl 5.18.2, created by CPAN-Reporter-1.2010.
Thank you for uploading your work to CPAN. Congratulations!
All tests were successful.
Sections of this report:
* Tester comments
* Program output
* Prerequisites
* Environment and other context
------------------------------
TESTER COMMENTS
------------------------------
Additional comments from tester:
none provided
------------------------------
PROGRAM OUTPUT
------------------------------
Output from './Build test':
t/00-compile.t ............ ok
t/release-pod-coverage.t .. skipped: these tests are for release candidate testing
t/release-pod-syntax.t .... skipped: these tests are for release candidate testing
All tests successful.
Files=3, Tests=4, 0 wallclock secs ( 0.01 usr 0.01 sys + 0.12 cusr 0.02 csys = 0.16 CPU)
Result: PASS
------------------------------
PREREQUISITES
------------------------------
Prerequisite modules loaded:
requires:
Module Need Have
---------------- ------ --------
base 0 2.18
CPAN::Meta::YAML 0.002 0.012
Module::Metadata 0 1.000025
parent 0 0.225
perl 5.006 5.018002
strict 0 1.07
version 0.87 0.9902
warnings 0 1.18
build_requires:
Module Need Have
---------------- ------ --------
File::Spec 0 3.47
IO::Handle 0 1.34
IPC::Open3 0 1.13
Module::Build 0.3601 0.4210
perl 5.006 5.018002
Test::More 0 1.001012
configure_requires:
Module Need Have
---------------- ------ --------
Module::Build 0.3601 0.4210
------------------------------
ENVIRONMENT AND OTHER CONTEXT
------------------------------
Environment variables:
LANG = en_US.utf8
PATH = /home/michiel/.plenv/versions/5.18.2/bin:/home/michiel/.plenv/libexec:/home/michiel/.plenv/plugins/perl-build/bin:/home/michiel/.plenv/bin:/home/michiel/.plenv/shims:/home/michiel/.plenv/bin:/usr/local/bin:/usr/bin:/bin:/usr/local/games:/usr/games
PERL5LIB =
PERL5OPT =
PERL5_CPANPLUS_IS_RUNNING = 4912
PERL5_CPAN_IS_RUNNING = 4912
SHELL = /bin/bash
TERM = xterm
Perl special variables (and OS-specific diagnostics, for MSWin32):
$^X = /home/michiel/.plenv/versions/5.18.2/bin/perl5.18.2
$UID/$EUID = 1000 / 1000
$GID = 33 20 27 33 128
$EGID = 33 20 27 33 128
Perl module toolchain versions installed:
Module Have
------------------- --------
CPAN 2.05
CPAN::Meta 2.143240
Cwd 3.47
ExtUtils::CBuilder 0.280220
ExtUtils::Command 1.20
ExtUtils::Install 2.04
ExtUtils::MakeMaker 7.04
ExtUtils::Manifest 1.70
ExtUtils::ParseXS 3.24
File::Spec 3.47
JSON 2.90
JSON::PP 2.27300
Module::Build 0.4210
Module::Signature 0.73
Parse::CPAN::Meta 1.4414
Test::Harness 3.34
Test::More 1.001012
YAML 1.13
YAML::Syck n/a
version 0.9902
--
Summary of my perl5 (revision 5 version 18 subversion 2) configuration:
Platform:
osname=linux, osvers=3.2.0-4-686-pae, archname=i686-linux
uname='linux debian-testing 3.2.0-4-686-pae #1 smp debian 3.2.54-2 i686 gnulinux '
config_args='-Dprefix=/home/michiel/.plenv/versions/5.18.2 -de -Dusedevel -A'eval:scriptdir=/home/michiel/.plenv/versions/5.18.2/bin''
hint=recommended, useposix=true, d_sigaction=define
useithreads=undef, usemultiplicity=undef
useperlio=define, d_sfio=undef, uselargefiles=define, usesocks=undef
use64bitint=undef, use64bitall=undef, uselongdouble=undef
usemymalloc=n, bincompat5005=undef
Compiler:
cc='cc', ccflags ='-fno-strict-aliasing -pipe -fstack-protector -I/usr/local/include -D_LARGEFILE_SOURCE -D_FILE_OFFSET_BITS=64',
optimize='-O2',
cppflags='-fno-strict-aliasing -pipe -fstack-protector -I/usr/local/include'
ccversion='', gccversion='4.7.2', gccosandvers=''
intsize=4, longsize=4, ptrsize=4, doublesize=8, byteorder=1234
d_longlong=define, longlongsize=8, d_longdbl=define, longdblsize=12
ivtype='long', ivsize=4, nvtype='double', nvsize=8, Off_t='off_t', lseeksize=8
alignbytes=4, prototype=define
Linker and Libraries:
ld='cc', ldflags =' -fstack-protector -L/usr/local/lib'
libpth=/usr/local/lib /lib/i386-linux-gnu /lib/../lib /usr/lib/i386-linux-gnu /usr/lib/../lib /lib /usr/lib
libs=-lnsl -ldb -ldl -lm -lcrypt -lutil -lc
perllibs=-lnsl -ldl -lm -lcrypt -lutil -lc
libc=, so=so, useshrplib=false, libperl=libperl.a
gnulibc_version='2.13'
Dynamic Linking:
dlsrc=dl_dlopen.xs, dlext=so, d_dlsymun=undef, ccdlflags='-Wl,-E'
cccdlflags='-fPIC', lddlflags='-shared -O2 -L/usr/local/lib -fstack-protector'
Characteristics of this binary (from libperl):
Compile-time options: HAS_TIMES PERLIO_LAYERS PERL_DONT_CREATE_GVSV
PERL_HASH_FUNC_ONE_AT_A_TIME_HARD PERL_MALLOC_WRAP
PERL_PRESERVE_IVUV PERL_SAWAMPERSAND PERL_USE_DEVEL
USE_LARGE_FILES USE_LOCALE USE_LOCALE_COLLATE
USE_LOCALE_CTYPE USE_LOCALE_NUMERIC USE_PERLIO
USE_PERL_ATOF
Built under linux
Compiled at Feb 27 2014 22:07:29
%ENV:
PERL5LIB=""
PERL5OPT=""
PERL5_CPANPLUS_IS_RUNNING="4912"
PERL5_CPAN_IS_RUNNING="4912"
@INC:
/home/michiel/.plenv/versions/5.18.2/lib/perl5/site_perl/5.18.2/i686-linux
/home/michiel/.plenv/versions/5.18.2/lib/perl5/site_perl/5.18.2
/home/michiel/.plenv/versions/5.18.2/lib/perl5/5.18.2/i686-linux
/home/michiel/.plenv/versions/5.18.2/lib/perl5/5.18.2
.